BEGIN:VCALENDAR
VERSION:2.0
PRODID:-//Wandelstadt Esslingen - ECPv6.15.20//NONSGML v1.0//EN
CALSCALE:GREGORIAN
METHOD:PUBLISH
X-ORIGINAL-URL:https://wandelstadt-esslingen.de
X-WR-CALDESC:Veranstaltungen für Wandelstadt Esslingen
REFRESH-INTERVAL;VALUE=DURATION:PT1H
X-Robots-Tag:noindex
X-PUBLISHED-TTL:PT1H
BEGIN:VTIMEZONE
TZID:Europe/Berlin
BEGIN:DAYLIGHT
TZOFFSETFROM:+0100
TZOFFSETTO:+0200
TZNAME:CEST
DTSTART:20230326T010000
END:DAYLIGHT
BEGIN:STANDARD
TZOFFSETFROM:+0200
TZOFFSETTO:+0100
TZNAME:CET
DTSTART:20231029T010000
END:STANDARD
BEGIN:DAYLIGHT
TZOFFSETFROM:+0100
TZOFFSETTO:+0200
TZNAME:CEST
DTSTART:20240331T010000
END:DAYLIGHT
BEGIN:STANDARD
TZOFFSETFROM:+0200
TZOFFSETTO:+0100
TZNAME:CET
DTSTART:20241027T010000
END:STANDARD
BEGIN:DAYLIGHT
TZOFFSETFROM:+0100
TZOFFSETTO:+0200
TZNAME:CEST
DTSTART:20250330T010000
END:DAYLIGHT
BEGIN:STANDARD
TZOFFSETFROM:+0200
TZOFFSETTO:+0100
TZNAME:CET
DTSTART:20251026T010000
END:STANDARD
BEGIN:DAYLIGHT
TZOFFSETFROM:+0100
TZOFFSETTO:+0200
TZNAME:CEST
DTSTART:20260329T010000
END:DAYLIGHT
BEGIN:STANDARD
TZOFFSETFROM:+0200
TZOFFSETTO:+0100
TZNAME:CET
DTSTART:20261025T010000
END:STANDARD
END:VTIMEZONE
BEGIN:VEVENT
DTSTART;TZID=Europe/Berlin:20250618T160000
DTEND;TZID=Europe/Berlin:20250618T180000
DTSTAMP:20260421T230948
CREATED:20250519T175828Z
LAST-MODIFIED:20250519T175828Z
UID:10005406-1750262400-1750269600@wandelstadt-esslingen.de
SUMMARY:Workshop – Kleider machen Gender
DESCRIPTION:Drag Workshop Rahmenprogramm CSD Esslingen\nThementag zu trans* und nicht-binären Lebensrealitäten \nWorkshop – Kleider machen Gender (im Kooperation mit Die Roten Zora) \nIn diesem Workshop wollen wir uns mit den ungeschriebenen Gesetzen zu geschlechtsspezifischen „Kleiderordnungen“ befassen. Mit dem Blick auf die Geschichte und andere Kulturen wird aufgezeigt\, wie willkürlich unsere aktuelle\, westliche Einteilung ist und welche Kriterien tatsächlich Sinn ergeben (können). Außerdem wollen wir interessierten Menschen die Möglichkeit geben\, sich in einem geschützten Rahmen „auszuprobieren“ und sich einmal bewusst über diese Grenzen hinwegzusetzen. \n 
URL:https://wandelstadt-esslingen.de/event/workshop-kleider-machen-gender/
LOCATION:Die rote Zora\, Küferstraße 5\, Esslingen am Neckar\, 70728
CATEGORIES:Workshop
END:VEVENT
BEGIN:VEVENT
DTSTART;TZID=Europe/Berlin:20250617T183000
DTEND;TZID=Europe/Berlin:20250617T183000
DTSTAMP:20260421T230948
CREATED:20250526T161924Z
LAST-MODIFIED:20250526T161924Z
UID:10005548-1750185000-1750185000@wandelstadt-esslingen.de
SUMMARY:Creative Space
DESCRIPTION:Du suchst noch das perfekte Accessoire für dein CSD-Pride-Outfit? Dann komm gern zu unserem Creative Space im Poppinski. Das Material stellen wir und basteln zusammen Ketten\, Ringe\, Armbänder\, Buttons und mehr. In einer lockeren\, offenen Atmosphäre wollen wir kreativ sein\, uns gemeinsam auf dem CSD einstimmen und Kontakte knüpfen. \nOhne Anmeldung
URL:https://wandelstadt-esslingen.de/event/creative-space/
LOCATION:Poppinski\, Küferstraße 40\, Esslingen\, 73728\, Deutschland
CATEGORIES:Gemütliches Treffen
ORGANIZER;CN="Poppinski":MAILTO:hello@poppinski.de
END:VEVENT
BEGIN:VEVENT
DTSTART;TZID=Europe/Berlin:20250615T180000
DTEND;TZID=Europe/Berlin:20250615T180000
DTSTAMP:20260421T230948
CREATED:20250526T155716Z
LAST-MODIFIED:20250526T155716Z
UID:10005541-1750010400-1750010400@wandelstadt-esslingen.de
SUMMARY:Queerbeet-Lesung: Queergestreift. Alles über LGBTIQA+
DESCRIPTION:Kathrin Köller und Irmela Schautz reisen am Sonntagabend von Berlin nach Esslingen und stellen ihr Buch „Queergestreift. Alles über LGBTIQA+“ vor. Im schönen Poppinski in der Küferstraße 40 klären sie für Menschen ab 12 Jahren auf\, was es mit den verschiedenen Buchstaben aus dem Begriff „LGBTIQA+“ auf sich hat und erzählen von den Menschen und ihren Geschichten dahinter. Das Buch richtet sich vor allem an Jugendliche\, ist aber auch für Erwachsene empfohlen. Köller und Schautz haben für „Queergestreift“ den Deutschen Jugendliteraturpreis 2023 in der Kategorie Sachbuch gewonnen. \nIm Juni startet die neue Literaturreihe QUEERBEET in der Esslinger Innenstadt: Vom 13. bis 15. Juni finden an drei Tagen drei Veranstaltungen zu queerer Literatur für verschiedene Altersgruppen statt. Die Veranstalter:innen QueerES e. V.\, Poppinski und Stadtbücherei Esslingen möchten mit diesen kostenfreien Lesungen die diverse Stadtgesellschaft sichtbar machen und den Stimmen marginalisierter Gruppen eine Bühne bieten.
URL:https://wandelstadt-esslingen.de/event/queerbeet-lesung-queergestreift/
LOCATION:Poppinski\, Küferstraße 40\, Esslingen\, 73728\, Deutschland
END:VEVENT
BEGIN:VEVENT
DTSTART;TZID=Europe/Berlin:20250614T140000
DTEND;TZID=Europe/Berlin:20250614T150000
DTSTAMP:20260421T230948
CREATED:20250526T154114Z
LAST-MODIFIED:20250526T154114Z
UID:10005540-1749909600-1749913200@wandelstadt-esslingen.de
SUMMARY:Queerbeet-Lesung: Zwei Papas für Tango
DESCRIPTION:Die Königin höchstpersönlich\, Queen Henni\, gewährt Audienz im ehemaligen Modehaus Kögel in der Zehentgasse 1/ Rathausplatz 14. Die Drag Queen liest aus dem Kinderbuch „Zwei Papas für Tango“ von Edith Schreiber-Wicke für Kinder zwischen 4 bis 12 Jahren. In dieser Geschichte\, die sich so im Zoo von New York wirklich zugetragen hat\, bauen die beiden Pinguin-Jungs Roy und Silo gemeinsam ein Nest\, ganz ohne Weibchen. „Das wird nie was“\, denken sich ihre Tierpfleger … bis ihnen eines Tages ein kleines Wunder namens Tango entgegen tschilpt. \nQUEERBEET ist die neue Literaturreihe in der Esslinger Innenstadt: Vom 13. bis 15. Juni finden an drei Tagen drei Veranstaltungen zu queerer Literatur für verschiedene Altersgruppen statt. Die Veranstalter:innen QueerES e. V.\, Poppinski und Stadtbücherei Esslingen möchten mit diesen kostenfreien Lesungen die diverse Stadtgesellschaft sichtbar machen und den Stimmen marginalisierter Gruppen eine Bühne bieten. \n\n\n\nPreis:\nkostenfrei\n\n\nDauer:\n1h\n\n\nHinweis:\nkeine Anmeldung nötig\, empfohlen ab 4 Jahren
URL:https://wandelstadt-esslingen.de/event/queerbeet-lesung-zwei-papas-fuer-tango/
LOCATION:Modehaus Kögel
END:VEVENT
BEGIN:VEVENT
DTSTART;TZID=Europe/Berlin:20250613T193000
DTEND;TZID=Europe/Berlin:20250613T193000
DTSTAMP:20260421T230948
CREATED:20250526T153711Z
LAST-MODIFIED:20250526T153711Z
UID:10005539-1749843000-1749843000@wandelstadt-esslingen.de
SUMMARY:Queerbeet-Lesung: Alles dazwischen/darüber hinaus
DESCRIPTION:Mae Schwinghammer aus Österreich liest aus dem Debüt „Alles dazwischen\, darüber hinaus“. Darin geht es um das Aufwachsen als nicht-binäre Person – also darum\, sich nicht eindeutig als männlich oder weiblich zu identifizieren – und um die Probleme\, die damit einhergehen\, gesellschaftlich\, psychologisch\, aber auch sprachlich: Was bedeutet es\, keine Sprache für das eigene Ich zu finden? \nMaë liest in der Stadtbücherei Esslingen. Wegen der Bauarbeiten im Gebäude muss die Veranstaltung in das Zeitschriften-Café verlegt werden. \nVom 13. bis 15. Juni finden an drei Tagen drei Veranstaltungen zu queerer Literatur für verschiedene Altersgruppen statt. Die Veranstalter:innen QueerES e. V.\, Poppinski und Stadtbücherei Esslingen möchten mit diesen kostenfreien Lesungen die diverse Stadtgesellschaft sichtbar machen und den Stimmen marginalisierter Gruppen eine Bühne bieten.
URL:https://wandelstadt-esslingen.de/event/queerbeet-lesung-alles-dazwischen-darueber-hinaus/
LOCATION:Stadtbibliothek\, Heugasse 9\, Esslingen\, Deutschland
END:VEVENT
BEGIN:VEVENT
DTSTART;TZID=Europe/Berlin:20250525T140000
DTEND;TZID=Europe/Berlin:20250525T140000
DTSTAMP:20260421T230948
CREATED:20240505T114927Z
LAST-MODIFIED:20240505T114927Z
UID:10002868-1748181600-1748181600@wandelstadt-esslingen.de
SUMMARY:Queeres Treffen im Park
DESCRIPTION:Willkommen beim Queeren Treff im Maille Park! ☀️ \nJeden 4. Sonntag im Monat ab 14 Uhr kommen wir zusammen\, um in entspannter Atmosphäre zu plaudern\, Spiele zu spielen und vieles mehr zu erleben. \nAlle sind herzlich willkommen! 🫶 \nBitte beachtet\, dass bei regnerischem Wetter 🌧 der Treff wahrscheinlich abgesagt wird. Aktuelle Informationen dazu findet ihr auf unserem Instagram-Account QueerES e.V. \nFalls du Fragen hast oder dich nicht alleine hintraust\, kannst du dich gerne im Voraus melden. Wir freuen uns darauf\, gemeinsam Zeit zu verbringen und uns auszutauschen! 😊
URL:https://wandelstadt-esslingen.de/event/queeres-treffen-im-park/2025-05-25/
LOCATION:Maillepark\, Wehrneckarstraße\, Esslingen\, 73728
CATEGORIES:Gemütliches Treffen,Vernetzungsveranstaltung
ATTACH;FMTTYPE=image/jpeg:https://wandelstadt-esslingen.de/wp-content/uploads/2024/05/IMG-20240505-WA0001-scaled.jpg
END:VEVENT
BEGIN:VEVENT
DTSTART;TZID=Europe/Berlin:20250427T140000
DTEND;TZID=Europe/Berlin:20250427T140000
DTSTAMP:20260421T230948
CREATED:20240505T114927Z
LAST-MODIFIED:20240505T114927Z
UID:10002867-1745762400-1745762400@wandelstadt-esslingen.de
SUMMARY:Queeres Treffen im Park
DESCRIPTION:Willkommen beim Queeren Treff im Maille Park! ☀️ \nJeden 4. Sonntag im Monat ab 14 Uhr kommen wir zusammen\, um in entspannter Atmosphäre zu plaudern\, Spiele zu spielen und vieles mehr zu erleben. \nAlle sind herzlich willkommen! 🫶 \nBitte beachtet\, dass bei regnerischem Wetter 🌧 der Treff wahrscheinlich abgesagt wird. Aktuelle Informationen dazu findet ihr auf unserem Instagram-Account QueerES e.V. \nFalls du Fragen hast oder dich nicht alleine hintraust\, kannst du dich gerne im Voraus melden. Wir freuen uns darauf\, gemeinsam Zeit zu verbringen und uns auszutauschen! 😊
URL:https://wandelstadt-esslingen.de/event/queeres-treffen-im-park/2025-04-27/
LOCATION:Maillepark\, Wehrneckarstraße\, Esslingen\, 73728
CATEGORIES:Gemütliches Treffen,Vernetzungsveranstaltung
ATTACH;FMTTYPE=image/jpeg:https://wandelstadt-esslingen.de/wp-content/uploads/2024/05/IMG-20240505-WA0001-scaled.jpg
END:VEVENT
BEGIN:VEVENT
DTSTART;TZID=Europe/Berlin:20250323T140000
DTEND;TZID=Europe/Berlin:20250323T140000
DTSTAMP:20260421T230948
CREATED:20240505T114927Z
LAST-MODIFIED:20240505T114927Z
UID:10002866-1742738400-1742738400@wandelstadt-esslingen.de
SUMMARY:Queeres Treffen im Park
DESCRIPTION:Willkommen beim Queeren Treff im Maille Park! ☀️ \nJeden 4. Sonntag im Monat ab 14 Uhr kommen wir zusammen\, um in entspannter Atmosphäre zu plaudern\, Spiele zu spielen und vieles mehr zu erleben. \nAlle sind herzlich willkommen! 🫶 \nBitte beachtet\, dass bei regnerischem Wetter 🌧 der Treff wahrscheinlich abgesagt wird. Aktuelle Informationen dazu findet ihr auf unserem Instagram-Account QueerES e.V. \nFalls du Fragen hast oder dich nicht alleine hintraust\, kannst du dich gerne im Voraus melden. Wir freuen uns darauf\, gemeinsam Zeit zu verbringen und uns auszutauschen! 😊
URL:https://wandelstadt-esslingen.de/event/queeres-treffen-im-park/2025-03-23/
LOCATION:Maillepark\, Wehrneckarstraße\, Esslingen\, 73728
CATEGORIES:Gemütliches Treffen,Vernetzungsveranstaltung
ATTACH;FMTTYPE=image/jpeg:https://wandelstadt-esslingen.de/wp-content/uploads/2024/05/IMG-20240505-WA0001-scaled.jpg
END:VEVENT
BEGIN:VEVENT
DTSTART;TZID=Europe/Berlin:20250223T140000
DTEND;TZID=Europe/Berlin:20250223T140000
DTSTAMP:20260421T230948
CREATED:20240505T114927Z
LAST-MODIFIED:20240505T114927Z
UID:10002865-1740319200-1740319200@wandelstadt-esslingen.de
SUMMARY:Queeres Treffen im Park
DESCRIPTION:Willkommen beim Queeren Treff im Maille Park! ☀️ \nJeden 4. Sonntag im Monat ab 14 Uhr kommen wir zusammen\, um in entspannter Atmosphäre zu plaudern\, Spiele zu spielen und vieles mehr zu erleben. \nAlle sind herzlich willkommen! 🫶 \nBitte beachtet\, dass bei regnerischem Wetter 🌧 der Treff wahrscheinlich abgesagt wird. Aktuelle Informationen dazu findet ihr auf unserem Instagram-Account QueerES e.V. \nFalls du Fragen hast oder dich nicht alleine hintraust\, kannst du dich gerne im Voraus melden. Wir freuen uns darauf\, gemeinsam Zeit zu verbringen und uns auszutauschen! 😊
URL:https://wandelstadt-esslingen.de/event/queeres-treffen-im-park/2025-02-23/
LOCATION:Maillepark\, Wehrneckarstraße\, Esslingen\, 73728
CATEGORIES:Gemütliches Treffen,Vernetzungsveranstaltung
ATTACH;FMTTYPE=image/jpeg:https://wandelstadt-esslingen.de/wp-content/uploads/2024/05/IMG-20240505-WA0001-scaled.jpg
END:VEVENT
BEGIN:VEVENT
DTSTART;TZID=Europe/Berlin:20250126T140000
DTEND;TZID=Europe/Berlin:20250126T140000
DTSTAMP:20260421T230948
CREATED:20240505T114927Z
LAST-MODIFIED:20240505T114927Z
UID:10002864-1737900000-1737900000@wandelstadt-esslingen.de
SUMMARY:Queeres Treffen im Park
DESCRIPTION:Willkommen beim Queeren Treff im Maille Park! ☀️ \nJeden 4. Sonntag im Monat ab 14 Uhr kommen wir zusammen\, um in entspannter Atmosphäre zu plaudern\, Spiele zu spielen und vieles mehr zu erleben. \nAlle sind herzlich willkommen! 🫶 \nBitte beachtet\, dass bei regnerischem Wetter 🌧 der Treff wahrscheinlich abgesagt wird. Aktuelle Informationen dazu findet ihr auf unserem Instagram-Account QueerES e.V. \nFalls du Fragen hast oder dich nicht alleine hintraust\, kannst du dich gerne im Voraus melden. Wir freuen uns darauf\, gemeinsam Zeit zu verbringen und uns auszutauschen! 😊
URL:https://wandelstadt-esslingen.de/event/queeres-treffen-im-park/2025-01-26/
LOCATION:Maillepark\, Wehrneckarstraße\, Esslingen\, 73728
CATEGORIES:Gemütliches Treffen,Vernetzungsveranstaltung
ATTACH;FMTTYPE=image/jpeg:https://wandelstadt-esslingen.de/wp-content/uploads/2024/05/IMG-20240505-WA0001-scaled.jpg
END:VEVENT
BEGIN:VEVENT
DTSTART;TZID=Europe/Berlin:20241222T140000
DTEND;TZID=Europe/Berlin:20241222T140000
DTSTAMP:20260421T230948
CREATED:20240505T114927Z
LAST-MODIFIED:20240505T114927Z
UID:10002863-1734876000-1734876000@wandelstadt-esslingen.de
SUMMARY:Queeres Treffen im Park
DESCRIPTION:Willkommen beim Queeren Treff im Maille Park! ☀️ \nJeden 4. Sonntag im Monat ab 14 Uhr kommen wir zusammen\, um in entspannter Atmosphäre zu plaudern\, Spiele zu spielen und vieles mehr zu erleben. \nAlle sind herzlich willkommen! 🫶 \nBitte beachtet\, dass bei regnerischem Wetter 🌧 der Treff wahrscheinlich abgesagt wird. Aktuelle Informationen dazu findet ihr auf unserem Instagram-Account QueerES e.V. \nFalls du Fragen hast oder dich nicht alleine hintraust\, kannst du dich gerne im Voraus melden. Wir freuen uns darauf\, gemeinsam Zeit zu verbringen und uns auszutauschen! 😊
URL:https://wandelstadt-esslingen.de/event/queeres-treffen-im-park/2024-12-22/
LOCATION:Maillepark\, Wehrneckarstraße\, Esslingen\, 73728
CATEGORIES:Gemütliches Treffen,Vernetzungsveranstaltung
ATTACH;FMTTYPE=image/jpeg:https://wandelstadt-esslingen.de/wp-content/uploads/2024/05/IMG-20240505-WA0001-scaled.jpg
END:VEVENT
BEGIN:VEVENT
DTSTART;TZID=Europe/Berlin:20241207T120000
DTEND;TZID=Europe/Berlin:20241207T200000
DTSTAMP:20260421T230948
CREATED:20241130T121715Z
LAST-MODIFIED:20241130T121715Z
UID:10004461-1733572800-1733601600@wandelstadt-esslingen.de
SUMMARY:queer winter wonderland
DESCRIPTION:Queer Winter Wonderland\nAm 7.12.2024 im Poppinski | 12 – 20 Uhr\n✨❄️✨Komm‘ mit in unser QUEER WINTER WONDERLAND✨❄️✨ \nTauche mit anderen Queers und Allies für einen Tag ein in ein winterliches Wunderland voller Leckereien\, bunter Kunst und queer joy! \nVon 12 bis 20 Uhr gibt’s vegane Waffeln\, Punsch und Glühwein im verzauberten Hinterhof des POPPINSKI. Auf unserem kleinen Kunstmarkt findest Du handgemachten Schmuck\, kunstvolle Prints\, Makramee und allerlei Schönes von lokalen Künstler:innen. Am queeren Büchertisch kannst Du in queerfeministischer Literatur blättern und Dich inspirieren lassen. Um 16 Uhr startet dann unser Drag Bingo Veronica Montroyal\, Bently Bentaega und Alpine is Skiing – viel Spaß und tolle Preise warten dabei auf Dich! \nLerne unseren Verein QueerES e.V. und den Concept Store Poppinski besser kennen. Hier hast Du die Möglichkeit in einem saf(er) space mit Menschen in Kontakt zu kommen. \nWir freuen uns sehr darauf\, den Tag mit Euch zu verbringen! Sag’s weiter und bring all Deine friends! 🌈✨❄️.
URL:https://wandelstadt-esslingen.de/event/queer-winter-wonderland/
LOCATION:Poppinski\, Küferstraße 40\, Esslingen\, 73728\, Deutschland
CATEGORIES:Gemütliches Treffen
END:VEVENT
BEGIN:VEVENT
DTSTART;TZID=Europe/Berlin:20241124T140000
DTEND;TZID=Europe/Berlin:20241124T140000
DTSTAMP:20260421T230948
CREATED:20240505T114927Z
LAST-MODIFIED:20240505T114927Z
UID:10002862-1732456800-1732456800@wandelstadt-esslingen.de
SUMMARY:Queeres Treffen im Park
DESCRIPTION:Willkommen beim Queeren Treff im Maille Park! ☀️ \nJeden 4. Sonntag im Monat ab 14 Uhr kommen wir zusammen\, um in entspannter Atmosphäre zu plaudern\, Spiele zu spielen und vieles mehr zu erleben. \nAlle sind herzlich willkommen! 🫶 \nBitte beachtet\, dass bei regnerischem Wetter 🌧 der Treff wahrscheinlich abgesagt wird. Aktuelle Informationen dazu findet ihr auf unserem Instagram-Account QueerES e.V. \nFalls du Fragen hast oder dich nicht alleine hintraust\, kannst du dich gerne im Voraus melden. Wir freuen uns darauf\, gemeinsam Zeit zu verbringen und uns auszutauschen! 😊
URL:https://wandelstadt-esslingen.de/event/queeres-treffen-im-park/2024-11-24/
LOCATION:Maillepark\, Wehrneckarstraße\, Esslingen\, 73728
CATEGORIES:Gemütliches Treffen,Vernetzungsveranstaltung
ATTACH;FMTTYPE=image/jpeg:https://wandelstadt-esslingen.de/wp-content/uploads/2024/05/IMG-20240505-WA0001-scaled.jpg
END:VEVENT
BEGIN:VEVENT
DTSTART;TZID=Europe/Berlin:20241027T140000
DTEND;TZID=Europe/Berlin:20241027T140000
DTSTAMP:20260421T230948
CREATED:20240505T114927Z
LAST-MODIFIED:20240505T114927Z
UID:10002861-1730037600-1730037600@wandelstadt-esslingen.de
SUMMARY:Queeres Treffen im Park
DESCRIPTION:Willkommen beim Queeren Treff im Maille Park! ☀️ \nJeden 4. Sonntag im Monat ab 14 Uhr kommen wir zusammen\, um in entspannter Atmosphäre zu plaudern\, Spiele zu spielen und vieles mehr zu erleben. \nAlle sind herzlich willkommen! 🫶 \nBitte beachtet\, dass bei regnerischem Wetter 🌧 der Treff wahrscheinlich abgesagt wird. Aktuelle Informationen dazu findet ihr auf unserem Instagram-Account QueerES e.V. \nFalls du Fragen hast oder dich nicht alleine hintraust\, kannst du dich gerne im Voraus melden. Wir freuen uns darauf\, gemeinsam Zeit zu verbringen und uns auszutauschen! 😊
URL:https://wandelstadt-esslingen.de/event/queeres-treffen-im-park/2024-10-27/
LOCATION:Maillepark\, Wehrneckarstraße\, Esslingen\, 73728
CATEGORIES:Gemütliches Treffen,Vernetzungsveranstaltung
ATTACH;FMTTYPE=image/jpeg:https://wandelstadt-esslingen.de/wp-content/uploads/2024/05/IMG-20240505-WA0001-scaled.jpg
END:VEVENT
BEGIN:VEVENT
DTSTART;TZID=Europe/Berlin:20240922T140000
DTEND;TZID=Europe/Berlin:20240922T140000
DTSTAMP:20260421T230948
CREATED:20240505T114927Z
LAST-MODIFIED:20240505T114927Z
UID:10002860-1727013600-1727013600@wandelstadt-esslingen.de
SUMMARY:Queeres Treffen im Park
DESCRIPTION:Willkommen beim Queeren Treff im Maille Park! ☀️ \nJeden 4. Sonntag im Monat ab 14 Uhr kommen wir zusammen\, um in entspannter Atmosphäre zu plaudern\, Spiele zu spielen und vieles mehr zu erleben. \nAlle sind herzlich willkommen! 🫶 \nBitte beachtet\, dass bei regnerischem Wetter 🌧 der Treff wahrscheinlich abgesagt wird. Aktuelle Informationen dazu findet ihr auf unserem Instagram-Account QueerES e.V. \nFalls du Fragen hast oder dich nicht alleine hintraust\, kannst du dich gerne im Voraus melden. Wir freuen uns darauf\, gemeinsam Zeit zu verbringen und uns auszutauschen! 😊
URL:https://wandelstadt-esslingen.de/event/queeres-treffen-im-park/2024-09-22/
LOCATION:Maillepark\, Wehrneckarstraße\, Esslingen\, 73728
CATEGORIES:Gemütliches Treffen,Vernetzungsveranstaltung
ATTACH;FMTTYPE=image/jpeg:https://wandelstadt-esslingen.de/wp-content/uploads/2024/05/IMG-20240505-WA0001-scaled.jpg
END:VEVENT
BEGIN:VEVENT
DTSTART;TZID=Europe/Berlin:20240825T140000
DTEND;TZID=Europe/Berlin:20240825T140000
DTSTAMP:20260421T230948
CREATED:20240505T114927Z
LAST-MODIFIED:20240505T114927Z
UID:10002859-1724594400-1724594400@wandelstadt-esslingen.de
SUMMARY:Queeres Treffen im Park
DESCRIPTION:Willkommen beim Queeren Treff im Maille Park! ☀️ \nJeden 4. Sonntag im Monat ab 14 Uhr kommen wir zusammen\, um in entspannter Atmosphäre zu plaudern\, Spiele zu spielen und vieles mehr zu erleben. \nAlle sind herzlich willkommen! 🫶 \nBitte beachtet\, dass bei regnerischem Wetter 🌧 der Treff wahrscheinlich abgesagt wird. Aktuelle Informationen dazu findet ihr auf unserem Instagram-Account QueerES e.V. \nFalls du Fragen hast oder dich nicht alleine hintraust\, kannst du dich gerne im Voraus melden. Wir freuen uns darauf\, gemeinsam Zeit zu verbringen und uns auszutauschen! 😊
URL:https://wandelstadt-esslingen.de/event/queeres-treffen-im-park/2024-08-25/
LOCATION:Maillepark\, Wehrneckarstraße\, Esslingen\, 73728
CATEGORIES:Gemütliches Treffen,Vernetzungsveranstaltung
ATTACH;FMTTYPE=image/jpeg:https://wandelstadt-esslingen.de/wp-content/uploads/2024/05/IMG-20240505-WA0001-scaled.jpg
END:VEVENT
BEGIN:VEVENT
DTSTART;TZID=Europe/Berlin:20240728T140000
DTEND;TZID=Europe/Berlin:20240728T140000
DTSTAMP:20260421T230948
CREATED:20240505T114927Z
LAST-MODIFIED:20240505T114927Z
UID:10002858-1722175200-1722175200@wandelstadt-esslingen.de
SUMMARY:Queeres Treffen im Park
DESCRIPTION:Willkommen beim Queeren Treff im Maille Park! ☀️ \nJeden 4. Sonntag im Monat ab 14 Uhr kommen wir zusammen\, um in entspannter Atmosphäre zu plaudern\, Spiele zu spielen und vieles mehr zu erleben. \nAlle sind herzlich willkommen! 🫶 \nBitte beachtet\, dass bei regnerischem Wetter 🌧 der Treff wahrscheinlich abgesagt wird. Aktuelle Informationen dazu findet ihr auf unserem Instagram-Account QueerES e.V. \nFalls du Fragen hast oder dich nicht alleine hintraust\, kannst du dich gerne im Voraus melden. Wir freuen uns darauf\, gemeinsam Zeit zu verbringen und uns auszutauschen! 😊
URL:https://wandelstadt-esslingen.de/event/queeres-treffen-im-park/2024-07-28/
LOCATION:Maillepark\, Wehrneckarstraße\, Esslingen\, 73728
CATEGORIES:Gemütliches Treffen,Vernetzungsveranstaltung
ATTACH;FMTTYPE=image/jpeg:https://wandelstadt-esslingen.de/wp-content/uploads/2024/05/IMG-20240505-WA0001-scaled.jpg
END:VEVENT
BEGIN:VEVENT
DTSTART;TZID=Europe/Berlin:20240713T143000
DTEND;TZID=Europe/Berlin:20240713T155000
DTSTAMP:20260421T230948
CREATED:20240526T164357Z
LAST-MODIFIED:20240526T164357Z
UID:10003016-1720881000-1720885800@wandelstadt-esslingen.de
SUMMARY:CSD-Esslingen: out\, and proud
DESCRIPTION:Der CSD Esslingen geht in die zweite Runde! Am 13.07.2024 demonstrieren wir wieder für queere Rechte.
URL:https://wandelstadt-esslingen.de/event/csd-esslingen-out-and-proud/
LOCATION:Bahnhofsvorplatz\, Esslingen
END:VEVENT
BEGIN:VEVENT
DTSTART;TZID=Europe/Berlin:20240623T140000
DTEND;TZID=Europe/Berlin:20240623T140000
DTSTAMP:20260421T230948
CREATED:20240505T114927Z
LAST-MODIFIED:20240505T114927Z
UID:10002857-1719151200-1719151200@wandelstadt-esslingen.de
SUMMARY:Queeres Treffen im Park
DESCRIPTION:Willkommen beim Queeren Treff im Maille Park! ☀️ \nJeden 4. Sonntag im Monat ab 14 Uhr kommen wir zusammen\, um in entspannter Atmosphäre zu plaudern\, Spiele zu spielen und vieles mehr zu erleben. \nAlle sind herzlich willkommen! 🫶 \nBitte beachtet\, dass bei regnerischem Wetter 🌧 der Treff wahrscheinlich abgesagt wird. Aktuelle Informationen dazu findet ihr auf unserem Instagram-Account QueerES e.V. \nFalls du Fragen hast oder dich nicht alleine hintraust\, kannst du dich gerne im Voraus melden. Wir freuen uns darauf\, gemeinsam Zeit zu verbringen und uns auszutauschen! 😊
URL:https://wandelstadt-esslingen.de/event/queeres-treffen-im-park/2024-06-23/
LOCATION:Maillepark\, Wehrneckarstraße\, Esslingen\, 73728
CATEGORIES:Gemütliches Treffen,Vernetzungsveranstaltung
ATTACH;FMTTYPE=image/jpeg:https://wandelstadt-esslingen.de/wp-content/uploads/2024/05/IMG-20240505-WA0001-scaled.jpg
END:VEVENT
BEGIN:VEVENT
DTSTART;TZID=Europe/Berlin:20240526T140000
DTEND;TZID=Europe/Berlin:20240526T140000
DTSTAMP:20260421T230948
CREATED:20240505T114927Z
LAST-MODIFIED:20240505T114927Z
UID:10002856-1716732000-1716732000@wandelstadt-esslingen.de
SUMMARY:Queeres Treffen im Park
DESCRIPTION:Willkommen beim Queeren Treff im Maille Park! ☀️ \nJeden 4. Sonntag im Monat ab 14 Uhr kommen wir zusammen\, um in entspannter Atmosphäre zu plaudern\, Spiele zu spielen und vieles mehr zu erleben. \nAlle sind herzlich willkommen! 🫶 \nBitte beachtet\, dass bei regnerischem Wetter 🌧 der Treff wahrscheinlich abgesagt wird. Aktuelle Informationen dazu findet ihr auf unserem Instagram-Account QueerES e.V. \nFalls du Fragen hast oder dich nicht alleine hintraust\, kannst du dich gerne im Voraus melden. Wir freuen uns darauf\, gemeinsam Zeit zu verbringen und uns auszutauschen! 😊
URL:https://wandelstadt-esslingen.de/event/queeres-treffen-im-park/2024-05-26/
LOCATION:Maillepark\, Wehrneckarstraße\, Esslingen\, 73728
CATEGORIES:Gemütliches Treffen,Vernetzungsveranstaltung
ATTACH;FMTTYPE=image/jpeg:https://wandelstadt-esslingen.de/wp-content/uploads/2024/05/IMG-20240505-WA0001-scaled.jpg
END:VEVENT
BEGIN:VEVENT
DTSTART;TZID=Europe/Berlin:20240413T080000
DTEND;TZID=Europe/Berlin:20240413T170000
DTSTAMP:20260421T230948
CREATED:20240413T124616Z
LAST-MODIFIED:20240413T124616Z
UID:10002841-1712995200-1713027600@wandelstadt-esslingen.de
SUMMARY:QueerES Großes Orga Treffen
DESCRIPTION:Bei unserem großen Organisations-Treffen diskutieren wir die Erfolge der Untergruppen\, potenzielle Verbesserungen und den aktuellen Stand verschiedener Aktionen\, wie etwa unserem CSD. \nDieses Mal findet das Treffen online statt. Den Link dazu erhaltet ihr auf Anfrage. \nWir freuen uns über neue Teilnehmer!
URL:https://wandelstadt-esslingen.de/event/queeres-grosses-orga-treffen/
LOCATION:online
CATEGORIES:Beteiligung,Vernetzungsveranstaltung
END:VEVENT
END:VCALENDAR