BEGIN:VCALENDAR
VERSION:2.0
PRODID:-//Wandelstadt Esslingen - ECPv6.15.20//NONSGML v1.0//EN
CALSCALE:GREGORIAN
METHOD:PUBLISH
X-ORIGINAL-URL:https://wandelstadt-esslingen.de
X-WR-CALDESC:Veranstaltungen für Wandelstadt Esslingen
REFRESH-INTERVAL;VALUE=DURATION:PT1H
X-Robots-Tag:noindex
X-PUBLISHED-TTL:PT1H
BEGIN:VTIMEZONE
TZID:Europe/Berlin
BEGIN:DAYLIGHT
TZOFFSETFROM:+0100
TZOFFSETTO:+0200
TZNAME:CEST
DTSTART:20230326T010000
END:DAYLIGHT
BEGIN:STANDARD
TZOFFSETFROM:+0200
TZOFFSETTO:+0100
TZNAME:CET
DTSTART:20231029T010000
END:STANDARD
BEGIN:DAYLIGHT
TZOFFSETFROM:+0100
TZOFFSETTO:+0200
TZNAME:CEST
DTSTART:20240331T010000
END:DAYLIGHT
BEGIN:STANDARD
TZOFFSETFROM:+0200
TZOFFSETTO:+0100
TZNAME:CET
DTSTART:20241027T010000
END:STANDARD
BEGIN:DAYLIGHT
TZOFFSETFROM:+0100
TZOFFSETTO:+0200
TZNAME:CEST
DTSTART:20250330T010000
END:DAYLIGHT
BEGIN:STANDARD
TZOFFSETFROM:+0200
TZOFFSETTO:+0100
TZNAME:CET
DTSTART:20251026T010000
END:STANDARD
BEGIN:DAYLIGHT
TZOFFSETFROM:+0100
TZOFFSETTO:+0200
TZNAME:CEST
DTSTART:20260329T010000
END:DAYLIGHT
BEGIN:STANDARD
TZOFFSETFROM:+0200
TZOFFSETTO:+0100
TZNAME:CET
DTSTART:20261025T010000
END:STANDARD
BEGIN:DAYLIGHT
TZOFFSETFROM:+0100
TZOFFSETTO:+0200
TZNAME:CEST
DTSTART:20270328T010000
END:DAYLIGHT
BEGIN:STANDARD
TZOFFSETFROM:+0200
TZOFFSETTO:+0100
TZNAME:CET
DTSTART:20271031T010000
END:STANDARD
END:VTIMEZONE
BEGIN:VEVENT
DTSTART;TZID=Europe/Berlin:20260415T180000
DTEND;TZID=Europe/Berlin:20260415T210000
DTSTAMP:20260421T195836
CREATED:20260218T104049Z
LAST-MODIFIED:20260218T104049Z
UID:10008904-1776276000-1776286800@wandelstadt-esslingen.de
SUMMARY:Gemeinschaftsabend im POPPINSKI
DESCRIPTION:Herzliche Einladung zum monatlichen POPPINSKI-Plausch! Wir treffen uns zum Austausch und gemütlichen Beisammensein bei leckeren Getränken und einem kleinen Snack-Buffet. Wer eine kleine vegane oder vegetarische Leckerei beisteuern möchte\, darf das gerne tun. Getränke gibt’s wie immer auf Spendenbasis an unserer Theke. (Für Nicht-Mitglieder: eine kurze Anmeldung per Mail an hello@poppinski.de ist erwünscht
URL:https://wandelstadt-esslingen.de/event/gemeinschaftsabend-im-poppinski/2026-04-15/
LOCATION:Poppinski\, Küferstraße 40\, Esslingen\, 73728\, Deutschland
CATEGORIES:Gemütliches Treffen,Live-Veranstaltung,Vernetzungsveranstaltung
ORGANIZER;CN="Poppinski":MAILTO:hello@poppinski.de
END:VEVENT
BEGIN:VEVENT
DTSTART;TZID=Europe/Berlin:20260317T180000
DTEND;TZID=Europe/Berlin:20260317T210000
DTSTAMP:20260421T195836
CREATED:20260218T104049Z
LAST-MODIFIED:20260218T104049Z
UID:10008903-1773770400-1773781200@wandelstadt-esslingen.de
SUMMARY:Gemeinschaftsabend im POPPINSKI
DESCRIPTION:Herzliche Einladung zum monatlichen POPPINSKI-Plausch! Wir treffen uns zum Austausch und gemütlichen Beisammensein bei leckeren Getränken und einem kleinen Snack-Buffet. Wer eine kleine vegane oder vegetarische Leckerei beisteuern möchte\, darf das gerne tun. Getränke gibt’s wie immer auf Spendenbasis an unserer Theke. (Für Nicht-Mitglieder: eine kurze Anmeldung per Mail an hello@poppinski.de ist erwünscht
URL:https://wandelstadt-esslingen.de/event/gemeinschaftsabend-im-poppinski/2026-03-17/
LOCATION:Poppinski\, Küferstraße 40\, Esslingen\, 73728\, Deutschland
CATEGORIES:Gemütliches Treffen,Live-Veranstaltung,Vernetzungsveranstaltung
ORGANIZER;CN="Poppinski":MAILTO:hello@poppinski.de
END:VEVENT
BEGIN:VEVENT
DTSTART;TZID=Europe/Berlin:20260220T180000
DTEND;TZID=Europe/Berlin:20260220T210000
DTSTAMP:20260421T195836
CREATED:20260218T104049Z
LAST-MODIFIED:20260218T104049Z
UID:10008902-1771610400-1771621200@wandelstadt-esslingen.de
SUMMARY:Gemeinschaftsabend im POPPINSKI
DESCRIPTION:Herzliche Einladung zum monatlichen POPPINSKI-Plausch! Wir treffen uns zum Austausch und gemütlichen Beisammensein bei leckeren Getränken und einem kleinen Snack-Buffet. Wer eine kleine vegane oder vegetarische Leckerei beisteuern möchte\, darf das gerne tun. Getränke gibt’s wie immer auf Spendenbasis an unserer Theke. (Für Nicht-Mitglieder: eine kurze Anmeldung per Mail an hello@poppinski.de ist erwünscht
URL:https://wandelstadt-esslingen.de/event/gemeinschaftsabend-im-poppinski/2026-02-20/
LOCATION:Poppinski\, Küferstraße 40\, Esslingen\, 73728\, Deutschland
CATEGORIES:Gemütliches Treffen,Live-Veranstaltung,Vernetzungsveranstaltung
ORGANIZER;CN="Poppinski":MAILTO:hello@poppinski.de
END:VEVENT
BEGIN:VEVENT
DTSTART;TZID=Europe/Berlin:20251219T180000
DTEND;TZID=Europe/Berlin:20251219T180000
DTSTAMP:20260421T195836
CREATED:20251125T194013Z
LAST-MODIFIED:20251125T194013Z
UID:10007310-1766167200-1766167200@wandelstadt-esslingen.de
SUMMARY:Poppinski Solidar Gemeinschaftsabend
DESCRIPTION:Herzliche Einladung zum monatlichen POPPINSKI-Plausch! Wir treffen uns zum Austausch und gemütlichen Beisammensein bei leckeren Getränken und einem kleinen Snack-Buffet. Wer eine kleine vegane oder vegetarische Leckerei beisteuern möchte\, darf das gerne tun. Getränke gibt’s wie immer auf Spendenbasis an unserer Theke. (Für Nicht-Mitglieder: eine kurze Anmeldung per Mail an hello@poppinski ist erwünscht
URL:https://wandelstadt-esslingen.de/event/poppinski-solidar-gemeinschaftsabend/
LOCATION:Poppinski\, Küferstraße 40\, Esslingen\, 73728\, Deutschland
ORGANIZER;CN="Poppinski":MAILTO:hello@poppinski.de
END:VEVENT
BEGIN:VEVENT
DTSTART;TZID=Europe/Berlin:20251213T120000
DTEND;TZID=Europe/Berlin:20251213T200000
DTSTAMP:20260421T195836
CREATED:20251125T193814Z
LAST-MODIFIED:20251125T193814Z
UID:10007309-1765627200-1765656000@wandelstadt-esslingen.de
SUMMARY:Queer Winter Wonderland
DESCRIPTION:Ein Wintermarkt für alle Queers und Allies mit leckeren Waffeln\, Glühwein und Punsch\, Kunstmarkt & Handgemachtes. Und natürlich Drag.\nGemeinsam mit dem Verein QueerES e.V.
URL:https://wandelstadt-esslingen.de/event/queer-winter-wonderland-2/
LOCATION:Poppinski\, Küferstraße 40\, Esslingen\, 73728\, Deutschland
ORGANIZER;CN="Poppinski":MAILTO:hello@poppinski.de
END:VEVENT
BEGIN:VEVENT
DTSTART;TZID=Europe/Berlin:20251211T190000
DTEND;TZID=Europe/Berlin:20251211T190000
DTSTAMP:20260421T195836
CREATED:20251125T193639Z
LAST-MODIFIED:20251125T193639Z
UID:10007308-1765479600-1765479600@wandelstadt-esslingen.de
SUMMARY:Poppinski goes politics mit Stephanie Biesolt
DESCRIPTION:Stephanie Biesolt\, Schauspielerin und Kabarettistin beschäftigt sich in ihren Solo- und Duo-Programmen mit politischen und emanzipatorischen Themen unserer Gesellschaft. Sie massiert die Lachmuskeln\, strapaziert die grauen Zellen und geht im Anschluss mit dem Publikum ins Gespräch. \nIn ihrem Kabarett-Soloprogramm „War was?!“ wirft sie einen Blick in die verschiedensten Ecke und Winkel der Politik. Das perfekte Programm um am Jahresende einen unterhaltsamen Blick zurück auf die Themen zu werfen\, die den Diskurs dominierten und auf solche die untergegangen sind. \nEintritt auf Spendenbasis. Ohne Anmeldung.
URL:https://wandelstadt-esslingen.de/event/poppinski-goes-politics-mit-stephanie-biesolt/
LOCATION:Poppinski\, Küferstraße 40\, Esslingen\, 73728\, Deutschland
ORGANIZER;CN="Poppinski":MAILTO:hello@poppinski.de
END:VEVENT
BEGIN:VEVENT
DTSTART;TZID=Europe/Berlin:20251206T190000
DTEND;TZID=Europe/Berlin:20251206T190000
DTSTAMP:20260421T195836
CREATED:20251125T193455Z
LAST-MODIFIED:20251125T193455Z
UID:10007307-1765047600-1765047600@wandelstadt-esslingen.de
SUMMARY:Villa Vulva – Clowneskes Figurentheater
DESCRIPTION:Was wäre wenn Barbie\, die personifizierte pastellfarbene Sauberkeit\, ihre Tage bekommen würde? Garstige Blutflecken auf der rosa Bettwäsche\, der Lippenstiftmund schmerzverzerrt In dem Stück spielen eine Performer*in und eine Barbie gemeinsam mit dem Zyklus. Oder spielt der Zyklus mit ihnen? \nÜber das Duo: Ron Rienecker und Paula Tietjen sind ein Clownsduo\, dass in ihren Stücken gesellschaftlich relevante Themen für Kinder und Erwachsen besprechbar macht. Verspielt\, verträumt und ein bisschen vermasselt. \n35 Minuten ab ca. 12 Jahre – Eintritt auf Spendenbasis.
URL:https://wandelstadt-esslingen.de/event/villa-vulva-clowneskes-figurentheater/
LOCATION:Poppinski\, Küferstraße 40\, Esslingen\, 73728\, Deutschland
ORGANIZER;CN="Poppinski":MAILTO:hello@poppinski.de
END:VEVENT
BEGIN:VEVENT
DTSTART;TZID=Europe/Berlin:20251203T190000
DTEND;TZID=Europe/Berlin:20251203T190000
DTSTAMP:20260421T195836
CREATED:20251125T193055Z
LAST-MODIFIED:20251125T193055Z
UID:10007306-1764788400-1764788400@wandelstadt-esslingen.de
SUMMARY:All I want for christmas is a feminist book
DESCRIPTION:Autorin und Frauenrechtlerin Jasmin Riter stellt ihre liebsten (queer-)feministischen Bücher vor: vom Roman übers Sachbuch bis zum Lyrik-Band – und ganz bestimmt hat sie auch Titel für Kinder und Jugendliche dabei. Alles ideale Weihnachtsgeschenkideen für Familie\, Freunde und Dich selbst! Mit Büchertisch von Provinzbuch. Eintritt auf Spendenbasis.
URL:https://wandelstadt-esslingen.de/event/all-i-want-for-christmas-is-a-feminist-book/
LOCATION:Poppinski\, Küferstraße 40\, Esslingen\, 73728\, Deutschland
ORGANIZER;CN="Poppinski":MAILTO:hello@poppinski.de
END:VEVENT
BEGIN:VEVENT
DTSTART;TZID=Europe/Berlin:20250617T183000
DTEND;TZID=Europe/Berlin:20250617T183000
DTSTAMP:20260421T195836
CREATED:20250526T161924Z
LAST-MODIFIED:20250526T161924Z
UID:10005548-1750185000-1750185000@wandelstadt-esslingen.de
SUMMARY:Creative Space
DESCRIPTION:Du suchst noch das perfekte Accessoire für dein CSD-Pride-Outfit? Dann komm gern zu unserem Creative Space im Poppinski. Das Material stellen wir und basteln zusammen Ketten\, Ringe\, Armbänder\, Buttons und mehr. In einer lockeren\, offenen Atmosphäre wollen wir kreativ sein\, uns gemeinsam auf dem CSD einstimmen und Kontakte knüpfen. \nOhne Anmeldung
URL:https://wandelstadt-esslingen.de/event/creative-space/
LOCATION:Poppinski\, Küferstraße 40\, Esslingen\, 73728\, Deutschland
CATEGORIES:Gemütliches Treffen
ORGANIZER;CN="Poppinski":MAILTO:hello@poppinski.de
END:VEVENT
BEGIN:VEVENT
DTSTART;TZID=Europe/Berlin:20250615T180000
DTEND;TZID=Europe/Berlin:20250615T180000
DTSTAMP:20260421T195836
CREATED:20250526T155716Z
LAST-MODIFIED:20250526T155716Z
UID:10005541-1750010400-1750010400@wandelstadt-esslingen.de
SUMMARY:Queerbeet-Lesung: Queergestreift. Alles über LGBTIQA+
DESCRIPTION:Kathrin Köller und Irmela Schautz reisen am Sonntagabend von Berlin nach Esslingen und stellen ihr Buch „Queergestreift. Alles über LGBTIQA+“ vor. Im schönen Poppinski in der Küferstraße 40 klären sie für Menschen ab 12 Jahren auf\, was es mit den verschiedenen Buchstaben aus dem Begriff „LGBTIQA+“ auf sich hat und erzählen von den Menschen und ihren Geschichten dahinter. Das Buch richtet sich vor allem an Jugendliche\, ist aber auch für Erwachsene empfohlen. Köller und Schautz haben für „Queergestreift“ den Deutschen Jugendliteraturpreis 2023 in der Kategorie Sachbuch gewonnen. \nIm Juni startet die neue Literaturreihe QUEERBEET in der Esslinger Innenstadt: Vom 13. bis 15. Juni finden an drei Tagen drei Veranstaltungen zu queerer Literatur für verschiedene Altersgruppen statt. Die Veranstalter:innen QueerES e. V.\, Poppinski und Stadtbücherei Esslingen möchten mit diesen kostenfreien Lesungen die diverse Stadtgesellschaft sichtbar machen und den Stimmen marginalisierter Gruppen eine Bühne bieten.
URL:https://wandelstadt-esslingen.de/event/queerbeet-lesung-queergestreift/
LOCATION:Poppinski\, Küferstraße 40\, Esslingen\, 73728\, Deutschland
END:VEVENT
BEGIN:VEVENT
DTSTART;TZID=Europe/Berlin:20250614T140000
DTEND;TZID=Europe/Berlin:20250614T150000
DTSTAMP:20260421T195836
CREATED:20250526T154114Z
LAST-MODIFIED:20250526T154114Z
UID:10005540-1749909600-1749913200@wandelstadt-esslingen.de
SUMMARY:Queerbeet-Lesung: Zwei Papas für Tango
DESCRIPTION:Die Königin höchstpersönlich\, Queen Henni\, gewährt Audienz im ehemaligen Modehaus Kögel in der Zehentgasse 1/ Rathausplatz 14. Die Drag Queen liest aus dem Kinderbuch „Zwei Papas für Tango“ von Edith Schreiber-Wicke für Kinder zwischen 4 bis 12 Jahren. In dieser Geschichte\, die sich so im Zoo von New York wirklich zugetragen hat\, bauen die beiden Pinguin-Jungs Roy und Silo gemeinsam ein Nest\, ganz ohne Weibchen. „Das wird nie was“\, denken sich ihre Tierpfleger … bis ihnen eines Tages ein kleines Wunder namens Tango entgegen tschilpt. \nQUEERBEET ist die neue Literaturreihe in der Esslinger Innenstadt: Vom 13. bis 15. Juni finden an drei Tagen drei Veranstaltungen zu queerer Literatur für verschiedene Altersgruppen statt. Die Veranstalter:innen QueerES e. V.\, Poppinski und Stadtbücherei Esslingen möchten mit diesen kostenfreien Lesungen die diverse Stadtgesellschaft sichtbar machen und den Stimmen marginalisierter Gruppen eine Bühne bieten. \n\n\n\nPreis:\nkostenfrei\n\n\nDauer:\n1h\n\n\nHinweis:\nkeine Anmeldung nötig\, empfohlen ab 4 Jahren
URL:https://wandelstadt-esslingen.de/event/queerbeet-lesung-zwei-papas-fuer-tango/
LOCATION:Modehaus Kögel
END:VEVENT
BEGIN:VEVENT
DTSTART;TZID=Europe/Berlin:20250613T193000
DTEND;TZID=Europe/Berlin:20250613T193000
DTSTAMP:20260421T195836
CREATED:20250526T153711Z
LAST-MODIFIED:20250526T153711Z
UID:10005539-1749843000-1749843000@wandelstadt-esslingen.de
SUMMARY:Queerbeet-Lesung: Alles dazwischen/darüber hinaus
DESCRIPTION:Mae Schwinghammer aus Österreich liest aus dem Debüt „Alles dazwischen\, darüber hinaus“. Darin geht es um das Aufwachsen als nicht-binäre Person – also darum\, sich nicht eindeutig als männlich oder weiblich zu identifizieren – und um die Probleme\, die damit einhergehen\, gesellschaftlich\, psychologisch\, aber auch sprachlich: Was bedeutet es\, keine Sprache für das eigene Ich zu finden? \nMaë liest in der Stadtbücherei Esslingen. Wegen der Bauarbeiten im Gebäude muss die Veranstaltung in das Zeitschriften-Café verlegt werden. \nVom 13. bis 15. Juni finden an drei Tagen drei Veranstaltungen zu queerer Literatur für verschiedene Altersgruppen statt. Die Veranstalter:innen QueerES e. V.\, Poppinski und Stadtbücherei Esslingen möchten mit diesen kostenfreien Lesungen die diverse Stadtgesellschaft sichtbar machen und den Stimmen marginalisierter Gruppen eine Bühne bieten.
URL:https://wandelstadt-esslingen.de/event/queerbeet-lesung-alles-dazwischen-darueber-hinaus/
LOCATION:Stadtbibliothek\, Heugasse 9\, Esslingen\, Deutschland
END:VEVENT
BEGIN:VEVENT
DTSTART;TZID=Europe/Berlin:20250426T090000
DTEND;TZID=Europe/Berlin:20250426T170000
DTSTAMP:20260421T195836
CREATED:20250328T184700Z
LAST-MODIFIED:20250328T184700Z
UID:10004998-1745658000-1745686800@wandelstadt-esslingen.de
SUMMARY:Workshop "Kompetent gegen rechte Sprüche!"
DESCRIPTION:Workshop „Kompetent gegen rechte Sprüche!“ der Landeszentrale für politische Bildung am 26. April 2025 im menschen:raum\nDemokratie stärken – Zivilcourage fördern: Argumentationstraining gegen rechte Parolen\nRechte Parolen und diskriminierende Sprüche begegnen uns im Alltag immer wieder – sei es am Arbeitsplatz\, in der Familie oder im Freundeskreis. Doch wie reagieren wir darauf? Mit dem Workshop „Kompetent gegen rechte Sprüche! Handlungs- und Argumentationstraining gegen rechte Parolen“ bietet das Team meX der Landeszentrale für politische Bildung Baden-Württemberg eine praxisnahe Schulung an\, die sensibilisiert\, Handlungskompetenz vermittelt und die Teilnehmenden in ihrer Zivilcourage stärkt.\nDas Team meX setzt sich für eine diskriminierungsfreie Gesellschaft ein und zeigt in diesem Training auf\, wie extremistische Parolen entlarvt und entkräftet werden können. Ziel ist es\, demokratische Werte aktiv zu verteidigen und sich mutig gegen Hass und Hetze zu stellen. „Die Arbeit gegen Vorurteile\, Diskriminierung und extremistische Ideologien ist eine gesamtgesellschaftliche Aufgabe. Es reicht nicht\, darüber zu reden – wir müssen aktiv werden“\, so das Team meX. \nDer menschen:raum in Esslingen stellt für diese wichtige Veranstaltung nicht nur den Raum\, sondern auch die Verpflegung – denn Schutzräume müssen nicht nur thematisiert\, sondern auch geschaffen werden! \nEin paar Plätze sind noch frei\, bei Interesse gerne an ani@poppinski.de schreiben.
URL:https://wandelstadt-esslingen.de/event/workshop-kompetent-gegen-rechte-sprueche/
LOCATION:menschen:raum\, Eugenie-von-Soden-Straße 16A\, Esslingen am Neckar\, 73728
ORGANIZER;CN="Poppinski":MAILTO:hello@poppinski.de
END:VEVENT
BEGIN:VEVENT
DTSTART;TZID=Europe/Berlin:20250307T183000
DTEND;TZID=Europe/Berlin:20250307T183000
DTSTAMP:20260421T195836
CREATED:20250223T105857Z
LAST-MODIFIED:20250223T105857Z
UID:10004909-1741372200-1741372200@wandelstadt-esslingen.de
SUMMARY:Let's party: 2 Jahre Solidargemeinschaft
DESCRIPTION:Beitrags-Party & 2 Jahre Solidargemeinschaft\nFreu dich auf einen Abend voller Begegnungen\, Musik\, Überraschungen\, Special drinks und leckerem Essen! \nDas POPPINSKI finanziert sich teilweise über eine Solidargemeinschaft aus Mitgliedern\, die mit ihrem Monatsbeitrag zu einem konstanten Umsatz und somit zum Weiterbestehen dieses Ortes beitragen.
URL:https://wandelstadt-esslingen.de/event/lets-party-2-jahre-solidargemeinschaft/
LOCATION:Poppinski\, Küferstraße 40\, Esslingen\, 73728\, Deutschland
ATTACH;FMTTYPE=image/jpeg:https://wandelstadt-esslingen.de/wp-content/uploads/2025/02/Poppinski-Solidargemeinschaft-2025-03-07.jpeg
ORGANIZER;CN="Poppinski":MAILTO:hello@poppinski.de
END:VEVENT
BEGIN:VEVENT
DTSTART;TZID=Europe/Berlin:20240602T110000
DTEND;TZID=Europe/Berlin:20240602T130000
DTSTAMP:20260421T195836
CREATED:20240513T101917Z
LAST-MODIFIED:20240513T102148Z
UID:10002923-1717326000-1717333200@wandelstadt-esslingen.de
SUMMARY:Matinée: POPPINSKI GOES POLITICS
DESCRIPTION:„Gefährliche Schlagseite!\nIst die EU noch zu retten?“\nEine Woche vor der Europawahl nehmen Stephanie Biesolt und Sabine Dotzer die EU unter die Lupe – Was die EU sein sollte. Was sie geworden ist. Und was sie sein könnte. \nAb 11 Uhr versorgen wir Euch mit Getränken und Snacks\, um 11:30 Uhr beginnt das Programm\, im Anschluss folgt ein Publikumsgespräch mit gemütlichem Ausklang bei Getränken. \nDer Eintritt ist auf Spendenbasis\, wir empfehlen 10–15 Euro. \nWir freuen uns auf Euch.
URL:https://wandelstadt-esslingen.de/event/matinee-poppinski-goes-politics/
LOCATION:Poppinski\, Küferstraße 40\, Esslingen\, 73728\, Deutschland
CATEGORIES:Kulturveranstaltung
ORGANIZER;CN="Poppinski":MAILTO:hello@poppinski.de
END:VEVENT
END:VCALENDAR