BEGIN:VCALENDAR
VERSION:2.0
PRODID:-//Wandelstadt Esslingen - ECPv6.15.20//NONSGML v1.0//EN
CALSCALE:GREGORIAN
METHOD:PUBLISH
X-ORIGINAL-URL:https://wandelstadt-esslingen.de
X-WR-CALDESC:Veranstaltungen für Wandelstadt Esslingen
REFRESH-INTERVAL;VALUE=DURATION:PT1H
X-Robots-Tag:noindex
X-PUBLISHED-TTL:PT1H
BEGIN:VTIMEZONE
TZID:Europe/Berlin
BEGIN:DAYLIGHT
TZOFFSETFROM:+0100
TZOFFSETTO:+0200
TZNAME:CEST
DTSTART:20240331T010000
END:DAYLIGHT
BEGIN:STANDARD
TZOFFSETFROM:+0200
TZOFFSETTO:+0100
TZNAME:CET
DTSTART:20241027T010000
END:STANDARD
BEGIN:DAYLIGHT
TZOFFSETFROM:+0100
TZOFFSETTO:+0200
TZNAME:CEST
DTSTART:20250330T010000
END:DAYLIGHT
BEGIN:STANDARD
TZOFFSETFROM:+0200
TZOFFSETTO:+0100
TZNAME:CET
DTSTART:20251026T010000
END:STANDARD
BEGIN:DAYLIGHT
TZOFFSETFROM:+0100
TZOFFSETTO:+0200
TZNAME:CEST
DTSTART:20260329T010000
END:DAYLIGHT
BEGIN:STANDARD
TZOFFSETFROM:+0200
TZOFFSETTO:+0100
TZNAME:CET
DTSTART:20261025T010000
END:STANDARD
END:VTIMEZONE
BEGIN:VEVENT
DTSTART;TZID=Europe/Berlin:20250608T110000
DTEND;TZID=Europe/Berlin:20250608T180000
DTSTAMP:20260422T022033
CREATED:20250526T070819Z
LAST-MODIFIED:20250526T070819Z
UID:10005508-1749380400-1749405600@wandelstadt-esslingen.de
SUMMARY:Offene Gärten 2025
DESCRIPTION:Offene Gärten 2025\nDie 15. Aktion „Offene Gärten in Esslingen und im Mittleren Neckarraum“ findet am 08. Juni 2025 statt.\nWeitere Gartenfreunde sind herzlich willkommen. \nWann: Am 08. Juni 2025\n11:00 – 18:00 Uhr\nWo: Esslingen und im Mittleren Neckarraum \nFragen zur  Teilnahme  an der Aktion „Offene Gärten in Esslingen und im mittleren Neckarraum“ beantwortet Ihnen gerne https://offenegaerten-esslingen.de/kontakt/
URL:https://wandelstadt-esslingen.de/event/offene-gaerten-2025/
END:VEVENT
END:VCALENDAR