BEGIN:VCALENDAR
VERSION:2.0
PRODID:-//Wandelstadt Esslingen - ECPv6.15.20//NONSGML v1.0//EN
CALSCALE:GREGORIAN
METHOD:PUBLISH
X-WR-CALNAME:Wandelstadt Esslingen
X-ORIGINAL-URL:https://wandelstadt-esslingen.de
X-WR-CALDESC:Veranstaltungen für Wandelstadt Esslingen
REFRESH-INTERVAL;VALUE=DURATION:PT1H
X-Robots-Tag:noindex
X-PUBLISHED-TTL:PT1H
BEGIN:VTIMEZONE
TZID:Europe/Berlin
BEGIN:DAYLIGHT
TZOFFSETFROM:+0100
TZOFFSETTO:+0200
TZNAME:CEST
DTSTART:20240331T010000
END:DAYLIGHT
BEGIN:STANDARD
TZOFFSETFROM:+0200
TZOFFSETTO:+0100
TZNAME:CET
DTSTART:20241027T010000
END:STANDARD
BEGIN:DAYLIGHT
TZOFFSETFROM:+0100
TZOFFSETTO:+0200
TZNAME:CEST
DTSTART:20250330T010000
END:DAYLIGHT
BEGIN:STANDARD
TZOFFSETFROM:+0200
TZOFFSETTO:+0100
TZNAME:CET
DTSTART:20251026T010000
END:STANDARD
BEGIN:DAYLIGHT
TZOFFSETFROM:+0100
TZOFFSETTO:+0200
TZNAME:CEST
DTSTART:20260329T010000
END:DAYLIGHT
BEGIN:STANDARD
TZOFFSETFROM:+0200
TZOFFSETTO:+0100
TZNAME:CET
DTSTART:20261025T010000
END:STANDARD
END:VTIMEZONE
BEGIN:VEVENT
DTSTART;TZID=Europe/Berlin:20251105T180000
DTEND;TZID=Europe/Berlin:20251105T210000
DTSTAMP:20260422T001622
CREATED:20251020T150506Z
LAST-MODIFIED:20251020T150537Z
UID:10006634-1762365600-1762376400@wandelstadt-esslingen.de
SUMMARY:Frauen kompetent und erfolgreich
DESCRIPTION:Mehr als ein Danke – Wertschätzung im Arbeitsalltag leben \nmit Antje Herrmann\, Dipl. Sozialpädagogin\, Coach und Resilienz-Beraterin \nWertschätzung am Arbeitsplatz bedeutet mehr als ein kurzes „Danke“. Sie ist eine Haltung\, die Zusammenarbeit fördert\, Motivation stärkt und Vertrauen schafft – gerade in Zeiten hoher Belastung und Veränderung. In dieser Online-Veranstaltung schaffen wir einen offenen Raum für Reflexion und Austausch. Gemeinsam erkunden wir\, wie echte Wertschätzung im Berufsalltag sichtbar und wirksam wird – jenseits von bloßem Lob. \n \nIm Fokus stehen: \n\npersönliche Werte und wie sie unser Handeln im Job prägen\nverschiedene Facetten von Wertschätzung im Team und gegenüber Kolleg:innen\nkonkrete Impulse\, wie Sie im Arbeitsalltag selbst für mehr Anerkennung und ein respektvolles Miteinander sorgen können.\n\nZielgruppe: Frauen\, die ihre Kompetenzen im beruflichen Umfeld stärken und souverän handeln wollen. \nMelden Sie sich heute noch an! Link: Veranstaltungskalender | Esslingen \nPräsentiert von: Stadt Esslingen am Neckar\, Landratsamt Esslingen\, Regionalbüro für berufliche Fortbildung Esslingen\, Agentur für Arbeit Göppingen und Volkshochschule Esslingen
URL:https://wandelstadt-esslingen.de/event/frauen-kompetent-und-erfolgreich/
LOCATION:online
CATEGORIES:Workshop
ATTACH;FMTTYPE=image/jpeg:https://wandelstadt-esslingen.de/wp-content/uploads/2025/09/Einladung-DigWorkshop_Wertschaetzung-1.jpg
END:VEVENT
END:VCALENDAR