BEGIN:VCALENDAR
VERSION:2.0
PRODID:-//Wandelstadt Esslingen - ECPv6.15.20//NONSGML v1.0//EN
CALSCALE:GREGORIAN
METHOD:PUBLISH
X-ORIGINAL-URL:https://wandelstadt-esslingen.de
X-WR-CALDESC:Veranstaltungen für Wandelstadt Esslingen
REFRESH-INTERVAL;VALUE=DURATION:PT1H
X-Robots-Tag:noindex
X-PUBLISHED-TTL:PT1H
BEGIN:VTIMEZONE
TZID:Europe/Berlin
BEGIN:DAYLIGHT
TZOFFSETFROM:+0100
TZOFFSETTO:+0200
TZNAME:CEST
DTSTART:20250330T010000
END:DAYLIGHT
BEGIN:STANDARD
TZOFFSETFROM:+0200
TZOFFSETTO:+0100
TZNAME:CET
DTSTART:20251026T010000
END:STANDARD
BEGIN:DAYLIGHT
TZOFFSETFROM:+0100
TZOFFSETTO:+0200
TZNAME:CEST
DTSTART:20260329T010000
END:DAYLIGHT
BEGIN:STANDARD
TZOFFSETFROM:+0200
TZOFFSETTO:+0100
TZNAME:CET
DTSTART:20261025T010000
END:STANDARD
BEGIN:DAYLIGHT
TZOFFSETFROM:+0100
TZOFFSETTO:+0200
TZNAME:CEST
DTSTART:20270328T010000
END:DAYLIGHT
BEGIN:STANDARD
TZOFFSETFROM:+0200
TZOFFSETTO:+0100
TZNAME:CET
DTSTART:20271031T010000
END:STANDARD
END:VTIMEZONE
BEGIN:VEVENT
DTSTART;TZID=Europe/Berlin:20260329T120000
DTEND;TZID=Europe/Berlin:20260329T170000
DTSTAMP:20260421T195432
CREATED:20260224T164124Z
LAST-MODIFIED:20260224T164124Z
UID:10009151-1774785600-1774803600@wandelstadt-esslingen.de
SUMMARY:Sonntagsöffnung & Fahrrad-Reperaturtreff
DESCRIPTION:Wann?\nSonntag\, 29. März\n12:00-17:00 Uhr\nFahrradreparatur ab 13:00 Uhr \nWas?\nAm Fahrrad quietscht´s\, klappert´s oder wackelt´s?\nDer Reifen ist schon lange platt oder es bremst nicht mehr richtig?\nZeit\, das Fahrrad aus dem Keller zu holen und es gemeinsam zu reparieren!\nWir helfen beim Flicken\, Ersatzteile montieren\, Probleme finden\, u.v.m.\nEs ist kein Vorwissen nötig. \nWir stellen: \n\nWerkzeug\nFlickenset\nExpertise\n\nBitte mitbringen: \n\nZu reparierendes Fahrrad\npassende Ersatzteile\, soweit bekannt und möglich\n\nKaffee\, Kuchen & herzhafte Snacks:\nDer Nachbarschaftreff hat von 12:00-17:00 Uhr geöffnet\nWir laden ein zu Austausch\, netten Gesprächen & einem entspannten Nachmittag – mit oder ohne Fahrrad!\nAnmeldung und Fragen zur Reparatur\nan nachbarschaftstreff@rrss.de
URL:https://wandelstadt-esslingen.de/event/sonntagsoeffnung-fahrrad-reperaturtreff/
LOCATION:Nachbarschaftstreff Am schönen Rain\, Am schönen Rain 32\, Esslingen\, 73732\, Deutschland
CATEGORIES:Beteiligung,Gemütliches Treffen,Vernetzungsveranstaltung,Workshop
ORGANIZER;CN="Nachbarschaftstreff Am Sch%C3%B6nen Rain":MAILTO:nachbarschaftstreff@rrss.de
END:VEVENT
END:VCALENDAR