BEGIN:VCALENDAR
VERSION:2.0
PRODID:-//Wandelstadt Esslingen - ECPv6.15.20//NONSGML v1.0//EN
CALSCALE:GREGORIAN
METHOD:PUBLISH
X-WR-CALNAME:Wandelstadt Esslingen
X-ORIGINAL-URL:https://wandelstadt-esslingen.de
X-WR-CALDESC:Veranstaltungen für Wandelstadt Esslingen
REFRESH-INTERVAL;VALUE=DURATION:PT1H
X-Robots-Tag:noindex
X-PUBLISHED-TTL:PT1H
BEGIN:VTIMEZONE
TZID:Europe/Berlin
BEGIN:DAYLIGHT
TZOFFSETFROM:+0100
TZOFFSETTO:+0200
TZNAME:CEST
DTSTART:20250330T010000
END:DAYLIGHT
BEGIN:STANDARD
TZOFFSETFROM:+0200
TZOFFSETTO:+0100
TZNAME:CET
DTSTART:20251026T010000
END:STANDARD
BEGIN:DAYLIGHT
TZOFFSETFROM:+0100
TZOFFSETTO:+0200
TZNAME:CEST
DTSTART:20260329T010000
END:DAYLIGHT
BEGIN:STANDARD
TZOFFSETFROM:+0200
TZOFFSETTO:+0100
TZNAME:CET
DTSTART:20261025T010000
END:STANDARD
BEGIN:DAYLIGHT
TZOFFSETFROM:+0100
TZOFFSETTO:+0200
TZNAME:CEST
DTSTART:20270328T010000
END:DAYLIGHT
BEGIN:STANDARD
TZOFFSETFROM:+0200
TZOFFSETTO:+0100
TZNAME:CET
DTSTART:20271031T010000
END:STANDARD
BEGIN:DAYLIGHT
TZOFFSETFROM:+0100
TZOFFSETTO:+0200
TZNAME:CEST
DTSTART:20280326T010000
END:DAYLIGHT
BEGIN:STANDARD
TZOFFSETFROM:+0200
TZOFFSETTO:+0100
TZNAME:CET
DTSTART:20281029T010000
END:STANDARD
BEGIN:DAYLIGHT
TZOFFSETFROM:+0100
TZOFFSETTO:+0200
TZNAME:CEST
DTSTART:20290325T010000
END:DAYLIGHT
BEGIN:STANDARD
TZOFFSETFROM:+0200
TZOFFSETTO:+0100
TZNAME:CET
DTSTART:20291028T010000
END:STANDARD
BEGIN:DAYLIGHT
TZOFFSETFROM:+0100
TZOFFSETTO:+0200
TZNAME:CEST
DTSTART:20300331T010000
END:DAYLIGHT
BEGIN:STANDARD
TZOFFSETFROM:+0200
TZOFFSETTO:+0100
TZNAME:CET
DTSTART:20301027T010000
END:STANDARD
END:VTIMEZONE
BEGIN:VEVENT
DTSTART;TZID=Europe/Berlin:20260520T193000
DTEND;TZID=Europe/Berlin:20260520T210000
DTSTAMP:20260421T191125
CREATED:20260124T173820Z
LAST-MODIFIED:20260124T173820Z
UID:10008755-1779305400-1779310800@wandelstadt-esslingen.de
SUMMARY:Treffen der NABU-Ortsgruppe
DESCRIPTION:Unsere monatlichen Gruppentreffen finden ab sofort im Forum\, Zentrum für Bürgerengagement\, Schelztorstr. 38\, 73728 Esslingen am Neckar statt.
URL:https://wandelstadt-esslingen.de/event/treffen-der-nabu-ortsgruppe/2026-05-20/
LOCATION:Forum Esslingen – Zentrum für Bürgerengagement\, Schelztorstraße 38\, Esslingen\, Deutschland
CATEGORIES:Beteiligung,Gemütliches Treffen,Vernetzungsveranstaltung
END:VEVENT
BEGIN:VEVENT
DTSTART;TZID=Europe/Berlin:20260617T193000
DTEND;TZID=Europe/Berlin:20260617T210000
DTSTAMP:20260421T191125
CREATED:20260124T173820Z
LAST-MODIFIED:20260124T173820Z
UID:10008756-1781724600-1781730000@wandelstadt-esslingen.de
SUMMARY:Treffen der NABU-Ortsgruppe
DESCRIPTION:Unsere monatlichen Gruppentreffen finden ab sofort im Forum\, Zentrum für Bürgerengagement\, Schelztorstr. 38\, 73728 Esslingen am Neckar statt.
URL:https://wandelstadt-esslingen.de/event/treffen-der-nabu-ortsgruppe/2026-06-17/
LOCATION:Forum Esslingen – Zentrum für Bürgerengagement\, Schelztorstraße 38\, Esslingen\, Deutschland
CATEGORIES:Beteiligung,Gemütliches Treffen,Vernetzungsveranstaltung
END:VEVENT
BEGIN:VEVENT
DTSTART;TZID=Europe/Berlin:20260715T193000
DTEND;TZID=Europe/Berlin:20260715T210000
DTSTAMP:20260421T191125
CREATED:20260124T173820Z
LAST-MODIFIED:20260124T173820Z
UID:10008757-1784143800-1784149200@wandelstadt-esslingen.de
SUMMARY:Treffen der NABU-Ortsgruppe
DESCRIPTION:Unsere monatlichen Gruppentreffen finden ab sofort im Forum\, Zentrum für Bürgerengagement\, Schelztorstr. 38\, 73728 Esslingen am Neckar statt.
URL:https://wandelstadt-esslingen.de/event/treffen-der-nabu-ortsgruppe/2026-07-15/
LOCATION:Forum Esslingen – Zentrum für Bürgerengagement\, Schelztorstraße 38\, Esslingen\, Deutschland
CATEGORIES:Beteiligung,Gemütliches Treffen,Vernetzungsveranstaltung
END:VEVENT
BEGIN:VEVENT
DTSTART;TZID=Europe/Berlin:20260916T193000
DTEND;TZID=Europe/Berlin:20260916T210000
DTSTAMP:20260421T191125
CREATED:20260124T173820Z
LAST-MODIFIED:20260124T173820Z
UID:10008758-1789587000-1789592400@wandelstadt-esslingen.de
SUMMARY:Treffen der NABU-Ortsgruppe
DESCRIPTION:Unsere monatlichen Gruppentreffen finden ab sofort im Forum\, Zentrum für Bürgerengagement\, Schelztorstr. 38\, 73728 Esslingen am Neckar statt.
URL:https://wandelstadt-esslingen.de/event/treffen-der-nabu-ortsgruppe/2026-09-16/
LOCATION:Forum Esslingen – Zentrum für Bürgerengagement\, Schelztorstraße 38\, Esslingen\, Deutschland
CATEGORIES:Beteiligung,Gemütliches Treffen,Vernetzungsveranstaltung
END:VEVENT
BEGIN:VEVENT
DTSTART;TZID=Europe/Berlin:20261021T193000
DTEND;TZID=Europe/Berlin:20261021T210000
DTSTAMP:20260421T191125
CREATED:20260124T173820Z
LAST-MODIFIED:20260124T173820Z
UID:10008759-1792611000-1792616400@wandelstadt-esslingen.de
SUMMARY:Treffen der NABU-Ortsgruppe
DESCRIPTION:Unsere monatlichen Gruppentreffen finden ab sofort im Forum\, Zentrum für Bürgerengagement\, Schelztorstr. 38\, 73728 Esslingen am Neckar statt.
URL:https://wandelstadt-esslingen.de/event/treffen-der-nabu-ortsgruppe/2026-10-21/
LOCATION:Forum Esslingen – Zentrum für Bürgerengagement\, Schelztorstraße 38\, Esslingen\, Deutschland
CATEGORIES:Beteiligung,Gemütliches Treffen,Vernetzungsveranstaltung
END:VEVENT
BEGIN:VEVENT
DTSTART;TZID=Europe/Berlin:20261118T193000
DTEND;TZID=Europe/Berlin:20261118T210000
DTSTAMP:20260421T191125
CREATED:20260124T173820Z
LAST-MODIFIED:20260124T173820Z
UID:10008760-1795030200-1795035600@wandelstadt-esslingen.de
SUMMARY:Treffen der NABU-Ortsgruppe
DESCRIPTION:Unsere monatlichen Gruppentreffen finden ab sofort im Forum\, Zentrum für Bürgerengagement\, Schelztorstr. 38\, 73728 Esslingen am Neckar statt.
URL:https://wandelstadt-esslingen.de/event/treffen-der-nabu-ortsgruppe/2026-11-18/
LOCATION:Forum Esslingen – Zentrum für Bürgerengagement\, Schelztorstraße 38\, Esslingen\, Deutschland
CATEGORIES:Beteiligung,Gemütliches Treffen,Vernetzungsveranstaltung
END:VEVENT
BEGIN:VEVENT
DTSTART;TZID=Europe/Berlin:20270120T193000
DTEND;TZID=Europe/Berlin:20270120T210000
DTSTAMP:20260421T191125
CREATED:20260124T173820Z
LAST-MODIFIED:20260124T173820Z
UID:10008761-1800473400-1800478800@wandelstadt-esslingen.de
SUMMARY:Treffen der NABU-Ortsgruppe
DESCRIPTION:Unsere monatlichen Gruppentreffen finden ab sofort im Forum\, Zentrum für Bürgerengagement\, Schelztorstr. 38\, 73728 Esslingen am Neckar statt.
URL:https://wandelstadt-esslingen.de/event/treffen-der-nabu-ortsgruppe/2027-01-20/
LOCATION:Forum Esslingen – Zentrum für Bürgerengagement\, Schelztorstraße 38\, Esslingen\, Deutschland
CATEGORIES:Beteiligung,Gemütliches Treffen,Vernetzungsveranstaltung
END:VEVENT
BEGIN:VEVENT
DTSTART;TZID=Europe/Berlin:20270217T193000
DTEND;TZID=Europe/Berlin:20270217T210000
DTSTAMP:20260421T191125
CREATED:20260124T173820Z
LAST-MODIFIED:20260124T173820Z
UID:10008762-1802892600-1802898000@wandelstadt-esslingen.de
SUMMARY:Treffen der NABU-Ortsgruppe
DESCRIPTION:Unsere monatlichen Gruppentreffen finden ab sofort im Forum\, Zentrum für Bürgerengagement\, Schelztorstr. 38\, 73728 Esslingen am Neckar statt.
URL:https://wandelstadt-esslingen.de/event/treffen-der-nabu-ortsgruppe/2027-02-17/
LOCATION:Forum Esslingen – Zentrum für Bürgerengagement\, Schelztorstraße 38\, Esslingen\, Deutschland
CATEGORIES:Beteiligung,Gemütliches Treffen,Vernetzungsveranstaltung
END:VEVENT
BEGIN:VEVENT
DTSTART;TZID=Europe/Berlin:20270317T193000
DTEND;TZID=Europe/Berlin:20270317T210000
DTSTAMP:20260421T191125
CREATED:20260124T173820Z
LAST-MODIFIED:20260124T173820Z
UID:10008763-1805311800-1805317200@wandelstadt-esslingen.de
SUMMARY:Treffen der NABU-Ortsgruppe
DESCRIPTION:Unsere monatlichen Gruppentreffen finden ab sofort im Forum\, Zentrum für Bürgerengagement\, Schelztorstr. 38\, 73728 Esslingen am Neckar statt.
URL:https://wandelstadt-esslingen.de/event/treffen-der-nabu-ortsgruppe/2027-03-17/
LOCATION:Forum Esslingen – Zentrum für Bürgerengagement\, Schelztorstraße 38\, Esslingen\, Deutschland
CATEGORIES:Beteiligung,Gemütliches Treffen,Vernetzungsveranstaltung
END:VEVENT
BEGIN:VEVENT
DTSTART;TZID=Europe/Berlin:20270421T193000
DTEND;TZID=Europe/Berlin:20270421T210000
DTSTAMP:20260421T191125
CREATED:20260124T173820Z
LAST-MODIFIED:20260124T173820Z
UID:10008764-1808335800-1808341200@wandelstadt-esslingen.de
SUMMARY:Treffen der NABU-Ortsgruppe
DESCRIPTION:Unsere monatlichen Gruppentreffen finden ab sofort im Forum\, Zentrum für Bürgerengagement\, Schelztorstr. 38\, 73728 Esslingen am Neckar statt.
URL:https://wandelstadt-esslingen.de/event/treffen-der-nabu-ortsgruppe/2027-04-21/
LOCATION:Forum Esslingen – Zentrum für Bürgerengagement\, Schelztorstraße 38\, Esslingen\, Deutschland
CATEGORIES:Beteiligung,Gemütliches Treffen,Vernetzungsveranstaltung
END:VEVENT
BEGIN:VEVENT
DTSTART;TZID=Europe/Berlin:20270519T193000
DTEND;TZID=Europe/Berlin:20270519T210000
DTSTAMP:20260421T191125
CREATED:20260124T173820Z
LAST-MODIFIED:20260124T173820Z
UID:10008765-1810755000-1810760400@wandelstadt-esslingen.de
SUMMARY:Treffen der NABU-Ortsgruppe
DESCRIPTION:Unsere monatlichen Gruppentreffen finden ab sofort im Forum\, Zentrum für Bürgerengagement\, Schelztorstr. 38\, 73728 Esslingen am Neckar statt.
URL:https://wandelstadt-esslingen.de/event/treffen-der-nabu-ortsgruppe/2027-05-19/
LOCATION:Forum Esslingen – Zentrum für Bürgerengagement\, Schelztorstraße 38\, Esslingen\, Deutschland
CATEGORIES:Beteiligung,Gemütliches Treffen,Vernetzungsveranstaltung
END:VEVENT
BEGIN:VEVENT
DTSTART;TZID=Europe/Berlin:20270616T193000
DTEND;TZID=Europe/Berlin:20270616T210000
DTSTAMP:20260421T191125
CREATED:20260124T173820Z
LAST-MODIFIED:20260124T173820Z
UID:10008766-1813174200-1813179600@wandelstadt-esslingen.de
SUMMARY:Treffen der NABU-Ortsgruppe
DESCRIPTION:Unsere monatlichen Gruppentreffen finden ab sofort im Forum\, Zentrum für Bürgerengagement\, Schelztorstr. 38\, 73728 Esslingen am Neckar statt.
URL:https://wandelstadt-esslingen.de/event/treffen-der-nabu-ortsgruppe/2027-06-16/
LOCATION:Forum Esslingen – Zentrum für Bürgerengagement\, Schelztorstraße 38\, Esslingen\, Deutschland
CATEGORIES:Beteiligung,Gemütliches Treffen,Vernetzungsveranstaltung
END:VEVENT
BEGIN:VEVENT
DTSTART;TZID=Europe/Berlin:20270721T193000
DTEND;TZID=Europe/Berlin:20270721T210000
DTSTAMP:20260421T191125
CREATED:20260124T173820Z
LAST-MODIFIED:20260124T173820Z
UID:10008767-1816198200-1816203600@wandelstadt-esslingen.de
SUMMARY:Treffen der NABU-Ortsgruppe
DESCRIPTION:Unsere monatlichen Gruppentreffen finden ab sofort im Forum\, Zentrum für Bürgerengagement\, Schelztorstr. 38\, 73728 Esslingen am Neckar statt.
URL:https://wandelstadt-esslingen.de/event/treffen-der-nabu-ortsgruppe/2027-07-21/
LOCATION:Forum Esslingen – Zentrum für Bürgerengagement\, Schelztorstraße 38\, Esslingen\, Deutschland
CATEGORIES:Beteiligung,Gemütliches Treffen,Vernetzungsveranstaltung
END:VEVENT
BEGIN:VEVENT
DTSTART;TZID=Europe/Berlin:20270915T193000
DTEND;TZID=Europe/Berlin:20270915T210000
DTSTAMP:20260421T191125
CREATED:20260124T173820Z
LAST-MODIFIED:20260124T173820Z
UID:10008768-1821036600-1821042000@wandelstadt-esslingen.de
SUMMARY:Treffen der NABU-Ortsgruppe
DESCRIPTION:Unsere monatlichen Gruppentreffen finden ab sofort im Forum\, Zentrum für Bürgerengagement\, Schelztorstr. 38\, 73728 Esslingen am Neckar statt.
URL:https://wandelstadt-esslingen.de/event/treffen-der-nabu-ortsgruppe/2027-09-15/
LOCATION:Forum Esslingen – Zentrum für Bürgerengagement\, Schelztorstraße 38\, Esslingen\, Deutschland
CATEGORIES:Beteiligung,Gemütliches Treffen,Vernetzungsveranstaltung
END:VEVENT
BEGIN:VEVENT
DTSTART;TZID=Europe/Berlin:20271020T193000
DTEND;TZID=Europe/Berlin:20271020T210000
DTSTAMP:20260421T191125
CREATED:20260124T173820Z
LAST-MODIFIED:20260124T173820Z
UID:10008769-1824060600-1824066000@wandelstadt-esslingen.de
SUMMARY:Treffen der NABU-Ortsgruppe
DESCRIPTION:Unsere monatlichen Gruppentreffen finden ab sofort im Forum\, Zentrum für Bürgerengagement\, Schelztorstr. 38\, 73728 Esslingen am Neckar statt.
URL:https://wandelstadt-esslingen.de/event/treffen-der-nabu-ortsgruppe/2027-10-20/
LOCATION:Forum Esslingen – Zentrum für Bürgerengagement\, Schelztorstraße 38\, Esslingen\, Deutschland
CATEGORIES:Beteiligung,Gemütliches Treffen,Vernetzungsveranstaltung
END:VEVENT
BEGIN:VEVENT
DTSTART;TZID=Europe/Berlin:20271117T193000
DTEND;TZID=Europe/Berlin:20271117T210000
DTSTAMP:20260421T191125
CREATED:20260124T173820Z
LAST-MODIFIED:20260124T173820Z
UID:10008770-1826479800-1826485200@wandelstadt-esslingen.de
SUMMARY:Treffen der NABU-Ortsgruppe
DESCRIPTION:Unsere monatlichen Gruppentreffen finden ab sofort im Forum\, Zentrum für Bürgerengagement\, Schelztorstr. 38\, 73728 Esslingen am Neckar statt.
URL:https://wandelstadt-esslingen.de/event/treffen-der-nabu-ortsgruppe/2027-11-17/
LOCATION:Forum Esslingen – Zentrum für Bürgerengagement\, Schelztorstraße 38\, Esslingen\, Deutschland
CATEGORIES:Beteiligung,Gemütliches Treffen,Vernetzungsveranstaltung
END:VEVENT
BEGIN:VEVENT
DTSTART;TZID=Europe/Berlin:20280119T193000
DTEND;TZID=Europe/Berlin:20280119T210000
DTSTAMP:20260421T191125
CREATED:20260124T173820Z
LAST-MODIFIED:20260124T173820Z
UID:10008771-1831923000-1831928400@wandelstadt-esslingen.de
SUMMARY:Treffen der NABU-Ortsgruppe
DESCRIPTION:Unsere monatlichen Gruppentreffen finden ab sofort im Forum\, Zentrum für Bürgerengagement\, Schelztorstr. 38\, 73728 Esslingen am Neckar statt.
URL:https://wandelstadt-esslingen.de/event/treffen-der-nabu-ortsgruppe/2028-01-19/
LOCATION:Forum Esslingen – Zentrum für Bürgerengagement\, Schelztorstraße 38\, Esslingen\, Deutschland
CATEGORIES:Beteiligung,Gemütliches Treffen,Vernetzungsveranstaltung
END:VEVENT
BEGIN:VEVENT
DTSTART;TZID=Europe/Berlin:20280216T193000
DTEND;TZID=Europe/Berlin:20280216T210000
DTSTAMP:20260421T191125
CREATED:20260124T173820Z
LAST-MODIFIED:20260124T173820Z
UID:10008772-1834342200-1834347600@wandelstadt-esslingen.de
SUMMARY:Treffen der NABU-Ortsgruppe
DESCRIPTION:Unsere monatlichen Gruppentreffen finden ab sofort im Forum\, Zentrum für Bürgerengagement\, Schelztorstr. 38\, 73728 Esslingen am Neckar statt.
URL:https://wandelstadt-esslingen.de/event/treffen-der-nabu-ortsgruppe/2028-02-16/
LOCATION:Forum Esslingen – Zentrum für Bürgerengagement\, Schelztorstraße 38\, Esslingen\, Deutschland
CATEGORIES:Beteiligung,Gemütliches Treffen,Vernetzungsveranstaltung
END:VEVENT
BEGIN:VEVENT
DTSTART;TZID=Europe/Berlin:20280315T193000
DTEND;TZID=Europe/Berlin:20280315T210000
DTSTAMP:20260421T191125
CREATED:20260124T173820Z
LAST-MODIFIED:20260124T173820Z
UID:10008773-1836761400-1836766800@wandelstadt-esslingen.de
SUMMARY:Treffen der NABU-Ortsgruppe
DESCRIPTION:Unsere monatlichen Gruppentreffen finden ab sofort im Forum\, Zentrum für Bürgerengagement\, Schelztorstr. 38\, 73728 Esslingen am Neckar statt.
URL:https://wandelstadt-esslingen.de/event/treffen-der-nabu-ortsgruppe/2028-03-15/
LOCATION:Forum Esslingen – Zentrum für Bürgerengagement\, Schelztorstraße 38\, Esslingen\, Deutschland
CATEGORIES:Beteiligung,Gemütliches Treffen,Vernetzungsveranstaltung
END:VEVENT
BEGIN:VEVENT
DTSTART;TZID=Europe/Berlin:20280419T193000
DTEND;TZID=Europe/Berlin:20280419T210000
DTSTAMP:20260421T191125
CREATED:20260124T173820Z
LAST-MODIFIED:20260124T173820Z
UID:10008774-1839785400-1839790800@wandelstadt-esslingen.de
SUMMARY:Treffen der NABU-Ortsgruppe
DESCRIPTION:Unsere monatlichen Gruppentreffen finden ab sofort im Forum\, Zentrum für Bürgerengagement\, Schelztorstr. 38\, 73728 Esslingen am Neckar statt.
URL:https://wandelstadt-esslingen.de/event/treffen-der-nabu-ortsgruppe/2028-04-19/
LOCATION:Forum Esslingen – Zentrum für Bürgerengagement\, Schelztorstraße 38\, Esslingen\, Deutschland
CATEGORIES:Beteiligung,Gemütliches Treffen,Vernetzungsveranstaltung
END:VEVENT
BEGIN:VEVENT
DTSTART;TZID=Europe/Berlin:20280517T193000
DTEND;TZID=Europe/Berlin:20280517T210000
DTSTAMP:20260421T191125
CREATED:20260124T173820Z
LAST-MODIFIED:20260124T173820Z
UID:10008775-1842204600-1842210000@wandelstadt-esslingen.de
SUMMARY:Treffen der NABU-Ortsgruppe
DESCRIPTION:Unsere monatlichen Gruppentreffen finden ab sofort im Forum\, Zentrum für Bürgerengagement\, Schelztorstr. 38\, 73728 Esslingen am Neckar statt.
URL:https://wandelstadt-esslingen.de/event/treffen-der-nabu-ortsgruppe/2028-05-17/
LOCATION:Forum Esslingen – Zentrum für Bürgerengagement\, Schelztorstraße 38\, Esslingen\, Deutschland
CATEGORIES:Beteiligung,Gemütliches Treffen,Vernetzungsveranstaltung
END:VEVENT
BEGIN:VEVENT
DTSTART;TZID=Europe/Berlin:20280621T193000
DTEND;TZID=Europe/Berlin:20280621T210000
DTSTAMP:20260421T191125
CREATED:20260124T173820Z
LAST-MODIFIED:20260124T173820Z
UID:10008776-1845228600-1845234000@wandelstadt-esslingen.de
SUMMARY:Treffen der NABU-Ortsgruppe
DESCRIPTION:Unsere monatlichen Gruppentreffen finden ab sofort im Forum\, Zentrum für Bürgerengagement\, Schelztorstr. 38\, 73728 Esslingen am Neckar statt.
URL:https://wandelstadt-esslingen.de/event/treffen-der-nabu-ortsgruppe/2028-06-21/
LOCATION:Forum Esslingen – Zentrum für Bürgerengagement\, Schelztorstraße 38\, Esslingen\, Deutschland
CATEGORIES:Beteiligung,Gemütliches Treffen,Vernetzungsveranstaltung
END:VEVENT
BEGIN:VEVENT
DTSTART;TZID=Europe/Berlin:20280719T193000
DTEND;TZID=Europe/Berlin:20280719T210000
DTSTAMP:20260421T191125
CREATED:20260124T173820Z
LAST-MODIFIED:20260124T173820Z
UID:10008777-1847647800-1847653200@wandelstadt-esslingen.de
SUMMARY:Treffen der NABU-Ortsgruppe
DESCRIPTION:Unsere monatlichen Gruppentreffen finden ab sofort im Forum\, Zentrum für Bürgerengagement\, Schelztorstr. 38\, 73728 Esslingen am Neckar statt.
URL:https://wandelstadt-esslingen.de/event/treffen-der-nabu-ortsgruppe/2028-07-19/
LOCATION:Forum Esslingen – Zentrum für Bürgerengagement\, Schelztorstraße 38\, Esslingen\, Deutschland
CATEGORIES:Beteiligung,Gemütliches Treffen,Vernetzungsveranstaltung
END:VEVENT
BEGIN:VEVENT
DTSTART;TZID=Europe/Berlin:20280920T193000
DTEND;TZID=Europe/Berlin:20280920T210000
DTSTAMP:20260421T191125
CREATED:20260124T173820Z
LAST-MODIFIED:20260124T173820Z
UID:10008778-1853091000-1853096400@wandelstadt-esslingen.de
SUMMARY:Treffen der NABU-Ortsgruppe
DESCRIPTION:Unsere monatlichen Gruppentreffen finden ab sofort im Forum\, Zentrum für Bürgerengagement\, Schelztorstr. 38\, 73728 Esslingen am Neckar statt.
URL:https://wandelstadt-esslingen.de/event/treffen-der-nabu-ortsgruppe/2028-09-20/
LOCATION:Forum Esslingen – Zentrum für Bürgerengagement\, Schelztorstraße 38\, Esslingen\, Deutschland
CATEGORIES:Beteiligung,Gemütliches Treffen,Vernetzungsveranstaltung
END:VEVENT
BEGIN:VEVENT
DTSTART;TZID=Europe/Berlin:20281018T193000
DTEND;TZID=Europe/Berlin:20281018T210000
DTSTAMP:20260421T191125
CREATED:20260124T173820Z
LAST-MODIFIED:20260124T173820Z
UID:10008779-1855510200-1855515600@wandelstadt-esslingen.de
SUMMARY:Treffen der NABU-Ortsgruppe
DESCRIPTION:Unsere monatlichen Gruppentreffen finden ab sofort im Forum\, Zentrum für Bürgerengagement\, Schelztorstr. 38\, 73728 Esslingen am Neckar statt.
URL:https://wandelstadt-esslingen.de/event/treffen-der-nabu-ortsgruppe/2028-10-18/
LOCATION:Forum Esslingen – Zentrum für Bürgerengagement\, Schelztorstraße 38\, Esslingen\, Deutschland
CATEGORIES:Beteiligung,Gemütliches Treffen,Vernetzungsveranstaltung
END:VEVENT
BEGIN:VEVENT
DTSTART;TZID=Europe/Berlin:20281115T193000
DTEND;TZID=Europe/Berlin:20281115T210000
DTSTAMP:20260421T191125
CREATED:20260124T173820Z
LAST-MODIFIED:20260124T173820Z
UID:10008780-1857929400-1857934800@wandelstadt-esslingen.de
SUMMARY:Treffen der NABU-Ortsgruppe
DESCRIPTION:Unsere monatlichen Gruppentreffen finden ab sofort im Forum\, Zentrum für Bürgerengagement\, Schelztorstr. 38\, 73728 Esslingen am Neckar statt.
URL:https://wandelstadt-esslingen.de/event/treffen-der-nabu-ortsgruppe/2028-11-15/
LOCATION:Forum Esslingen – Zentrum für Bürgerengagement\, Schelztorstraße 38\, Esslingen\, Deutschland
CATEGORIES:Beteiligung,Gemütliches Treffen,Vernetzungsveranstaltung
END:VEVENT
BEGIN:VEVENT
DTSTART;TZID=Europe/Berlin:20290117T193000
DTEND;TZID=Europe/Berlin:20290117T210000
DTSTAMP:20260421T191125
CREATED:20260124T173820Z
LAST-MODIFIED:20260124T173820Z
UID:10008781-1863372600-1863378000@wandelstadt-esslingen.de
SUMMARY:Treffen der NABU-Ortsgruppe
DESCRIPTION:Unsere monatlichen Gruppentreffen finden ab sofort im Forum\, Zentrum für Bürgerengagement\, Schelztorstr. 38\, 73728 Esslingen am Neckar statt.
URL:https://wandelstadt-esslingen.de/event/treffen-der-nabu-ortsgruppe/2029-01-17/
LOCATION:Forum Esslingen – Zentrum für Bürgerengagement\, Schelztorstraße 38\, Esslingen\, Deutschland
CATEGORIES:Beteiligung,Gemütliches Treffen,Vernetzungsveranstaltung
END:VEVENT
BEGIN:VEVENT
DTSTART;TZID=Europe/Berlin:20290221T193000
DTEND;TZID=Europe/Berlin:20290221T210000
DTSTAMP:20260421T191125
CREATED:20260124T173820Z
LAST-MODIFIED:20260124T173820Z
UID:10008782-1866396600-1866402000@wandelstadt-esslingen.de
SUMMARY:Treffen der NABU-Ortsgruppe
DESCRIPTION:Unsere monatlichen Gruppentreffen finden ab sofort im Forum\, Zentrum für Bürgerengagement\, Schelztorstr. 38\, 73728 Esslingen am Neckar statt.
URL:https://wandelstadt-esslingen.de/event/treffen-der-nabu-ortsgruppe/2029-02-21/
LOCATION:Forum Esslingen – Zentrum für Bürgerengagement\, Schelztorstraße 38\, Esslingen\, Deutschland
CATEGORIES:Beteiligung,Gemütliches Treffen,Vernetzungsveranstaltung
END:VEVENT
BEGIN:VEVENT
DTSTART;TZID=Europe/Berlin:20290321T193000
DTEND;TZID=Europe/Berlin:20290321T210000
DTSTAMP:20260421T191125
CREATED:20260124T173820Z
LAST-MODIFIED:20260124T173820Z
UID:10008783-1868815800-1868821200@wandelstadt-esslingen.de
SUMMARY:Treffen der NABU-Ortsgruppe
DESCRIPTION:Unsere monatlichen Gruppentreffen finden ab sofort im Forum\, Zentrum für Bürgerengagement\, Schelztorstr. 38\, 73728 Esslingen am Neckar statt.
URL:https://wandelstadt-esslingen.de/event/treffen-der-nabu-ortsgruppe/2029-03-21/
LOCATION:Forum Esslingen – Zentrum für Bürgerengagement\, Schelztorstraße 38\, Esslingen\, Deutschland
CATEGORIES:Beteiligung,Gemütliches Treffen,Vernetzungsveranstaltung
END:VEVENT
BEGIN:VEVENT
DTSTART;TZID=Europe/Berlin:20290418T193000
DTEND;TZID=Europe/Berlin:20290418T210000
DTSTAMP:20260421T191125
CREATED:20260124T173820Z
LAST-MODIFIED:20260124T173820Z
UID:10008784-1871235000-1871240400@wandelstadt-esslingen.de
SUMMARY:Treffen der NABU-Ortsgruppe
DESCRIPTION:Unsere monatlichen Gruppentreffen finden ab sofort im Forum\, Zentrum für Bürgerengagement\, Schelztorstr. 38\, 73728 Esslingen am Neckar statt.
URL:https://wandelstadt-esslingen.de/event/treffen-der-nabu-ortsgruppe/2029-04-18/
LOCATION:Forum Esslingen – Zentrum für Bürgerengagement\, Schelztorstraße 38\, Esslingen\, Deutschland
CATEGORIES:Beteiligung,Gemütliches Treffen,Vernetzungsveranstaltung
END:VEVENT
END:VCALENDAR