BEGIN:VCALENDAR
VERSION:2.0
PRODID:-//Wandelstadt Esslingen - ECPv6.15.20//NONSGML v1.0//EN
CALSCALE:GREGORIAN
METHOD:PUBLISH
X-ORIGINAL-URL:https://wandelstadt-esslingen.de
X-WR-CALDESC:Veranstaltungen für Wandelstadt Esslingen
REFRESH-INTERVAL;VALUE=DURATION:PT1H
X-Robots-Tag:noindex
X-PUBLISHED-TTL:PT1H
BEGIN:VTIMEZONE
TZID:Europe/Berlin
BEGIN:DAYLIGHT
TZOFFSETFROM:+0100
TZOFFSETTO:+0200
TZNAME:CEST
DTSTART:20250330T010000
END:DAYLIGHT
BEGIN:STANDARD
TZOFFSETFROM:+0200
TZOFFSETTO:+0100
TZNAME:CET
DTSTART:20251026T010000
END:STANDARD
BEGIN:DAYLIGHT
TZOFFSETFROM:+0100
TZOFFSETTO:+0200
TZNAME:CEST
DTSTART:20260329T010000
END:DAYLIGHT
BEGIN:STANDARD
TZOFFSETFROM:+0200
TZOFFSETTO:+0100
TZNAME:CET
DTSTART:20261025T010000
END:STANDARD
BEGIN:DAYLIGHT
TZOFFSETFROM:+0100
TZOFFSETTO:+0200
TZNAME:CEST
DTSTART:20270328T010000
END:DAYLIGHT
BEGIN:STANDARD
TZOFFSETFROM:+0200
TZOFFSETTO:+0100
TZNAME:CET
DTSTART:20271031T010000
END:STANDARD
BEGIN:DAYLIGHT
TZOFFSETFROM:+0100
TZOFFSETTO:+0200
TZNAME:CEST
DTSTART:20280326T010000
END:DAYLIGHT
BEGIN:STANDARD
TZOFFSETFROM:+0200
TZOFFSETTO:+0100
TZNAME:CET
DTSTART:20281029T010000
END:STANDARD
END:VTIMEZONE
BEGIN:VEVENT
DTSTART;TZID=Europe/Berlin:20260716T190000
DTEND;TZID=Europe/Berlin:20260716T190000
DTSTAMP:20260421T184356
CREATED:20240628T160749Z
LAST-MODIFIED:20240629T175416Z
UID:10003670-1784228400-1784228400@wandelstadt-esslingen.de
SUMMARY:Fahrradwerkstatt
DESCRIPTION:Wir unterstützen Dich\, wenn Dein Fahrrad nicht mehr tut was es soll.\nFalls Ihr Interesse und Bedarf an unserer Fahrradwerkstatt habt\, meldet Euch per Mail: info@komma. \nVerantwortlich für die Werkstatt ist der Motorradclub Kuhle Wampe. Sie sind ein basisdemokratisch organisierter Motorradclub mit Sitz im Komma und sie betreiben eine Zweiradwerkstatt. Jeden Donnerstag ist die Fahrradwerkstatt geöffnet – bei gutem Wetter wird möglicherweise auch gegrillt.
URL:https://wandelstadt-esslingen.de/event/fahrrad-werkstatt/2026-07-16/
LOCATION:KOMMA\, Maille 5-9\, Esslingen\, Deutschland
END:VEVENT
BEGIN:VEVENT
DTSTART;TZID=Europe/Berlin:20260723T190000
DTEND;TZID=Europe/Berlin:20260723T190000
DTSTAMP:20260421T184356
CREATED:20240628T160749Z
LAST-MODIFIED:20240629T175416Z
UID:10003671-1784833200-1784833200@wandelstadt-esslingen.de
SUMMARY:Fahrradwerkstatt
DESCRIPTION:Wir unterstützen Dich\, wenn Dein Fahrrad nicht mehr tut was es soll.\nFalls Ihr Interesse und Bedarf an unserer Fahrradwerkstatt habt\, meldet Euch per Mail: info@komma. \nVerantwortlich für die Werkstatt ist der Motorradclub Kuhle Wampe. Sie sind ein basisdemokratisch organisierter Motorradclub mit Sitz im Komma und sie betreiben eine Zweiradwerkstatt. Jeden Donnerstag ist die Fahrradwerkstatt geöffnet – bei gutem Wetter wird möglicherweise auch gegrillt.
URL:https://wandelstadt-esslingen.de/event/fahrrad-werkstatt/2026-07-23/
LOCATION:KOMMA\, Maille 5-9\, Esslingen\, Deutschland
END:VEVENT
BEGIN:VEVENT
DTSTART;TZID=Europe/Berlin:20260730T190000
DTEND;TZID=Europe/Berlin:20260730T190000
DTSTAMP:20260421T184356
CREATED:20240628T160749Z
LAST-MODIFIED:20240629T175416Z
UID:10003672-1785438000-1785438000@wandelstadt-esslingen.de
SUMMARY:Fahrradwerkstatt
DESCRIPTION:Wir unterstützen Dich\, wenn Dein Fahrrad nicht mehr tut was es soll.\nFalls Ihr Interesse und Bedarf an unserer Fahrradwerkstatt habt\, meldet Euch per Mail: info@komma. \nVerantwortlich für die Werkstatt ist der Motorradclub Kuhle Wampe. Sie sind ein basisdemokratisch organisierter Motorradclub mit Sitz im Komma und sie betreiben eine Zweiradwerkstatt. Jeden Donnerstag ist die Fahrradwerkstatt geöffnet – bei gutem Wetter wird möglicherweise auch gegrillt.
URL:https://wandelstadt-esslingen.de/event/fahrrad-werkstatt/2026-07-30/
LOCATION:KOMMA\, Maille 5-9\, Esslingen\, Deutschland
END:VEVENT
BEGIN:VEVENT
DTSTART;TZID=Europe/Berlin:20260806T190000
DTEND;TZID=Europe/Berlin:20260806T190000
DTSTAMP:20260421T184356
CREATED:20240628T160749Z
LAST-MODIFIED:20240629T175416Z
UID:10003673-1786042800-1786042800@wandelstadt-esslingen.de
SUMMARY:Fahrradwerkstatt
DESCRIPTION:Wir unterstützen Dich\, wenn Dein Fahrrad nicht mehr tut was es soll.\nFalls Ihr Interesse und Bedarf an unserer Fahrradwerkstatt habt\, meldet Euch per Mail: info@komma. \nVerantwortlich für die Werkstatt ist der Motorradclub Kuhle Wampe. Sie sind ein basisdemokratisch organisierter Motorradclub mit Sitz im Komma und sie betreiben eine Zweiradwerkstatt. Jeden Donnerstag ist die Fahrradwerkstatt geöffnet – bei gutem Wetter wird möglicherweise auch gegrillt.
URL:https://wandelstadt-esslingen.de/event/fahrrad-werkstatt/2026-08-06/
LOCATION:KOMMA\, Maille 5-9\, Esslingen\, Deutschland
END:VEVENT
BEGIN:VEVENT
DTSTART;TZID=Europe/Berlin:20260813T190000
DTEND;TZID=Europe/Berlin:20260813T190000
DTSTAMP:20260421T184356
CREATED:20240628T160749Z
LAST-MODIFIED:20240629T175416Z
UID:10003674-1786647600-1786647600@wandelstadt-esslingen.de
SUMMARY:Fahrradwerkstatt
DESCRIPTION:Wir unterstützen Dich\, wenn Dein Fahrrad nicht mehr tut was es soll.\nFalls Ihr Interesse und Bedarf an unserer Fahrradwerkstatt habt\, meldet Euch per Mail: info@komma. \nVerantwortlich für die Werkstatt ist der Motorradclub Kuhle Wampe. Sie sind ein basisdemokratisch organisierter Motorradclub mit Sitz im Komma und sie betreiben eine Zweiradwerkstatt. Jeden Donnerstag ist die Fahrradwerkstatt geöffnet – bei gutem Wetter wird möglicherweise auch gegrillt.
URL:https://wandelstadt-esslingen.de/event/fahrrad-werkstatt/2026-08-13/
LOCATION:KOMMA\, Maille 5-9\, Esslingen\, Deutschland
END:VEVENT
BEGIN:VEVENT
DTSTART;TZID=Europe/Berlin:20260820T190000
DTEND;TZID=Europe/Berlin:20260820T190000
DTSTAMP:20260421T184356
CREATED:20240628T160749Z
LAST-MODIFIED:20240629T175416Z
UID:10003675-1787252400-1787252400@wandelstadt-esslingen.de
SUMMARY:Fahrradwerkstatt
DESCRIPTION:Wir unterstützen Dich\, wenn Dein Fahrrad nicht mehr tut was es soll.\nFalls Ihr Interesse und Bedarf an unserer Fahrradwerkstatt habt\, meldet Euch per Mail: info@komma. \nVerantwortlich für die Werkstatt ist der Motorradclub Kuhle Wampe. Sie sind ein basisdemokratisch organisierter Motorradclub mit Sitz im Komma und sie betreiben eine Zweiradwerkstatt. Jeden Donnerstag ist die Fahrradwerkstatt geöffnet – bei gutem Wetter wird möglicherweise auch gegrillt.
URL:https://wandelstadt-esslingen.de/event/fahrrad-werkstatt/2026-08-20/
LOCATION:KOMMA\, Maille 5-9\, Esslingen\, Deutschland
END:VEVENT
BEGIN:VEVENT
DTSTART;TZID=Europe/Berlin:20260827T190000
DTEND;TZID=Europe/Berlin:20260827T190000
DTSTAMP:20260421T184356
CREATED:20240628T160749Z
LAST-MODIFIED:20240629T175416Z
UID:10003676-1787857200-1787857200@wandelstadt-esslingen.de
SUMMARY:Fahrradwerkstatt
DESCRIPTION:Wir unterstützen Dich\, wenn Dein Fahrrad nicht mehr tut was es soll.\nFalls Ihr Interesse und Bedarf an unserer Fahrradwerkstatt habt\, meldet Euch per Mail: info@komma. \nVerantwortlich für die Werkstatt ist der Motorradclub Kuhle Wampe. Sie sind ein basisdemokratisch organisierter Motorradclub mit Sitz im Komma und sie betreiben eine Zweiradwerkstatt. Jeden Donnerstag ist die Fahrradwerkstatt geöffnet – bei gutem Wetter wird möglicherweise auch gegrillt.
URL:https://wandelstadt-esslingen.de/event/fahrrad-werkstatt/2026-08-27/
LOCATION:KOMMA\, Maille 5-9\, Esslingen\, Deutschland
END:VEVENT
BEGIN:VEVENT
DTSTART;TZID=Europe/Berlin:20260903T190000
DTEND;TZID=Europe/Berlin:20260903T190000
DTSTAMP:20260421T184356
CREATED:20240628T160749Z
LAST-MODIFIED:20240629T175416Z
UID:10003677-1788462000-1788462000@wandelstadt-esslingen.de
SUMMARY:Fahrradwerkstatt
DESCRIPTION:Wir unterstützen Dich\, wenn Dein Fahrrad nicht mehr tut was es soll.\nFalls Ihr Interesse und Bedarf an unserer Fahrradwerkstatt habt\, meldet Euch per Mail: info@komma. \nVerantwortlich für die Werkstatt ist der Motorradclub Kuhle Wampe. Sie sind ein basisdemokratisch organisierter Motorradclub mit Sitz im Komma und sie betreiben eine Zweiradwerkstatt. Jeden Donnerstag ist die Fahrradwerkstatt geöffnet – bei gutem Wetter wird möglicherweise auch gegrillt.
URL:https://wandelstadt-esslingen.de/event/fahrrad-werkstatt/2026-09-03/
LOCATION:KOMMA\, Maille 5-9\, Esslingen\, Deutschland
END:VEVENT
BEGIN:VEVENT
DTSTART;TZID=Europe/Berlin:20260910T190000
DTEND;TZID=Europe/Berlin:20260910T190000
DTSTAMP:20260421T184356
CREATED:20240628T160749Z
LAST-MODIFIED:20240629T175416Z
UID:10003678-1789066800-1789066800@wandelstadt-esslingen.de
SUMMARY:Fahrradwerkstatt
DESCRIPTION:Wir unterstützen Dich\, wenn Dein Fahrrad nicht mehr tut was es soll.\nFalls Ihr Interesse und Bedarf an unserer Fahrradwerkstatt habt\, meldet Euch per Mail: info@komma. \nVerantwortlich für die Werkstatt ist der Motorradclub Kuhle Wampe. Sie sind ein basisdemokratisch organisierter Motorradclub mit Sitz im Komma und sie betreiben eine Zweiradwerkstatt. Jeden Donnerstag ist die Fahrradwerkstatt geöffnet – bei gutem Wetter wird möglicherweise auch gegrillt.
URL:https://wandelstadt-esslingen.de/event/fahrrad-werkstatt/2026-09-10/
LOCATION:KOMMA\, Maille 5-9\, Esslingen\, Deutschland
END:VEVENT
BEGIN:VEVENT
DTSTART;TZID=Europe/Berlin:20260917T190000
DTEND;TZID=Europe/Berlin:20260917T190000
DTSTAMP:20260421T184356
CREATED:20240628T160749Z
LAST-MODIFIED:20240629T175416Z
UID:10003679-1789671600-1789671600@wandelstadt-esslingen.de
SUMMARY:Fahrradwerkstatt
DESCRIPTION:Wir unterstützen Dich\, wenn Dein Fahrrad nicht mehr tut was es soll.\nFalls Ihr Interesse und Bedarf an unserer Fahrradwerkstatt habt\, meldet Euch per Mail: info@komma. \nVerantwortlich für die Werkstatt ist der Motorradclub Kuhle Wampe. Sie sind ein basisdemokratisch organisierter Motorradclub mit Sitz im Komma und sie betreiben eine Zweiradwerkstatt. Jeden Donnerstag ist die Fahrradwerkstatt geöffnet – bei gutem Wetter wird möglicherweise auch gegrillt.
URL:https://wandelstadt-esslingen.de/event/fahrrad-werkstatt/2026-09-17/
LOCATION:KOMMA\, Maille 5-9\, Esslingen\, Deutschland
END:VEVENT
BEGIN:VEVENT
DTSTART;TZID=Europe/Berlin:20260924T190000
DTEND;TZID=Europe/Berlin:20260924T190000
DTSTAMP:20260421T184356
CREATED:20240628T160749Z
LAST-MODIFIED:20240629T175416Z
UID:10003680-1790276400-1790276400@wandelstadt-esslingen.de
SUMMARY:Fahrradwerkstatt
DESCRIPTION:Wir unterstützen Dich\, wenn Dein Fahrrad nicht mehr tut was es soll.\nFalls Ihr Interesse und Bedarf an unserer Fahrradwerkstatt habt\, meldet Euch per Mail: info@komma. \nVerantwortlich für die Werkstatt ist der Motorradclub Kuhle Wampe. Sie sind ein basisdemokratisch organisierter Motorradclub mit Sitz im Komma und sie betreiben eine Zweiradwerkstatt. Jeden Donnerstag ist die Fahrradwerkstatt geöffnet – bei gutem Wetter wird möglicherweise auch gegrillt.
URL:https://wandelstadt-esslingen.de/event/fahrrad-werkstatt/2026-09-24/
LOCATION:KOMMA\, Maille 5-9\, Esslingen\, Deutschland
END:VEVENT
BEGIN:VEVENT
DTSTART;TZID=Europe/Berlin:20261001T190000
DTEND;TZID=Europe/Berlin:20261001T190000
DTSTAMP:20260421T184356
CREATED:20240628T160749Z
LAST-MODIFIED:20240629T175416Z
UID:10003681-1790881200-1790881200@wandelstadt-esslingen.de
SUMMARY:Fahrradwerkstatt
DESCRIPTION:Wir unterstützen Dich\, wenn Dein Fahrrad nicht mehr tut was es soll.\nFalls Ihr Interesse und Bedarf an unserer Fahrradwerkstatt habt\, meldet Euch per Mail: info@komma. \nVerantwortlich für die Werkstatt ist der Motorradclub Kuhle Wampe. Sie sind ein basisdemokratisch organisierter Motorradclub mit Sitz im Komma und sie betreiben eine Zweiradwerkstatt. Jeden Donnerstag ist die Fahrradwerkstatt geöffnet – bei gutem Wetter wird möglicherweise auch gegrillt.
URL:https://wandelstadt-esslingen.de/event/fahrrad-werkstatt/2026-10-01/
LOCATION:KOMMA\, Maille 5-9\, Esslingen\, Deutschland
END:VEVENT
BEGIN:VEVENT
DTSTART;TZID=Europe/Berlin:20261008T190000
DTEND;TZID=Europe/Berlin:20261008T190000
DTSTAMP:20260421T184356
CREATED:20240628T160749Z
LAST-MODIFIED:20240629T175416Z
UID:10003682-1791486000-1791486000@wandelstadt-esslingen.de
SUMMARY:Fahrradwerkstatt
DESCRIPTION:Wir unterstützen Dich\, wenn Dein Fahrrad nicht mehr tut was es soll.\nFalls Ihr Interesse und Bedarf an unserer Fahrradwerkstatt habt\, meldet Euch per Mail: info@komma. \nVerantwortlich für die Werkstatt ist der Motorradclub Kuhle Wampe. Sie sind ein basisdemokratisch organisierter Motorradclub mit Sitz im Komma und sie betreiben eine Zweiradwerkstatt. Jeden Donnerstag ist die Fahrradwerkstatt geöffnet – bei gutem Wetter wird möglicherweise auch gegrillt.
URL:https://wandelstadt-esslingen.de/event/fahrrad-werkstatt/2026-10-08/
LOCATION:KOMMA\, Maille 5-9\, Esslingen\, Deutschland
END:VEVENT
BEGIN:VEVENT
DTSTART;TZID=Europe/Berlin:20261015T190000
DTEND;TZID=Europe/Berlin:20261015T190000
DTSTAMP:20260421T184356
CREATED:20240628T160749Z
LAST-MODIFIED:20240629T175416Z
UID:10003683-1792090800-1792090800@wandelstadt-esslingen.de
SUMMARY:Fahrradwerkstatt
DESCRIPTION:Wir unterstützen Dich\, wenn Dein Fahrrad nicht mehr tut was es soll.\nFalls Ihr Interesse und Bedarf an unserer Fahrradwerkstatt habt\, meldet Euch per Mail: info@komma. \nVerantwortlich für die Werkstatt ist der Motorradclub Kuhle Wampe. Sie sind ein basisdemokratisch organisierter Motorradclub mit Sitz im Komma und sie betreiben eine Zweiradwerkstatt. Jeden Donnerstag ist die Fahrradwerkstatt geöffnet – bei gutem Wetter wird möglicherweise auch gegrillt.
URL:https://wandelstadt-esslingen.de/event/fahrrad-werkstatt/2026-10-15/
LOCATION:KOMMA\, Maille 5-9\, Esslingen\, Deutschland
END:VEVENT
BEGIN:VEVENT
DTSTART;TZID=Europe/Berlin:20261022T190000
DTEND;TZID=Europe/Berlin:20261022T190000
DTSTAMP:20260421T184356
CREATED:20240628T160749Z
LAST-MODIFIED:20240629T175416Z
UID:10003684-1792695600-1792695600@wandelstadt-esslingen.de
SUMMARY:Fahrradwerkstatt
DESCRIPTION:Wir unterstützen Dich\, wenn Dein Fahrrad nicht mehr tut was es soll.\nFalls Ihr Interesse und Bedarf an unserer Fahrradwerkstatt habt\, meldet Euch per Mail: info@komma. \nVerantwortlich für die Werkstatt ist der Motorradclub Kuhle Wampe. Sie sind ein basisdemokratisch organisierter Motorradclub mit Sitz im Komma und sie betreiben eine Zweiradwerkstatt. Jeden Donnerstag ist die Fahrradwerkstatt geöffnet – bei gutem Wetter wird möglicherweise auch gegrillt.
URL:https://wandelstadt-esslingen.de/event/fahrrad-werkstatt/2026-10-22/
LOCATION:KOMMA\, Maille 5-9\, Esslingen\, Deutschland
END:VEVENT
BEGIN:VEVENT
DTSTART;TZID=Europe/Berlin:20261029T190000
DTEND;TZID=Europe/Berlin:20261029T190000
DTSTAMP:20260421T184356
CREATED:20240628T160749Z
LAST-MODIFIED:20240629T175416Z
UID:10003685-1793300400-1793300400@wandelstadt-esslingen.de
SUMMARY:Fahrradwerkstatt
DESCRIPTION:Wir unterstützen Dich\, wenn Dein Fahrrad nicht mehr tut was es soll.\nFalls Ihr Interesse und Bedarf an unserer Fahrradwerkstatt habt\, meldet Euch per Mail: info@komma. \nVerantwortlich für die Werkstatt ist der Motorradclub Kuhle Wampe. Sie sind ein basisdemokratisch organisierter Motorradclub mit Sitz im Komma und sie betreiben eine Zweiradwerkstatt. Jeden Donnerstag ist die Fahrradwerkstatt geöffnet – bei gutem Wetter wird möglicherweise auch gegrillt.
URL:https://wandelstadt-esslingen.de/event/fahrrad-werkstatt/2026-10-29/
LOCATION:KOMMA\, Maille 5-9\, Esslingen\, Deutschland
END:VEVENT
BEGIN:VEVENT
DTSTART;TZID=Europe/Berlin:20261105T190000
DTEND;TZID=Europe/Berlin:20261105T190000
DTSTAMP:20260421T184356
CREATED:20240628T160749Z
LAST-MODIFIED:20240629T175416Z
UID:10003686-1793905200-1793905200@wandelstadt-esslingen.de
SUMMARY:Fahrradwerkstatt
DESCRIPTION:Wir unterstützen Dich\, wenn Dein Fahrrad nicht mehr tut was es soll.\nFalls Ihr Interesse und Bedarf an unserer Fahrradwerkstatt habt\, meldet Euch per Mail: info@komma. \nVerantwortlich für die Werkstatt ist der Motorradclub Kuhle Wampe. Sie sind ein basisdemokratisch organisierter Motorradclub mit Sitz im Komma und sie betreiben eine Zweiradwerkstatt. Jeden Donnerstag ist die Fahrradwerkstatt geöffnet – bei gutem Wetter wird möglicherweise auch gegrillt.
URL:https://wandelstadt-esslingen.de/event/fahrrad-werkstatt/2026-11-05/
LOCATION:KOMMA\, Maille 5-9\, Esslingen\, Deutschland
END:VEVENT
BEGIN:VEVENT
DTSTART;TZID=Europe/Berlin:20261112T190000
DTEND;TZID=Europe/Berlin:20261112T190000
DTSTAMP:20260421T184356
CREATED:20240628T160749Z
LAST-MODIFIED:20240629T175416Z
UID:10003687-1794510000-1794510000@wandelstadt-esslingen.de
SUMMARY:Fahrradwerkstatt
DESCRIPTION:Wir unterstützen Dich\, wenn Dein Fahrrad nicht mehr tut was es soll.\nFalls Ihr Interesse und Bedarf an unserer Fahrradwerkstatt habt\, meldet Euch per Mail: info@komma. \nVerantwortlich für die Werkstatt ist der Motorradclub Kuhle Wampe. Sie sind ein basisdemokratisch organisierter Motorradclub mit Sitz im Komma und sie betreiben eine Zweiradwerkstatt. Jeden Donnerstag ist die Fahrradwerkstatt geöffnet – bei gutem Wetter wird möglicherweise auch gegrillt.
URL:https://wandelstadt-esslingen.de/event/fahrrad-werkstatt/2026-11-12/
LOCATION:KOMMA\, Maille 5-9\, Esslingen\, Deutschland
END:VEVENT
BEGIN:VEVENT
DTSTART;TZID=Europe/Berlin:20261119T190000
DTEND;TZID=Europe/Berlin:20261119T190000
DTSTAMP:20260421T184356
CREATED:20240628T160749Z
LAST-MODIFIED:20240629T175416Z
UID:10003688-1795114800-1795114800@wandelstadt-esslingen.de
SUMMARY:Fahrradwerkstatt
DESCRIPTION:Wir unterstützen Dich\, wenn Dein Fahrrad nicht mehr tut was es soll.\nFalls Ihr Interesse und Bedarf an unserer Fahrradwerkstatt habt\, meldet Euch per Mail: info@komma. \nVerantwortlich für die Werkstatt ist der Motorradclub Kuhle Wampe. Sie sind ein basisdemokratisch organisierter Motorradclub mit Sitz im Komma und sie betreiben eine Zweiradwerkstatt. Jeden Donnerstag ist die Fahrradwerkstatt geöffnet – bei gutem Wetter wird möglicherweise auch gegrillt.
URL:https://wandelstadt-esslingen.de/event/fahrrad-werkstatt/2026-11-19/
LOCATION:KOMMA\, Maille 5-9\, Esslingen\, Deutschland
END:VEVENT
BEGIN:VEVENT
DTSTART;TZID=Europe/Berlin:20261126T190000
DTEND;TZID=Europe/Berlin:20261126T190000
DTSTAMP:20260421T184356
CREATED:20240628T160749Z
LAST-MODIFIED:20240629T175416Z
UID:10003689-1795719600-1795719600@wandelstadt-esslingen.de
SUMMARY:Fahrradwerkstatt
DESCRIPTION:Wir unterstützen Dich\, wenn Dein Fahrrad nicht mehr tut was es soll.\nFalls Ihr Interesse und Bedarf an unserer Fahrradwerkstatt habt\, meldet Euch per Mail: info@komma. \nVerantwortlich für die Werkstatt ist der Motorradclub Kuhle Wampe. Sie sind ein basisdemokratisch organisierter Motorradclub mit Sitz im Komma und sie betreiben eine Zweiradwerkstatt. Jeden Donnerstag ist die Fahrradwerkstatt geöffnet – bei gutem Wetter wird möglicherweise auch gegrillt.
URL:https://wandelstadt-esslingen.de/event/fahrrad-werkstatt/2026-11-26/
LOCATION:KOMMA\, Maille 5-9\, Esslingen\, Deutschland
END:VEVENT
BEGIN:VEVENT
DTSTART;TZID=Europe/Berlin:20261203T190000
DTEND;TZID=Europe/Berlin:20261203T190000
DTSTAMP:20260421T184356
CREATED:20240628T160749Z
LAST-MODIFIED:20240629T175416Z
UID:10003690-1796324400-1796324400@wandelstadt-esslingen.de
SUMMARY:Fahrradwerkstatt
DESCRIPTION:Wir unterstützen Dich\, wenn Dein Fahrrad nicht mehr tut was es soll.\nFalls Ihr Interesse und Bedarf an unserer Fahrradwerkstatt habt\, meldet Euch per Mail: info@komma. \nVerantwortlich für die Werkstatt ist der Motorradclub Kuhle Wampe. Sie sind ein basisdemokratisch organisierter Motorradclub mit Sitz im Komma und sie betreiben eine Zweiradwerkstatt. Jeden Donnerstag ist die Fahrradwerkstatt geöffnet – bei gutem Wetter wird möglicherweise auch gegrillt.
URL:https://wandelstadt-esslingen.de/event/fahrrad-werkstatt/2026-12-03/
LOCATION:KOMMA\, Maille 5-9\, Esslingen\, Deutschland
END:VEVENT
BEGIN:VEVENT
DTSTART;TZID=Europe/Berlin:20261210T190000
DTEND;TZID=Europe/Berlin:20261210T190000
DTSTAMP:20260421T184356
CREATED:20240628T160749Z
LAST-MODIFIED:20240629T175416Z
UID:10003691-1796929200-1796929200@wandelstadt-esslingen.de
SUMMARY:Fahrradwerkstatt
DESCRIPTION:Wir unterstützen Dich\, wenn Dein Fahrrad nicht mehr tut was es soll.\nFalls Ihr Interesse und Bedarf an unserer Fahrradwerkstatt habt\, meldet Euch per Mail: info@komma. \nVerantwortlich für die Werkstatt ist der Motorradclub Kuhle Wampe. Sie sind ein basisdemokratisch organisierter Motorradclub mit Sitz im Komma und sie betreiben eine Zweiradwerkstatt. Jeden Donnerstag ist die Fahrradwerkstatt geöffnet – bei gutem Wetter wird möglicherweise auch gegrillt.
URL:https://wandelstadt-esslingen.de/event/fahrrad-werkstatt/2026-12-10/
LOCATION:KOMMA\, Maille 5-9\, Esslingen\, Deutschland
END:VEVENT
BEGIN:VEVENT
DTSTART;TZID=Europe/Berlin:20261217T190000
DTEND;TZID=Europe/Berlin:20261217T190000
DTSTAMP:20260421T184356
CREATED:20240628T160749Z
LAST-MODIFIED:20240629T175416Z
UID:10003692-1797534000-1797534000@wandelstadt-esslingen.de
SUMMARY:Fahrradwerkstatt
DESCRIPTION:Wir unterstützen Dich\, wenn Dein Fahrrad nicht mehr tut was es soll.\nFalls Ihr Interesse und Bedarf an unserer Fahrradwerkstatt habt\, meldet Euch per Mail: info@komma. \nVerantwortlich für die Werkstatt ist der Motorradclub Kuhle Wampe. Sie sind ein basisdemokratisch organisierter Motorradclub mit Sitz im Komma und sie betreiben eine Zweiradwerkstatt. Jeden Donnerstag ist die Fahrradwerkstatt geöffnet – bei gutem Wetter wird möglicherweise auch gegrillt.
URL:https://wandelstadt-esslingen.de/event/fahrrad-werkstatt/2026-12-17/
LOCATION:KOMMA\, Maille 5-9\, Esslingen\, Deutschland
END:VEVENT
BEGIN:VEVENT
DTSTART;TZID=Europe/Berlin:20261224T190000
DTEND;TZID=Europe/Berlin:20261224T190000
DTSTAMP:20260421T184356
CREATED:20240628T160749Z
LAST-MODIFIED:20240629T175416Z
UID:10003693-1798138800-1798138800@wandelstadt-esslingen.de
SUMMARY:Fahrradwerkstatt
DESCRIPTION:Wir unterstützen Dich\, wenn Dein Fahrrad nicht mehr tut was es soll.\nFalls Ihr Interesse und Bedarf an unserer Fahrradwerkstatt habt\, meldet Euch per Mail: info@komma. \nVerantwortlich für die Werkstatt ist der Motorradclub Kuhle Wampe. Sie sind ein basisdemokratisch organisierter Motorradclub mit Sitz im Komma und sie betreiben eine Zweiradwerkstatt. Jeden Donnerstag ist die Fahrradwerkstatt geöffnet – bei gutem Wetter wird möglicherweise auch gegrillt.
URL:https://wandelstadt-esslingen.de/event/fahrrad-werkstatt/2026-12-24/
LOCATION:KOMMA\, Maille 5-9\, Esslingen\, Deutschland
END:VEVENT
BEGIN:VEVENT
DTSTART;TZID=Europe/Berlin:20261231T190000
DTEND;TZID=Europe/Berlin:20261231T190000
DTSTAMP:20260421T184356
CREATED:20240628T160749Z
LAST-MODIFIED:20240629T175416Z
UID:10003694-1798743600-1798743600@wandelstadt-esslingen.de
SUMMARY:Fahrradwerkstatt
DESCRIPTION:Wir unterstützen Dich\, wenn Dein Fahrrad nicht mehr tut was es soll.\nFalls Ihr Interesse und Bedarf an unserer Fahrradwerkstatt habt\, meldet Euch per Mail: info@komma. \nVerantwortlich für die Werkstatt ist der Motorradclub Kuhle Wampe. Sie sind ein basisdemokratisch organisierter Motorradclub mit Sitz im Komma und sie betreiben eine Zweiradwerkstatt. Jeden Donnerstag ist die Fahrradwerkstatt geöffnet – bei gutem Wetter wird möglicherweise auch gegrillt.
URL:https://wandelstadt-esslingen.de/event/fahrrad-werkstatt/2026-12-31/
LOCATION:KOMMA\, Maille 5-9\, Esslingen\, Deutschland
END:VEVENT
BEGIN:VEVENT
DTSTART;TZID=Europe/Berlin:20270107T190000
DTEND;TZID=Europe/Berlin:20270107T190000
DTSTAMP:20260421T184356
CREATED:20240628T160749Z
LAST-MODIFIED:20240629T175416Z
UID:10003695-1799348400-1799348400@wandelstadt-esslingen.de
SUMMARY:Fahrradwerkstatt
DESCRIPTION:Wir unterstützen Dich\, wenn Dein Fahrrad nicht mehr tut was es soll.\nFalls Ihr Interesse und Bedarf an unserer Fahrradwerkstatt habt\, meldet Euch per Mail: info@komma. \nVerantwortlich für die Werkstatt ist der Motorradclub Kuhle Wampe. Sie sind ein basisdemokratisch organisierter Motorradclub mit Sitz im Komma und sie betreiben eine Zweiradwerkstatt. Jeden Donnerstag ist die Fahrradwerkstatt geöffnet – bei gutem Wetter wird möglicherweise auch gegrillt.
URL:https://wandelstadt-esslingen.de/event/fahrrad-werkstatt/2027-01-07/
LOCATION:KOMMA\, Maille 5-9\, Esslingen\, Deutschland
END:VEVENT
BEGIN:VEVENT
DTSTART;TZID=Europe/Berlin:20270114T190000
DTEND;TZID=Europe/Berlin:20270114T190000
DTSTAMP:20260421T184356
CREATED:20240628T160749Z
LAST-MODIFIED:20240629T175416Z
UID:10003696-1799953200-1799953200@wandelstadt-esslingen.de
SUMMARY:Fahrradwerkstatt
DESCRIPTION:Wir unterstützen Dich\, wenn Dein Fahrrad nicht mehr tut was es soll.\nFalls Ihr Interesse und Bedarf an unserer Fahrradwerkstatt habt\, meldet Euch per Mail: info@komma. \nVerantwortlich für die Werkstatt ist der Motorradclub Kuhle Wampe. Sie sind ein basisdemokratisch organisierter Motorradclub mit Sitz im Komma und sie betreiben eine Zweiradwerkstatt. Jeden Donnerstag ist die Fahrradwerkstatt geöffnet – bei gutem Wetter wird möglicherweise auch gegrillt.
URL:https://wandelstadt-esslingen.de/event/fahrrad-werkstatt/2027-01-14/
LOCATION:KOMMA\, Maille 5-9\, Esslingen\, Deutschland
END:VEVENT
BEGIN:VEVENT
DTSTART;TZID=Europe/Berlin:20270121T190000
DTEND;TZID=Europe/Berlin:20270121T190000
DTSTAMP:20260421T184356
CREATED:20240628T160749Z
LAST-MODIFIED:20240629T175416Z
UID:10003697-1800558000-1800558000@wandelstadt-esslingen.de
SUMMARY:Fahrradwerkstatt
DESCRIPTION:Wir unterstützen Dich\, wenn Dein Fahrrad nicht mehr tut was es soll.\nFalls Ihr Interesse und Bedarf an unserer Fahrradwerkstatt habt\, meldet Euch per Mail: info@komma. \nVerantwortlich für die Werkstatt ist der Motorradclub Kuhle Wampe. Sie sind ein basisdemokratisch organisierter Motorradclub mit Sitz im Komma und sie betreiben eine Zweiradwerkstatt. Jeden Donnerstag ist die Fahrradwerkstatt geöffnet – bei gutem Wetter wird möglicherweise auch gegrillt.
URL:https://wandelstadt-esslingen.de/event/fahrrad-werkstatt/2027-01-21/
LOCATION:KOMMA\, Maille 5-9\, Esslingen\, Deutschland
END:VEVENT
BEGIN:VEVENT
DTSTART;TZID=Europe/Berlin:20270128T190000
DTEND;TZID=Europe/Berlin:20270128T190000
DTSTAMP:20260421T184356
CREATED:20240628T160749Z
LAST-MODIFIED:20240629T175416Z
UID:10003698-1801162800-1801162800@wandelstadt-esslingen.de
SUMMARY:Fahrradwerkstatt
DESCRIPTION:Wir unterstützen Dich\, wenn Dein Fahrrad nicht mehr tut was es soll.\nFalls Ihr Interesse und Bedarf an unserer Fahrradwerkstatt habt\, meldet Euch per Mail: info@komma. \nVerantwortlich für die Werkstatt ist der Motorradclub Kuhle Wampe. Sie sind ein basisdemokratisch organisierter Motorradclub mit Sitz im Komma und sie betreiben eine Zweiradwerkstatt. Jeden Donnerstag ist die Fahrradwerkstatt geöffnet – bei gutem Wetter wird möglicherweise auch gegrillt.
URL:https://wandelstadt-esslingen.de/event/fahrrad-werkstatt/2027-01-28/
LOCATION:KOMMA\, Maille 5-9\, Esslingen\, Deutschland
END:VEVENT
BEGIN:VEVENT
DTSTART;TZID=Europe/Berlin:20270204T190000
DTEND;TZID=Europe/Berlin:20270204T190000
DTSTAMP:20260421T184356
CREATED:20240628T160749Z
LAST-MODIFIED:20240629T175416Z
UID:10003699-1801767600-1801767600@wandelstadt-esslingen.de
SUMMARY:Fahrradwerkstatt
DESCRIPTION:Wir unterstützen Dich\, wenn Dein Fahrrad nicht mehr tut was es soll.\nFalls Ihr Interesse und Bedarf an unserer Fahrradwerkstatt habt\, meldet Euch per Mail: info@komma. \nVerantwortlich für die Werkstatt ist der Motorradclub Kuhle Wampe. Sie sind ein basisdemokratisch organisierter Motorradclub mit Sitz im Komma und sie betreiben eine Zweiradwerkstatt. Jeden Donnerstag ist die Fahrradwerkstatt geöffnet – bei gutem Wetter wird möglicherweise auch gegrillt.
URL:https://wandelstadt-esslingen.de/event/fahrrad-werkstatt/2027-02-04/
LOCATION:KOMMA\, Maille 5-9\, Esslingen\, Deutschland
END:VEVENT
END:VCALENDAR