BEGIN:VCALENDAR
VERSION:2.0
PRODID:-//Wandelstadt Esslingen - ECPv6.15.20//NONSGML v1.0//EN
CALSCALE:GREGORIAN
METHOD:PUBLISH
X-ORIGINAL-URL:https://wandelstadt-esslingen.de
X-WR-CALDESC:Veranstaltungen für Wandelstadt Esslingen
REFRESH-INTERVAL;VALUE=DURATION:PT1H
X-Robots-Tag:noindex
X-PUBLISHED-TTL:PT1H
BEGIN:VTIMEZONE
TZID:Europe/Berlin
BEGIN:DAYLIGHT
TZOFFSETFROM:+0100
TZOFFSETTO:+0200
TZNAME:CEST
DTSTART:20240331T010000
END:DAYLIGHT
BEGIN:STANDARD
TZOFFSETFROM:+0200
TZOFFSETTO:+0100
TZNAME:CET
DTSTART:20241027T010000
END:STANDARD
BEGIN:DAYLIGHT
TZOFFSETFROM:+0100
TZOFFSETTO:+0200
TZNAME:CEST
DTSTART:20250330T010000
END:DAYLIGHT
BEGIN:STANDARD
TZOFFSETFROM:+0200
TZOFFSETTO:+0100
TZNAME:CET
DTSTART:20251026T010000
END:STANDARD
BEGIN:DAYLIGHT
TZOFFSETFROM:+0100
TZOFFSETTO:+0200
TZNAME:CEST
DTSTART:20260329T010000
END:DAYLIGHT
BEGIN:STANDARD
TZOFFSETFROM:+0200
TZOFFSETTO:+0100
TZNAME:CET
DTSTART:20261025T010000
END:STANDARD
BEGIN:DAYLIGHT
TZOFFSETFROM:+0100
TZOFFSETTO:+0200
TZNAME:CEST
DTSTART:20270328T010000
END:DAYLIGHT
BEGIN:STANDARD
TZOFFSETFROM:+0200
TZOFFSETTO:+0100
TZNAME:CET
DTSTART:20271031T010000
END:STANDARD
END:VTIMEZONE
BEGIN:VEVENT
DTSTART;TZID=Europe/Berlin:20260307T190000
DTEND;TZID=Europe/Berlin:20260307T223000
DTSTAMP:20260422T090337
CREATED:20250427T000535Z
LAST-MODIFIED:20251125T194843Z
UID:10004969-1772910000-1772922600@wandelstadt-esslingen.de
SUMMARY:Makerspace Esslingen Workshop
DESCRIPTION:Zusammen wollen wir von- und miteinander lernen! Im Makerspace Esslingen beschäftigen wir uns mit Technik im weitestmöglichen Sinne. Von Elektronik und 3D-Druck über Programmierung bis IT-Sicherheit ist alles dabei. \nSeit Januar 2021 treffen wir uns jeden Monat zu einem Workshop und bringen uns gegenseitig den Umgang mit Technik bei. Dabei wollen wir uns gegenseitig motivieren\, die Technik\, die uns im Alltag begleitet\, nicht nur zu nutzen\, sondern auch zu verstehen. Zusammen entwickeln wir beispielsweise Platinen\, drucken Teile mit dem 3D-Drucker\, programmieren unsere eigene Software oder beteiligen uns mit unserem Team „Zwiebel“ an IT-Security-Wettbewerben\, sogenannten CTFs. Jeden ersten Samstag im Monat treffen wir uns im Forum Esslingen und tauschen uns im Rahmen eines Workshops über ein Thema aus. \nIm Mastadon-Profil finden sich in der Regel eine Woche vorher Informationen über Thema und den Ort.
URL:https://wandelstadt-esslingen.de/event/makerspace-esslingen-workshop-2/2026-03-07/
LOCATION:Essembly – Der Technikraum in Esslingen\, Milchstraße 17\, Esslingen\, 73728\, Deutschland
CATEGORIES:Beteiligung,Vernetzungsveranstaltung
END:VEVENT
BEGIN:VEVENT
DTSTART;TZID=Europe/Berlin:20260207T190000
DTEND;TZID=Europe/Berlin:20260207T223000
DTSTAMP:20260422T090337
CREATED:20250427T000535Z
LAST-MODIFIED:20251125T194843Z
UID:10004968-1770490800-1770503400@wandelstadt-esslingen.de
SUMMARY:Makerspace Esslingen Workshop
DESCRIPTION:Zusammen wollen wir von- und miteinander lernen! Im Makerspace Esslingen beschäftigen wir uns mit Technik im weitestmöglichen Sinne. Von Elektronik und 3D-Druck über Programmierung bis IT-Sicherheit ist alles dabei. \nSeit Januar 2021 treffen wir uns jeden Monat zu einem Workshop und bringen uns gegenseitig den Umgang mit Technik bei. Dabei wollen wir uns gegenseitig motivieren\, die Technik\, die uns im Alltag begleitet\, nicht nur zu nutzen\, sondern auch zu verstehen. Zusammen entwickeln wir beispielsweise Platinen\, drucken Teile mit dem 3D-Drucker\, programmieren unsere eigene Software oder beteiligen uns mit unserem Team „Zwiebel“ an IT-Security-Wettbewerben\, sogenannten CTFs. Jeden ersten Samstag im Monat treffen wir uns im Forum Esslingen und tauschen uns im Rahmen eines Workshops über ein Thema aus. \nIm Mastadon-Profil finden sich in der Regel eine Woche vorher Informationen über Thema und den Ort.
URL:https://wandelstadt-esslingen.de/event/makerspace-esslingen-workshop-2/2026-02-07/
LOCATION:Essembly – Der Technikraum in Esslingen\, Milchstraße 17\, Esslingen\, 73728\, Deutschland
CATEGORIES:Beteiligung,Vernetzungsveranstaltung
END:VEVENT
BEGIN:VEVENT
DTSTART;TZID=Europe/Berlin:20251206T190000
DTEND;TZID=Europe/Berlin:20251206T223000
DTSTAMP:20260422T090337
CREATED:20250427T000535Z
LAST-MODIFIED:20251125T194843Z
UID:10004966-1765047600-1765060200@wandelstadt-esslingen.de
SUMMARY:Makerspace Esslingen Workshop
DESCRIPTION:Zusammen wollen wir von- und miteinander lernen! Im Makerspace Esslingen beschäftigen wir uns mit Technik im weitestmöglichen Sinne. Von Elektronik und 3D-Druck über Programmierung bis IT-Sicherheit ist alles dabei. \nSeit Januar 2021 treffen wir uns jeden Monat zu einem Workshop und bringen uns gegenseitig den Umgang mit Technik bei. Dabei wollen wir uns gegenseitig motivieren\, die Technik\, die uns im Alltag begleitet\, nicht nur zu nutzen\, sondern auch zu verstehen. Zusammen entwickeln wir beispielsweise Platinen\, drucken Teile mit dem 3D-Drucker\, programmieren unsere eigene Software oder beteiligen uns mit unserem Team „Zwiebel“ an IT-Security-Wettbewerben\, sogenannten CTFs. Jeden ersten Samstag im Monat treffen wir uns im Forum Esslingen und tauschen uns im Rahmen eines Workshops über ein Thema aus. \nIm Mastadon-Profil finden sich in der Regel eine Woche vorher Informationen über Thema und den Ort.
URL:https://wandelstadt-esslingen.de/event/makerspace-esslingen-workshop-2/2025-12-06/
LOCATION:Essembly – Der Technikraum in Esslingen\, Milchstraße 17\, Esslingen\, 73728\, Deutschland
CATEGORIES:Beteiligung,Vernetzungsveranstaltung
END:VEVENT
BEGIN:VEVENT
DTSTART;TZID=Europe/Berlin:20251101T190000
DTEND;TZID=Europe/Berlin:20251101T223000
DTSTAMP:20260422T090337
CREATED:20250427T000535Z
LAST-MODIFIED:20251125T194843Z
UID:10004965-1762023600-1762036200@wandelstadt-esslingen.de
SUMMARY:Makerspace Esslingen Workshop
DESCRIPTION:Zusammen wollen wir von- und miteinander lernen! Im Makerspace Esslingen beschäftigen wir uns mit Technik im weitestmöglichen Sinne. Von Elektronik und 3D-Druck über Programmierung bis IT-Sicherheit ist alles dabei. \nSeit Januar 2021 treffen wir uns jeden Monat zu einem Workshop und bringen uns gegenseitig den Umgang mit Technik bei. Dabei wollen wir uns gegenseitig motivieren\, die Technik\, die uns im Alltag begleitet\, nicht nur zu nutzen\, sondern auch zu verstehen. Zusammen entwickeln wir beispielsweise Platinen\, drucken Teile mit dem 3D-Drucker\, programmieren unsere eigene Software oder beteiligen uns mit unserem Team „Zwiebel“ an IT-Security-Wettbewerben\, sogenannten CTFs. Jeden ersten Samstag im Monat treffen wir uns im Forum Esslingen und tauschen uns im Rahmen eines Workshops über ein Thema aus. \nIm Mastadon-Profil finden sich in der Regel eine Woche vorher Informationen über Thema und den Ort.
URL:https://wandelstadt-esslingen.de/event/makerspace-esslingen-workshop-2/2025-11-01/
LOCATION:Essembly – Der Technikraum in Esslingen\, Milchstraße 17\, Esslingen\, 73728\, Deutschland
CATEGORIES:Beteiligung,Vernetzungsveranstaltung
END:VEVENT
BEGIN:VEVENT
DTSTART;TZID=Europe/Berlin:20251004T190000
DTEND;TZID=Europe/Berlin:20251004T223000
DTSTAMP:20260422T090337
CREATED:20250427T000535Z
LAST-MODIFIED:20251125T194843Z
UID:10004964-1759604400-1759617000@wandelstadt-esslingen.de
SUMMARY:Makerspace Esslingen Workshop
DESCRIPTION:Zusammen wollen wir von- und miteinander lernen! Im Makerspace Esslingen beschäftigen wir uns mit Technik im weitestmöglichen Sinne. Von Elektronik und 3D-Druck über Programmierung bis IT-Sicherheit ist alles dabei. \nSeit Januar 2021 treffen wir uns jeden Monat zu einem Workshop und bringen uns gegenseitig den Umgang mit Technik bei. Dabei wollen wir uns gegenseitig motivieren\, die Technik\, die uns im Alltag begleitet\, nicht nur zu nutzen\, sondern auch zu verstehen. Zusammen entwickeln wir beispielsweise Platinen\, drucken Teile mit dem 3D-Drucker\, programmieren unsere eigene Software oder beteiligen uns mit unserem Team „Zwiebel“ an IT-Security-Wettbewerben\, sogenannten CTFs. Jeden ersten Samstag im Monat treffen wir uns im Forum Esslingen und tauschen uns im Rahmen eines Workshops über ein Thema aus. \nIm Mastadon-Profil finden sich in der Regel eine Woche vorher Informationen über Thema und den Ort.
URL:https://wandelstadt-esslingen.de/event/makerspace-esslingen-workshop-2/2025-10-04/
LOCATION:Essembly – Der Technikraum in Esslingen\, Milchstraße 17\, Esslingen\, 73728\, Deutschland
CATEGORIES:Beteiligung,Vernetzungsveranstaltung
END:VEVENT
BEGIN:VEVENT
DTSTART;TZID=Europe/Berlin:20250906T190000
DTEND;TZID=Europe/Berlin:20250906T223000
DTSTAMP:20260422T090337
CREATED:20250427T000535Z
LAST-MODIFIED:20251125T194843Z
UID:10004963-1757185200-1757197800@wandelstadt-esslingen.de
SUMMARY:Makerspace Esslingen Workshop
DESCRIPTION:Zusammen wollen wir von- und miteinander lernen! Im Makerspace Esslingen beschäftigen wir uns mit Technik im weitestmöglichen Sinne. Von Elektronik und 3D-Druck über Programmierung bis IT-Sicherheit ist alles dabei. \nSeit Januar 2021 treffen wir uns jeden Monat zu einem Workshop und bringen uns gegenseitig den Umgang mit Technik bei. Dabei wollen wir uns gegenseitig motivieren\, die Technik\, die uns im Alltag begleitet\, nicht nur zu nutzen\, sondern auch zu verstehen. Zusammen entwickeln wir beispielsweise Platinen\, drucken Teile mit dem 3D-Drucker\, programmieren unsere eigene Software oder beteiligen uns mit unserem Team „Zwiebel“ an IT-Security-Wettbewerben\, sogenannten CTFs. Jeden ersten Samstag im Monat treffen wir uns im Forum Esslingen und tauschen uns im Rahmen eines Workshops über ein Thema aus. \nIm Mastadon-Profil finden sich in der Regel eine Woche vorher Informationen über Thema und den Ort.
URL:https://wandelstadt-esslingen.de/event/makerspace-esslingen-workshop-2/2025-09-06/
LOCATION:Essembly – Der Technikraum in Esslingen\, Milchstraße 17\, Esslingen\, 73728\, Deutschland
CATEGORIES:Beteiligung,Vernetzungsveranstaltung
END:VEVENT
BEGIN:VEVENT
DTSTART;TZID=Europe/Berlin:20250802T190000
DTEND;TZID=Europe/Berlin:20250802T223000
DTSTAMP:20260422T090337
CREATED:20250427T000535Z
LAST-MODIFIED:20251125T194843Z
UID:10004962-1754161200-1754173800@wandelstadt-esslingen.de
SUMMARY:Makerspace Esslingen Workshop
DESCRIPTION:Zusammen wollen wir von- und miteinander lernen! Im Makerspace Esslingen beschäftigen wir uns mit Technik im weitestmöglichen Sinne. Von Elektronik und 3D-Druck über Programmierung bis IT-Sicherheit ist alles dabei. \nSeit Januar 2021 treffen wir uns jeden Monat zu einem Workshop und bringen uns gegenseitig den Umgang mit Technik bei. Dabei wollen wir uns gegenseitig motivieren\, die Technik\, die uns im Alltag begleitet\, nicht nur zu nutzen\, sondern auch zu verstehen. Zusammen entwickeln wir beispielsweise Platinen\, drucken Teile mit dem 3D-Drucker\, programmieren unsere eigene Software oder beteiligen uns mit unserem Team „Zwiebel“ an IT-Security-Wettbewerben\, sogenannten CTFs. Jeden ersten Samstag im Monat treffen wir uns im Forum Esslingen und tauschen uns im Rahmen eines Workshops über ein Thema aus. \nIm Mastadon-Profil finden sich in der Regel eine Woche vorher Informationen über Thema und den Ort.
URL:https://wandelstadt-esslingen.de/event/makerspace-esslingen-workshop-2/2025-08-02/
LOCATION:Essembly – Der Technikraum in Esslingen\, Milchstraße 17\, Esslingen\, 73728\, Deutschland
CATEGORIES:Beteiligung,Vernetzungsveranstaltung
END:VEVENT
BEGIN:VEVENT
DTSTART;TZID=Europe/Berlin:20250705T190000
DTEND;TZID=Europe/Berlin:20250705T223000
DTSTAMP:20260422T090337
CREATED:20250427T000535Z
LAST-MODIFIED:20251125T194843Z
UID:10004961-1751742000-1751754600@wandelstadt-esslingen.de
SUMMARY:Makerspace Esslingen Workshop
DESCRIPTION:Zusammen wollen wir von- und miteinander lernen! Im Makerspace Esslingen beschäftigen wir uns mit Technik im weitestmöglichen Sinne. Von Elektronik und 3D-Druck über Programmierung bis IT-Sicherheit ist alles dabei. \nSeit Januar 2021 treffen wir uns jeden Monat zu einem Workshop und bringen uns gegenseitig den Umgang mit Technik bei. Dabei wollen wir uns gegenseitig motivieren\, die Technik\, die uns im Alltag begleitet\, nicht nur zu nutzen\, sondern auch zu verstehen. Zusammen entwickeln wir beispielsweise Platinen\, drucken Teile mit dem 3D-Drucker\, programmieren unsere eigene Software oder beteiligen uns mit unserem Team „Zwiebel“ an IT-Security-Wettbewerben\, sogenannten CTFs. Jeden ersten Samstag im Monat treffen wir uns im Forum Esslingen und tauschen uns im Rahmen eines Workshops über ein Thema aus. \nIm Mastadon-Profil finden sich in der Regel eine Woche vorher Informationen über Thema und den Ort.
URL:https://wandelstadt-esslingen.de/event/makerspace-esslingen-workshop-2/2025-07-05/
LOCATION:Essembly – Der Technikraum in Esslingen\, Milchstraße 17\, Esslingen\, 73728\, Deutschland
CATEGORIES:Beteiligung,Vernetzungsveranstaltung
END:VEVENT
BEGIN:VEVENT
DTSTART;TZID=Europe/Berlin:20250607T190000
DTEND;TZID=Europe/Berlin:20250607T223000
DTSTAMP:20260422T090337
CREATED:20250427T000535Z
LAST-MODIFIED:20251125T194843Z
UID:10004960-1749322800-1749335400@wandelstadt-esslingen.de
SUMMARY:Makerspace Esslingen Workshop
DESCRIPTION:Zusammen wollen wir von- und miteinander lernen! Im Makerspace Esslingen beschäftigen wir uns mit Technik im weitestmöglichen Sinne. Von Elektronik und 3D-Druck über Programmierung bis IT-Sicherheit ist alles dabei. \nSeit Januar 2021 treffen wir uns jeden Monat zu einem Workshop und bringen uns gegenseitig den Umgang mit Technik bei. Dabei wollen wir uns gegenseitig motivieren\, die Technik\, die uns im Alltag begleitet\, nicht nur zu nutzen\, sondern auch zu verstehen. Zusammen entwickeln wir beispielsweise Platinen\, drucken Teile mit dem 3D-Drucker\, programmieren unsere eigene Software oder beteiligen uns mit unserem Team „Zwiebel“ an IT-Security-Wettbewerben\, sogenannten CTFs. Jeden ersten Samstag im Monat treffen wir uns im Forum Esslingen und tauschen uns im Rahmen eines Workshops über ein Thema aus. \nIm Mastadon-Profil finden sich in der Regel eine Woche vorher Informationen über Thema und den Ort.
URL:https://wandelstadt-esslingen.de/event/makerspace-esslingen-workshop-2/2025-06-07/
LOCATION:Essembly – Der Technikraum in Esslingen\, Milchstraße 17\, Esslingen\, 73728\, Deutschland
CATEGORIES:Beteiligung,Vernetzungsveranstaltung
END:VEVENT
BEGIN:VEVENT
DTSTART;TZID=Europe/Berlin:20250503T190000
DTEND;TZID=Europe/Berlin:20250503T223000
DTSTAMP:20260422T090337
CREATED:20250427T000535Z
LAST-MODIFIED:20251125T194843Z
UID:10004959-1746298800-1746311400@wandelstadt-esslingen.de
SUMMARY:Makerspace Esslingen Workshop
DESCRIPTION:Zusammen wollen wir von- und miteinander lernen! Im Makerspace Esslingen beschäftigen wir uns mit Technik im weitestmöglichen Sinne. Von Elektronik und 3D-Druck über Programmierung bis IT-Sicherheit ist alles dabei. \nSeit Januar 2021 treffen wir uns jeden Monat zu einem Workshop und bringen uns gegenseitig den Umgang mit Technik bei. Dabei wollen wir uns gegenseitig motivieren\, die Technik\, die uns im Alltag begleitet\, nicht nur zu nutzen\, sondern auch zu verstehen. Zusammen entwickeln wir beispielsweise Platinen\, drucken Teile mit dem 3D-Drucker\, programmieren unsere eigene Software oder beteiligen uns mit unserem Team „Zwiebel“ an IT-Security-Wettbewerben\, sogenannten CTFs. Jeden ersten Samstag im Monat treffen wir uns im Forum Esslingen und tauschen uns im Rahmen eines Workshops über ein Thema aus. \nIm Mastadon-Profil finden sich in der Regel eine Woche vorher Informationen über Thema und den Ort.
URL:https://wandelstadt-esslingen.de/event/makerspace-esslingen-workshop-2/2025-05-03/
LOCATION:Essembly – Der Technikraum in Esslingen\, Milchstraße 17\, Esslingen\, 73728\, Deutschland
CATEGORIES:Beteiligung,Vernetzungsveranstaltung
END:VEVENT
BEGIN:VEVENT
DTSTART;TZID=Europe/Berlin:20250503T140000
DTEND;TZID=Europe/Berlin:20250503T200000
DTSTAMP:20260422T090337
CREATED:20250427T000034Z
LAST-MODIFIED:20250427T000034Z
UID:10005383-1746280800-1746302400@wandelstadt-esslingen.de
SUMMARY:Eröffnungsfest Makerspace Essembly
DESCRIPTION:Am 03. Mai öffnen wir ab 14:00 Uhr unsere Türen und stellen uns und unseren Space vor. Wir zeigen dir\, was wir alles in den Bereichen Elektronik\, 3D-Druck\, Programmierung und vielen mehr tun\, wer die Menschen hinter der Essembly sind und wie du mitmachen kannst. \nIn verschiedenen Stationen stellen wir dir vor\, womit wir uns in der Essembly beschäftigen\, woran wir gerade basteln oder wie wir uns engagieren. Folgende Themen stellen wir dir vor: \n\nWas ist die Essembly?\nMikrocontroller mit Arduino\n3D-Druck und CAD\nElektronik mit Breadboards\nLinux und das Linuxcafé Esslingen\n\nIn Zukunft finden unsere Workshops und Vorträge in der Essembly in der Milchstraße 17 statt. Auf unseren Kanälen halten wir dich über unsere Veranstaltungen auf dem Laufenden. \nDa sich unser Werkstattbereich noch im Aufbau befindet\, freuen wir uns über Werkzeugspenden jeglicher Art. Diese kannst du gerne bei der Eröffnung mitbringen und wir schauen uns an\, was wir noch benötigen. \nWo kann ich mich über zukünftige Veranstaltungen informieren lassen?\nAuf unserer Kontakt-Seite findest du unseren Newsletter. In unserem Matrix-Chat\, auf Mastodon\, Instagram oder X veröffentlichen wir unsere Veranstaltungen ebenfalls.
URL:https://wandelstadt-esslingen.de/event/eroeffnungsfest-makerspace-essembly/
LOCATION:Essembly – Der Technikraum in Esslingen\, Milchstraße 17\, Esslingen\, 73728\, Deutschland
END:VEVENT
BEGIN:VEVENT
DTSTART;TZID=Europe/Berlin:20250405T190000
DTEND;TZID=Europe/Berlin:20250405T223000
DTSTAMP:20260422T090337
CREATED:20250326T180914Z
LAST-MODIFIED:20250326T180914Z
UID:10004958-1743879600-1743892200@wandelstadt-esslingen.de
SUMMARY:Makerspace Esslingen Workshop
DESCRIPTION:Zusammen wollen wir von- und miteinander lernen! Im Makerspace Esslingen beschäftigen wir uns mit Technik im weitestmöglichen Sinne. Von Elektronik und 3D-Druck über Programmierung bis IT-Sicherheit ist alles dabei. \nSeit Januar 2021 treffen wir uns jeden Monat zu einem Workshop und bringen uns gegenseitig den Umgang mit Technik bei. Dabei wollen wir uns gegenseitig motivieren\, die Technik\, die uns im Alltag begleitet\, nicht nur zu nutzen\, sondern auch zu verstehen. Zusammen entwickeln wir beispielsweise Platinen\, drucken Teile mit dem 3D-Drucker\, programmieren unsere eigene Software oder beteiligen uns mit unserem Team „Zwiebel“ an IT-Security-Wettbewerben\, sogenannten CTFs. Jeden ersten Samstag im Monat treffen wir uns im Forum Esslingen und tauschen uns im Rahmen eines Workshops über ein Thema aus. \nGelegentlich finden die Treffen auch im Komma statt. Im Mastadon-Profil finden sich in der Regel eine Woche vorher Informationen über Thema und den Ort.
URL:https://wandelstadt-esslingen.de/event/makerspace-esslingen-workshop/
LOCATION:Forum Esslingen – Zentrum für Bürgerengagement\, Schelztorstraße 38\, Esslingen\, Deutschland
CATEGORIES:Beteiligung,Vernetzungsveranstaltung
END:VEVENT
END:VCALENDAR