BEGIN:VCALENDAR
VERSION:2.0
PRODID:-//Wandelstadt Esslingen - ECPv6.15.20//NONSGML v1.0//EN
CALSCALE:GREGORIAN
METHOD:PUBLISH
X-WR-CALNAME:Wandelstadt Esslingen
X-ORIGINAL-URL:https://wandelstadt-esslingen.de
X-WR-CALDESC:Veranstaltungen für Wandelstadt Esslingen
REFRESH-INTERVAL;VALUE=DURATION:PT1H
X-Robots-Tag:noindex
X-PUBLISHED-TTL:PT1H
BEGIN:VTIMEZONE
TZID:Europe/Berlin
BEGIN:DAYLIGHT
TZOFFSETFROM:+0100
TZOFFSETTO:+0200
TZNAME:CEST
DTSTART:20250330T010000
END:DAYLIGHT
BEGIN:STANDARD
TZOFFSETFROM:+0200
TZOFFSETTO:+0100
TZNAME:CET
DTSTART:20251026T010000
END:STANDARD
BEGIN:DAYLIGHT
TZOFFSETFROM:+0100
TZOFFSETTO:+0200
TZNAME:CEST
DTSTART:20260329T010000
END:DAYLIGHT
BEGIN:STANDARD
TZOFFSETFROM:+0200
TZOFFSETTO:+0100
TZNAME:CET
DTSTART:20261025T010000
END:STANDARD
BEGIN:DAYLIGHT
TZOFFSETFROM:+0100
TZOFFSETTO:+0200
TZNAME:CEST
DTSTART:20270328T010000
END:DAYLIGHT
BEGIN:STANDARD
TZOFFSETFROM:+0200
TZOFFSETTO:+0100
TZNAME:CET
DTSTART:20271031T010000
END:STANDARD
END:VTIMEZONE
BEGIN:VEVENT
DTSTART;TZID=Europe/Berlin:20260612T200000
DTEND;TZID=Europe/Berlin:20260612T230000
DTSTAMP:20260421T230551
CREATED:20260323T134540Z
LAST-MODIFIED:20260323T134540Z
UID:10009261-1781294400-1781305200@wandelstadt-esslingen.de
SUMMARY:Bitch\, Bitch\, Borderline
DESCRIPTION:In den 80er-Jahren noch als „unheilbar“ geltend\, weisen moderne Therapie-Konzepte nachweislich Erfolge bei der Therapie der emotional instabilen Persönlichkeitsstörung auf\, denn es ist möglich\, dass junge Menschen lernen\, ihre Impulse zu kontrollieren\, unabhängig davon\, wie stark die Impulse und die Emotionen sind. Trotzdem werden Patienten mit besagter Diagnose weiterhin stigmatisiert. Stellt eine Diagnose demnach den Beginn oder das Ende eines Teufelskreises dar? \nProduktionsteam:\nText und Regie: Julia Rochlitzer\nRegieassistenz: Manuel Woletz\nSpiel: Ines Isabell Braun\, Lucien Bollian\, Christina Chatzis\, Dana Felsch\, Sabine Tomas \n  \nUnter der Rubrik „Neue Wege“ machen wir am Kunstdruck CentralTheater Theater von jungen Menschen\, mit jungen Menschen zu aktuellen Themen. Wir verhandeln\, was uns alle angeht\, und betreten dabei auch mal die Grenze der Komfortzone – und neue Wege. In der Spielzeit 2025/26\, in der Zusammenarbeit mit Profischauspielerinnen\, jungen Erwachsenen mit und ohne Diagnose und einer jungen Autorin erarbeitet\, liefert Bitch\, bitch\, borderline eine packende Schauspiel-Performance wie einen Untersuchungsbefund.
URL:https://wandelstadt-esslingen.de/event/bitch-bitch-borderline/2026-06-12/
LOCATION:Kunstdruck Centraltheater\, Rossmarkt 9\, Esslingen
CATEGORIES:Kulturveranstaltung
END:VEVENT
END:VCALENDAR