BEGIN:VCALENDAR
VERSION:2.0
PRODID:-//Wandelstadt Esslingen - ECPv6.15.20//NONSGML v1.0//EN
CALSCALE:GREGORIAN
METHOD:PUBLISH
X-WR-CALNAME:Wandelstadt Esslingen
X-ORIGINAL-URL:https://wandelstadt-esslingen.de
X-WR-CALDESC:Veranstaltungen für Wandelstadt Esslingen
REFRESH-INTERVAL;VALUE=DURATION:PT1H
X-Robots-Tag:noindex
X-PUBLISHED-TTL:PT1H
BEGIN:VTIMEZONE
TZID:Europe/Berlin
BEGIN:DAYLIGHT
TZOFFSETFROM:+0100
TZOFFSETTO:+0200
TZNAME:CEST
DTSTART:20230326T010000
END:DAYLIGHT
BEGIN:STANDARD
TZOFFSETFROM:+0200
TZOFFSETTO:+0100
TZNAME:CET
DTSTART:20231029T010000
END:STANDARD
BEGIN:DAYLIGHT
TZOFFSETFROM:+0100
TZOFFSETTO:+0200
TZNAME:CEST
DTSTART:20240331T010000
END:DAYLIGHT
BEGIN:STANDARD
TZOFFSETFROM:+0200
TZOFFSETTO:+0100
TZNAME:CET
DTSTART:20241027T010000
END:STANDARD
BEGIN:DAYLIGHT
TZOFFSETFROM:+0100
TZOFFSETTO:+0200
TZNAME:CEST
DTSTART:20250330T010000
END:DAYLIGHT
BEGIN:STANDARD
TZOFFSETFROM:+0200
TZOFFSETTO:+0100
TZNAME:CET
DTSTART:20251026T010000
END:STANDARD
BEGIN:DAYLIGHT
TZOFFSETFROM:+0100
TZOFFSETTO:+0200
TZNAME:CEST
DTSTART:20260329T010000
END:DAYLIGHT
BEGIN:STANDARD
TZOFFSETFROM:+0200
TZOFFSETTO:+0100
TZNAME:CET
DTSTART:20261025T010000
END:STANDARD
BEGIN:DAYLIGHT
TZOFFSETFROM:+0100
TZOFFSETTO:+0200
TZNAME:CEST
DTSTART:20270328T010000
END:DAYLIGHT
BEGIN:STANDARD
TZOFFSETFROM:+0200
TZOFFSETTO:+0100
TZNAME:CET
DTSTART:20271031T010000
END:STANDARD
END:VTIMEZONE
BEGIN:VEVENT
DTSTART;TZID=Europe/Berlin:20260319T190000
DTEND;TZID=Europe/Berlin:20260319T190000
DTSTAMP:20260423T054700
CREATED:20260224T162738Z
LAST-MODIFIED:20260224T162738Z
UID:10009143-1773946800-1773946800@wandelstadt-esslingen.de
SUMMARY:Zurück ins Leben! Mein Weg aus der Wochenbettdepression
DESCRIPTION:Online-Lesung Diagnose: Postpartale Depression. Eine Erkrankung\, die jährlich ca. 100.000 Mütter betrif. Die Dunkelziﬀer liegt deutlich höher. Dies liegt vor allem daran\, dass es immer noch ein wahnsinnig großes Tabuthema in unserer Gesellschaﬅ ist. Mit ihrer Geschichte möchte Britta Scheufens anderen betroﬀenen Müttern Mut machen\, sich Hilfe zu holen und behandeln zu lassen. Autorin Britta Scheufens liest aus ihrem Buch Anschließend sind Fragen und Diskussion erwünscht. Wir freuen uns über Betroﬀene\, Angehörige\, Fachpersonen und alle Interessierten.
URL:https://wandelstadt-esslingen.de/event/zurueck-ins-leben-mein-weg-aus-der-wochenbettdepression/
LOCATION:online
END:VEVENT
BEGIN:VEVENT
DTSTART;TZID=Europe/Berlin:20241007T153000
DTEND;TZID=Europe/Berlin:20241007T153000
DTSTAMP:20260423T054700
CREATED:20240926T201931Z
LAST-MODIFIED:20240926T201931Z
UID:10004044-1728315000-1728315000@wandelstadt-esslingen.de
SUMMARY:DemoCrazy – Demokratie erlebbar machen / Kultur im Diakonieladen
DESCRIPTION:Ab 15:30: Capoeira – Vorführung und Mitmachgelegenheit \nAfrobrasilianische Fusion von Akrobatik\, Kampfkunst & Musik \nhttps://dieselstrasse.de/kalenderdaten/detail/kultur-im-diakonieladen-0710/ \nIm Alltagsort Diakonieladen in Esslingen halten sich Menschen mit unterschiedlichsten Lebenswirklichkeiten auf: Menschen kaufen dort ein\, weil ihnen nur wenig Geld zur Verfügung steht oder weil für sie Nachhaltigkeit eine hohe Bedeutung hat. Außerdem sind dort Ehrenamtliche\, Menschen in Arbeitsgelegenheit (AGH) und Hauptamtliche beschäftigt und es kommen täglich Personen vorbei\, die Waren spenden. Durch soziokulturelle und demokratiebildende Aktionen sollen die Menschen auf den zwei Etagen des Diakonieladens in einen respektvollen und konstruktiven Austausch gebracht werden und ihre Ideen und Themen einbringen. Idealerweise entsteht eine Gruppe aus Laden-Nutzer*innen\, die sich verantwortlich fühlt\, Veranstaltungen wie Konzerte u.ä. zu planen und zu begleiten. 
URL:https://wandelstadt-esslingen.de/event/democrazy-demokratie-erlebbar-machen-kultur-im-diakonieladen/
LOCATION:Alltagsort Diakonieladen Esslingen\, Küferstrasse 13/1\, Esslingen am Neckar\, 73728\, Deutschland
ORGANIZER;CN="Kulturzentrum Dieselstrasse":MAILTO:info@dieselstrasse.de
END:VEVENT
BEGIN:VEVENT
DTSTART;TZID=Europe/Berlin:20240614T090000
DTEND;TZID=Europe/Berlin:20240614T120000
DTSTAMP:20260423T054700
CREATED:20240517T083441Z
LAST-MODIFIED:20240622T154912Z
UID:10002926-1718355600-1718366400@wandelstadt-esslingen.de
SUMMARY:Einführungsschulung Energiesparen
DESCRIPTION:Steigende Energiekosten sorgen dafür\, dass immer mehr Menschen an finanzielle Grenzen gelangen.\nAuch im Landkreis Esslingen sind viele Haushalte von Energiearmut betroffen.\nSeit dem 01.01.2024 gibt es das Projekt „Energiekosten-Beratung“ des Kreisdiakonieverbands im Landkreis Esslingen.\nEs wird finanziert von der Stiftung Deutsches Hilfswerk und der Evang. Landeskirche in Württemberg.\nDas Projekt zielt darauf ab\, dass einkommensschwache Haushalte Angebote erhalten\, um effizient und sparsam mit Energie umzugehen. Finanzielle Notlagen im Zusammenhang mit hohen Energiekosten sollen abgewendet werden.
URL:https://wandelstadt-esslingen.de/event/einfuehrungsschulung-energiesparen/2024-06-14/
END:VEVENT
BEGIN:VEVENT
DTSTART;TZID=Europe/Berlin:20240607T090000
DTEND;TZID=Europe/Berlin:20240607T120000
DTSTAMP:20260423T054700
CREATED:20240517T083441Z
LAST-MODIFIED:20240622T154912Z
UID:10002925-1717750800-1717761600@wandelstadt-esslingen.de
SUMMARY:Einführungsschulung Energiesparen
DESCRIPTION:Steigende Energiekosten sorgen dafür\, dass immer mehr Menschen an finanzielle Grenzen gelangen.\nAuch im Landkreis Esslingen sind viele Haushalte von Energiearmut betroffen.\nSeit dem 01.01.2024 gibt es das Projekt „Energiekosten-Beratung“ des Kreisdiakonieverbands im Landkreis Esslingen.\nEs wird finanziert von der Stiftung Deutsches Hilfswerk und der Evang. Landeskirche in Württemberg.\nDas Projekt zielt darauf ab\, dass einkommensschwache Haushalte Angebote erhalten\, um effizient und sparsam mit Energie umzugehen. Finanzielle Notlagen im Zusammenhang mit hohen Energiekosten sollen abgewendet werden.
URL:https://wandelstadt-esslingen.de/event/einfuehrungsschulung-energiesparen/2024-06-07/
END:VEVENT
BEGIN:VEVENT
DTSTART;TZID=Europe/Berlin:20240516T193000
DTEND;TZID=Europe/Berlin:20240516T193000
DTSTAMP:20260423T054700
CREATED:20240429T084645Z
LAST-MODIFIED:20240429T084916Z
UID:10002847-1715887800-1715887800@wandelstadt-esslingen.de
SUMMARY:Vortrag "Populismus in der Flüchtlingspolitik"
DESCRIPTION:Populismus in der Flüchtlingspolitik\nWieso Abschreckung nicht funktioniert\nVortrag und Diskussion mit Dr. Anja Bartel Soziologin\, Politikwissenschaftlerin\, Leitung der Geschäftsstelle beim Flüchtlingsrat Baden-Württemberg e. V. \nDonnerstag\, 16. Mai 2024 um 19:30 Uhr im Mehrgenerationen- und Bürgerhaus Esslingen-Pliensauvorstadt\, Weilstr. 8 / Saal \n„Größtmögliche Abschreckung“ durch Abschottung\, Ausgrenzung und Schikane wird immer mehr zur Leitlinie in der aktuellen flüchtlingspolitischen Debatte. Vor sich hergetrieben von der AfD liefern sich die Parteien im Bund und in den Ländern einen Wettkampf mit immer brutaleren Vorschlägen zur Abschreckung geflüchteter Menschen und zur Einschränkung ihrer Lebensmöglichkeiten in Deutschland: Migrationsabkommen mit Autokraten aushandeln\, Menschen an den europäischen Außengrenzen einsperren\, Bezahlkarten einführen\, Sozialleistungen senken\, Arbeitszwang verhängen – je drastischer die Mittel\, desto populärer. In der Debatte geht es immer mehr um die Eindämmung der wahlweise als „irregulär“ oder „illegal“ bezeichneten Migration.\nDie Referentin benennt populistische Narrative und dekonstruiert Vorschläge der aktuellen Flüchtlingspolitik.\nDer Abend ist ein Beitrag zur Meinungsbildung im Vorfeld der Kommunal- und Europawahlen im Juni. \nVeranstaltende: Offene Aktionsgruppe Migration & Integration Esslingen\, Caritas Fils-Neckar-Alb\, Kreisdiakonieverband Esslingen
URL:https://wandelstadt-esslingen.de/event/vortrag-populismus-in-der-fluechtlingspolitik/
LOCATION:Mehrgenerationenhaus Esslingen\, Weilstraße 8\, Esslingen
ATTACH;FMTTYPE=image/jpeg:https://wandelstadt-esslingen.de/wp-content/uploads/2024/04/Populismus-Fluechtlingspolitik.jpg
END:VEVENT
END:VCALENDAR