BEGIN:VCALENDAR
VERSION:2.0
PRODID:-//Wandelstadt Esslingen - ECPv6.15.20//NONSGML v1.0//EN
CALSCALE:GREGORIAN
METHOD:PUBLISH
X-ORIGINAL-URL:https://wandelstadt-esslingen.de
X-WR-CALDESC:Veranstaltungen für Wandelstadt Esslingen
REFRESH-INTERVAL;VALUE=DURATION:PT1H
X-Robots-Tag:noindex
X-PUBLISHED-TTL:PT1H
BEGIN:VTIMEZONE
TZID:Europe/Berlin
BEGIN:DAYLIGHT
TZOFFSETFROM:+0100
TZOFFSETTO:+0200
TZNAME:CEST
DTSTART:20250330T010000
END:DAYLIGHT
BEGIN:STANDARD
TZOFFSETFROM:+0200
TZOFFSETTO:+0100
TZNAME:CET
DTSTART:20251026T010000
END:STANDARD
BEGIN:DAYLIGHT
TZOFFSETFROM:+0100
TZOFFSETTO:+0200
TZNAME:CEST
DTSTART:20260329T010000
END:DAYLIGHT
BEGIN:STANDARD
TZOFFSETFROM:+0200
TZOFFSETTO:+0100
TZNAME:CET
DTSTART:20261025T010000
END:STANDARD
BEGIN:DAYLIGHT
TZOFFSETFROM:+0100
TZOFFSETTO:+0200
TZNAME:CEST
DTSTART:20270328T010000
END:DAYLIGHT
BEGIN:STANDARD
TZOFFSETFROM:+0200
TZOFFSETTO:+0100
TZNAME:CET
DTSTART:20271031T010000
END:STANDARD
END:VTIMEZONE
BEGIN:VEVENT
DTSTART;TZID=Europe/Berlin:20260321T103000
DTEND;TZID=Europe/Berlin:20260321T123000
DTSTAMP:20260422T004633
CREATED:20260224T162752Z
LAST-MODIFIED:20260224T162752Z
UID:10009144-1774089000-1774096200@wandelstadt-esslingen.de
SUMMARY:Griechisch-orthodoxe Kirche Esslingen
DESCRIPTION:Führung durch die Kirche Mariä Verkündigung Das Gebäude in der Dammstraße in Esslingen ist die größte orthodoxe Kirche außerhalb Griechenlands in Europa\, die Grundsteinlegung erfolgte 1993. Finanziert wurde der Bau gänzlich aus Spenden\, da die orthodoxen Kirchen in Deutschland keine Kirchensteuern erheben dürfen. Auch die großen christlichen Kirchen haben zum Spendenaufkommen beigetragen. Die großen Feste des Kirchenjahrs sind Weihnachten und Ostern. Der Termin für das orthodoxe Osterfest ist beweglich und nicht immer mit dem Ostern der übrigen christlichen Kirchen identisch. Sie werden interessante Einblicke in eine für Sie bisher unbekannte Welt vor Ihrer Haustür erhalten. Führung Anastasia Legidou
URL:https://wandelstadt-esslingen.de/event/griechisch-orthodoxe-kirche-esslingen/
LOCATION:Griechisch Orthodoxe Kirche Mariä Verkündigung\, Dammstraße 1\, Esslingen\, 73728\, Deutschland
END:VEVENT
END:VCALENDAR