BEGIN:VCALENDAR
VERSION:2.0
PRODID:-//Wandelstadt Esslingen - ECPv6.15.20//NONSGML v1.0//EN
CALSCALE:GREGORIAN
METHOD:PUBLISH
X-ORIGINAL-URL:https://wandelstadt-esslingen.de
X-WR-CALDESC:Veranstaltungen für Wandelstadt Esslingen
REFRESH-INTERVAL;VALUE=DURATION:PT1H
X-Robots-Tag:noindex
X-PUBLISHED-TTL:PT1H
BEGIN:VTIMEZONE
TZID:Europe/Berlin
BEGIN:DAYLIGHT
TZOFFSETFROM:+0100
TZOFFSETTO:+0200
TZNAME:CEST
DTSTART:20240331T010000
END:DAYLIGHT
BEGIN:STANDARD
TZOFFSETFROM:+0200
TZOFFSETTO:+0100
TZNAME:CET
DTSTART:20241027T010000
END:STANDARD
BEGIN:DAYLIGHT
TZOFFSETFROM:+0100
TZOFFSETTO:+0200
TZNAME:CEST
DTSTART:20250330T010000
END:DAYLIGHT
BEGIN:STANDARD
TZOFFSETFROM:+0200
TZOFFSETTO:+0100
TZNAME:CET
DTSTART:20251026T010000
END:STANDARD
BEGIN:DAYLIGHT
TZOFFSETFROM:+0100
TZOFFSETTO:+0200
TZNAME:CEST
DTSTART:20260329T010000
END:DAYLIGHT
BEGIN:STANDARD
TZOFFSETFROM:+0200
TZOFFSETTO:+0100
TZNAME:CET
DTSTART:20261025T010000
END:STANDARD
END:VTIMEZONE
BEGIN:VEVENT
DTSTART;TZID=Europe/Berlin:20251213T180000
DTEND;TZID=Europe/Berlin:20251213T210000
DTSTAMP:20260421T213543
CREATED:20251123T181927Z
LAST-MODIFIED:20251123T181927Z
UID:10007231-1765648800-1765659600@wandelstadt-esslingen.de
SUMMARY:Die Geschichte des Chanukkafestes\, erzählt in seinen Liedern
DESCRIPTION:
URL:https://wandelstadt-esslingen.de/event/die-geschichte-des-chanukkafestes-erzaehlt-in-seinen-liedern/
LOCATION:Theodor-Rothschild-Haus\, Mülbergstraße 146\, Esslingen\, 73728
CATEGORIES:Infoveranstaltung,Kulturveranstaltung,Live-Veranstaltung
END:VEVENT
BEGIN:VEVENT
DTSTART;TZID=Europe/Berlin:20251123T180000
DTEND;TZID=Europe/Berlin:20251123T210000
DTSTAMP:20260421T213543
CREATED:20251027T161958Z
LAST-MODIFIED:20251027T161958Z
UID:10006725-1763920800-1763931600@wandelstadt-esslingen.de
SUMMARY:Lesekonzett - 80 Jahre Kriegsende: Für Demokratie - gegen das Vergessen
DESCRIPTION:Ein Lesekonzert mit Texten des Zeitzeugen Michael Wieck und Musik exilierter jüdischer Komponisten wie Tzvi Avni und Ignace Strasfogel sowie der Komponistin Ursula Mamlok. Es spielen Studierende der Violinklasse von Prof.  Dr. Kolja Lessing\, Hochschule für Musik und Darstellende Kunst Stuttgart. \nKosten:\nFreier Eintritt
URL:https://wandelstadt-esslingen.de/event/lesekonzett-80-jahre-kriegsende-fuer-demokratie-gegen-das-vergessen/
LOCATION:Theodor-Rothschild-Haus\, Mülbergstraße 146\, Esslingen\, 73728
CATEGORIES:Kulturveranstaltung,Live-Veranstaltung
END:VEVENT
BEGIN:VEVENT
DTSTART;TZID=Europe/Berlin:20251123T140000
DTEND;TZID=Europe/Berlin:20251123T180000
DTSTAMP:20260421T213543
CREATED:20251027T172829Z
LAST-MODIFIED:20251027T172854Z
UID:10006751-1763906400-1763920800@wandelstadt-esslingen.de
SUMMARY:Mein Leben war ein Auf-Dem-Seile-Schweben - Jüdische Deutschsprachige Lyrikerinnen des 20. Jahrhunderts
DESCRIPTION:Die Ausstellung\, erstellt im Auftrag des Träger- und Fördervereins Ehemalige Synagoge Riexingen\, befasst sich mit Leben und Werk von 15 bekannten – wie Nelly Sachs\, Rose Ausländer\, Mascha Kaléko\, Else Lasker-Schüler\, Hilde Domin – und weniger bekannten Schriftstellerinnen wie Esther Dischereit oder Lili Grün. Sie wird durch eine Vernissage eröffnet\, sowie von Vorträgen\, z.B. durch Karl-Josef Kuschel\, und einer Szenischen Lesung der WLB ergänzt. \nKOSTEN:\nFreier Eintritt \nVERANSTALTER:\nEvang. Dekanat\nEvang. Pfarramt für das christlich-\njüdische Gespräch\nFreunde Jüdischer Kultur Esslingen e.V.
URL:https://wandelstadt-esslingen.de/event/mein-leben-war-ein-auf-dem-seile-schweben-juedische-deutschsprachige-lyrikerinnen-des-20-jahrhunderts/2025-11-23/
LOCATION:Franziskanerkirche\, Franziskanergasse\, Esslingen\, 73728
CATEGORIES:Austellung
END:VEVENT
BEGIN:VEVENT
DTSTART;TZID=Europe/Berlin:20251123T133000
DTEND;TZID=Europe/Berlin:20251123T163000
DTSTAMP:20260421T213543
CREATED:20251027T172352Z
LAST-MODIFIED:20251027T172352Z
UID:10006736-1763904600-1763915400@wandelstadt-esslingen.de
SUMMARY:Kalligrafie-Workshop mit dem Künstler Tuvia Ben Avraham
DESCRIPTION:Die Teilnehmer/innen tauchen ein in die Welt der Hebräischen Zeichen. Wir schreiben gemeinsam mit Tusche und Feder – dazu yiddische Geschichten und Midraschim. \nNeben seiner künstlerischen Tätigkeit gibt Tuvia regelmäßig Workshops im Rahmen politischer Bildung. Material wird gestellt\, Lieblings“werkzeuge“ können gern mitgebracht werden. \nANMELDUNG:\nunter vorstand2@freunde-juedischer-kultur-esslingen.de\nTeilnehmerzahl begrenzt \nKOSTEN:\nFreier Eintritt \nVERANSTALTER:\nFreunde Jüdischer Kultur\nEsslingen e.V.
URL:https://wandelstadt-esslingen.de/event/kalligrafie-workshop-mit-dem-kuenstler-tuvia-ben-avraham/
LOCATION:Jüdisches Gemeindezentrum Esslingen\, Im Heppächer 3\, Esslingen\, 73728
CATEGORIES:Kulturveranstaltung,Live-Veranstaltung,Workshop
END:VEVENT
BEGIN:VEVENT
DTSTART;TZID=Europe/Berlin:20251122T140000
DTEND;TZID=Europe/Berlin:20251122T180000
DTSTAMP:20260421T213543
CREATED:20251027T172829Z
LAST-MODIFIED:20251027T172854Z
UID:10006750-1763820000-1763834400@wandelstadt-esslingen.de
SUMMARY:Mein Leben war ein Auf-Dem-Seile-Schweben - Jüdische Deutschsprachige Lyrikerinnen des 20. Jahrhunderts
DESCRIPTION:Die Ausstellung\, erstellt im Auftrag des Träger- und Fördervereins Ehemalige Synagoge Riexingen\, befasst sich mit Leben und Werk von 15 bekannten – wie Nelly Sachs\, Rose Ausländer\, Mascha Kaléko\, Else Lasker-Schüler\, Hilde Domin – und weniger bekannten Schriftstellerinnen wie Esther Dischereit oder Lili Grün. Sie wird durch eine Vernissage eröffnet\, sowie von Vorträgen\, z.B. durch Karl-Josef Kuschel\, und einer Szenischen Lesung der WLB ergänzt. \nKOSTEN:\nFreier Eintritt \nVERANSTALTER:\nEvang. Dekanat\nEvang. Pfarramt für das christlich-\njüdische Gespräch\nFreunde Jüdischer Kultur Esslingen e.V.
URL:https://wandelstadt-esslingen.de/event/mein-leben-war-ein-auf-dem-seile-schweben-juedische-deutschsprachige-lyrikerinnen-des-20-jahrhunderts/2025-11-22/
LOCATION:Franziskanerkirche\, Franziskanergasse\, Esslingen\, 73728
CATEGORIES:Austellung
END:VEVENT
BEGIN:VEVENT
DTSTART;TZID=Europe/Berlin:20251121T140000
DTEND;TZID=Europe/Berlin:20251121T180000
DTSTAMP:20260421T213543
CREATED:20251027T172829Z
LAST-MODIFIED:20251027T172854Z
UID:10006749-1763733600-1763748000@wandelstadt-esslingen.de
SUMMARY:Mein Leben war ein Auf-Dem-Seile-Schweben - Jüdische Deutschsprachige Lyrikerinnen des 20. Jahrhunderts
DESCRIPTION:Die Ausstellung\, erstellt im Auftrag des Träger- und Fördervereins Ehemalige Synagoge Riexingen\, befasst sich mit Leben und Werk von 15 bekannten – wie Nelly Sachs\, Rose Ausländer\, Mascha Kaléko\, Else Lasker-Schüler\, Hilde Domin – und weniger bekannten Schriftstellerinnen wie Esther Dischereit oder Lili Grün. Sie wird durch eine Vernissage eröffnet\, sowie von Vorträgen\, z.B. durch Karl-Josef Kuschel\, und einer Szenischen Lesung der WLB ergänzt. \nKOSTEN:\nFreier Eintritt \nVERANSTALTER:\nEvang. Dekanat\nEvang. Pfarramt für das christlich-\njüdische Gespräch\nFreunde Jüdischer Kultur Esslingen e.V.
URL:https://wandelstadt-esslingen.de/event/mein-leben-war-ein-auf-dem-seile-schweben-juedische-deutschsprachige-lyrikerinnen-des-20-jahrhunderts/2025-11-21/
LOCATION:Franziskanerkirche\, Franziskanergasse\, Esslingen\, 73728
CATEGORIES:Austellung
END:VEVENT
BEGIN:VEVENT
DTSTART;TZID=Europe/Berlin:20251120T140000
DTEND;TZID=Europe/Berlin:20251120T180000
DTSTAMP:20260421T213543
CREATED:20251027T172829Z
LAST-MODIFIED:20251027T172854Z
UID:10006748-1763647200-1763661600@wandelstadt-esslingen.de
SUMMARY:Mein Leben war ein Auf-Dem-Seile-Schweben - Jüdische Deutschsprachige Lyrikerinnen des 20. Jahrhunderts
DESCRIPTION:Die Ausstellung\, erstellt im Auftrag des Träger- und Fördervereins Ehemalige Synagoge Riexingen\, befasst sich mit Leben und Werk von 15 bekannten – wie Nelly Sachs\, Rose Ausländer\, Mascha Kaléko\, Else Lasker-Schüler\, Hilde Domin – und weniger bekannten Schriftstellerinnen wie Esther Dischereit oder Lili Grün. Sie wird durch eine Vernissage eröffnet\, sowie von Vorträgen\, z.B. durch Karl-Josef Kuschel\, und einer Szenischen Lesung der WLB ergänzt. \nKOSTEN:\nFreier Eintritt \nVERANSTALTER:\nEvang. Dekanat\nEvang. Pfarramt für das christlich-\njüdische Gespräch\nFreunde Jüdischer Kultur Esslingen e.V.
URL:https://wandelstadt-esslingen.de/event/mein-leben-war-ein-auf-dem-seile-schweben-juedische-deutschsprachige-lyrikerinnen-des-20-jahrhunderts/2025-11-20/
LOCATION:Franziskanerkirche\, Franziskanergasse\, Esslingen\, 73728
CATEGORIES:Austellung
END:VEVENT
BEGIN:VEVENT
DTSTART;TZID=Europe/Berlin:20251119T140000
DTEND;TZID=Europe/Berlin:20251119T180000
DTSTAMP:20260421T213543
CREATED:20251027T172829Z
LAST-MODIFIED:20251027T172854Z
UID:10006747-1763560800-1763575200@wandelstadt-esslingen.de
SUMMARY:Mein Leben war ein Auf-Dem-Seile-Schweben - Jüdische Deutschsprachige Lyrikerinnen des 20. Jahrhunderts
DESCRIPTION:Die Ausstellung\, erstellt im Auftrag des Träger- und Fördervereins Ehemalige Synagoge Riexingen\, befasst sich mit Leben und Werk von 15 bekannten – wie Nelly Sachs\, Rose Ausländer\, Mascha Kaléko\, Else Lasker-Schüler\, Hilde Domin – und weniger bekannten Schriftstellerinnen wie Esther Dischereit oder Lili Grün. Sie wird durch eine Vernissage eröffnet\, sowie von Vorträgen\, z.B. durch Karl-Josef Kuschel\, und einer Szenischen Lesung der WLB ergänzt. \nKOSTEN:\nFreier Eintritt \nVERANSTALTER:\nEvang. Dekanat\nEvang. Pfarramt für das christlich-\njüdische Gespräch\nFreunde Jüdischer Kultur Esslingen e.V.
URL:https://wandelstadt-esslingen.de/event/mein-leben-war-ein-auf-dem-seile-schweben-juedische-deutschsprachige-lyrikerinnen-des-20-jahrhunderts/2025-11-19/
LOCATION:Franziskanerkirche\, Franziskanergasse\, Esslingen\, 73728
CATEGORIES:Austellung
END:VEVENT
BEGIN:VEVENT
DTSTART;TZID=Europe/Berlin:20251118T140000
DTEND;TZID=Europe/Berlin:20251118T180000
DTSTAMP:20260421T213543
CREATED:20251027T172829Z
LAST-MODIFIED:20251027T172854Z
UID:10006746-1763474400-1763488800@wandelstadt-esslingen.de
SUMMARY:Mein Leben war ein Auf-Dem-Seile-Schweben - Jüdische Deutschsprachige Lyrikerinnen des 20. Jahrhunderts
DESCRIPTION:Die Ausstellung\, erstellt im Auftrag des Träger- und Fördervereins Ehemalige Synagoge Riexingen\, befasst sich mit Leben und Werk von 15 bekannten – wie Nelly Sachs\, Rose Ausländer\, Mascha Kaléko\, Else Lasker-Schüler\, Hilde Domin – und weniger bekannten Schriftstellerinnen wie Esther Dischereit oder Lili Grün. Sie wird durch eine Vernissage eröffnet\, sowie von Vorträgen\, z.B. durch Karl-Josef Kuschel\, und einer Szenischen Lesung der WLB ergänzt. \nKOSTEN:\nFreier Eintritt \nVERANSTALTER:\nEvang. Dekanat\nEvang. Pfarramt für das christlich-\njüdische Gespräch\nFreunde Jüdischer Kultur Esslingen e.V.
URL:https://wandelstadt-esslingen.de/event/mein-leben-war-ein-auf-dem-seile-schweben-juedische-deutschsprachige-lyrikerinnen-des-20-jahrhunderts/2025-11-18/
LOCATION:Franziskanerkirche\, Franziskanergasse\, Esslingen\, 73728
CATEGORIES:Austellung
END:VEVENT
BEGIN:VEVENT
DTSTART;TZID=Europe/Berlin:20251117T140000
DTEND;TZID=Europe/Berlin:20251117T180000
DTSTAMP:20260421T213543
CREATED:20251027T172829Z
LAST-MODIFIED:20251027T172854Z
UID:10006745-1763388000-1763402400@wandelstadt-esslingen.de
SUMMARY:Mein Leben war ein Auf-Dem-Seile-Schweben - Jüdische Deutschsprachige Lyrikerinnen des 20. Jahrhunderts
DESCRIPTION:Die Ausstellung\, erstellt im Auftrag des Träger- und Fördervereins Ehemalige Synagoge Riexingen\, befasst sich mit Leben und Werk von 15 bekannten – wie Nelly Sachs\, Rose Ausländer\, Mascha Kaléko\, Else Lasker-Schüler\, Hilde Domin – und weniger bekannten Schriftstellerinnen wie Esther Dischereit oder Lili Grün. Sie wird durch eine Vernissage eröffnet\, sowie von Vorträgen\, z.B. durch Karl-Josef Kuschel\, und einer Szenischen Lesung der WLB ergänzt. \nKOSTEN:\nFreier Eintritt \nVERANSTALTER:\nEvang. Dekanat\nEvang. Pfarramt für das christlich-\njüdische Gespräch\nFreunde Jüdischer Kultur Esslingen e.V.
URL:https://wandelstadt-esslingen.de/event/mein-leben-war-ein-auf-dem-seile-schweben-juedische-deutschsprachige-lyrikerinnen-des-20-jahrhunderts/2025-11-17/
LOCATION:Franziskanerkirche\, Franziskanergasse\, Esslingen\, 73728
CATEGORIES:Austellung
END:VEVENT
BEGIN:VEVENT
DTSTART;TZID=Europe/Berlin:20251116T140000
DTEND;TZID=Europe/Berlin:20251116T180000
DTSTAMP:20260421T213543
CREATED:20251027T172829Z
LAST-MODIFIED:20251027T172854Z
UID:10006744-1763301600-1763316000@wandelstadt-esslingen.de
SUMMARY:Mein Leben war ein Auf-Dem-Seile-Schweben - Jüdische Deutschsprachige Lyrikerinnen des 20. Jahrhunderts
DESCRIPTION:Die Ausstellung\, erstellt im Auftrag des Träger- und Fördervereins Ehemalige Synagoge Riexingen\, befasst sich mit Leben und Werk von 15 bekannten – wie Nelly Sachs\, Rose Ausländer\, Mascha Kaléko\, Else Lasker-Schüler\, Hilde Domin – und weniger bekannten Schriftstellerinnen wie Esther Dischereit oder Lili Grün. Sie wird durch eine Vernissage eröffnet\, sowie von Vorträgen\, z.B. durch Karl-Josef Kuschel\, und einer Szenischen Lesung der WLB ergänzt. \nKOSTEN:\nFreier Eintritt \nVERANSTALTER:\nEvang. Dekanat\nEvang. Pfarramt für das christlich-\njüdische Gespräch\nFreunde Jüdischer Kultur Esslingen e.V.
URL:https://wandelstadt-esslingen.de/event/mein-leben-war-ein-auf-dem-seile-schweben-juedische-deutschsprachige-lyrikerinnen-des-20-jahrhunderts/2025-11-16/
LOCATION:Franziskanerkirche\, Franziskanergasse\, Esslingen\, 73728
CATEGORIES:Austellung
END:VEVENT
BEGIN:VEVENT
DTSTART;TZID=Europe/Berlin:20251115T140000
DTEND;TZID=Europe/Berlin:20251115T180000
DTSTAMP:20260421T213543
CREATED:20251027T172829Z
LAST-MODIFIED:20251027T172854Z
UID:10006743-1763215200-1763229600@wandelstadt-esslingen.de
SUMMARY:Mein Leben war ein Auf-Dem-Seile-Schweben - Jüdische Deutschsprachige Lyrikerinnen des 20. Jahrhunderts
DESCRIPTION:Die Ausstellung\, erstellt im Auftrag des Träger- und Fördervereins Ehemalige Synagoge Riexingen\, befasst sich mit Leben und Werk von 15 bekannten – wie Nelly Sachs\, Rose Ausländer\, Mascha Kaléko\, Else Lasker-Schüler\, Hilde Domin – und weniger bekannten Schriftstellerinnen wie Esther Dischereit oder Lili Grün. Sie wird durch eine Vernissage eröffnet\, sowie von Vorträgen\, z.B. durch Karl-Josef Kuschel\, und einer Szenischen Lesung der WLB ergänzt. \nKOSTEN:\nFreier Eintritt \nVERANSTALTER:\nEvang. Dekanat\nEvang. Pfarramt für das christlich-\njüdische Gespräch\nFreunde Jüdischer Kultur Esslingen e.V.
URL:https://wandelstadt-esslingen.de/event/mein-leben-war-ein-auf-dem-seile-schweben-juedische-deutschsprachige-lyrikerinnen-des-20-jahrhunderts/2025-11-15/
LOCATION:Franziskanerkirche\, Franziskanergasse\, Esslingen\, 73728
CATEGORIES:Austellung
END:VEVENT
BEGIN:VEVENT
DTSTART;TZID=Europe/Berlin:20251114T140000
DTEND;TZID=Europe/Berlin:20251114T180000
DTSTAMP:20260421T213543
CREATED:20251027T172829Z
LAST-MODIFIED:20251027T172854Z
UID:10006742-1763128800-1763143200@wandelstadt-esslingen.de
SUMMARY:Mein Leben war ein Auf-Dem-Seile-Schweben - Jüdische Deutschsprachige Lyrikerinnen des 20. Jahrhunderts
DESCRIPTION:Die Ausstellung\, erstellt im Auftrag des Träger- und Fördervereins Ehemalige Synagoge Riexingen\, befasst sich mit Leben und Werk von 15 bekannten – wie Nelly Sachs\, Rose Ausländer\, Mascha Kaléko\, Else Lasker-Schüler\, Hilde Domin – und weniger bekannten Schriftstellerinnen wie Esther Dischereit oder Lili Grün. Sie wird durch eine Vernissage eröffnet\, sowie von Vorträgen\, z.B. durch Karl-Josef Kuschel\, und einer Szenischen Lesung der WLB ergänzt. \nKOSTEN:\nFreier Eintritt \nVERANSTALTER:\nEvang. Dekanat\nEvang. Pfarramt für das christlich-\njüdische Gespräch\nFreunde Jüdischer Kultur Esslingen e.V.
URL:https://wandelstadt-esslingen.de/event/mein-leben-war-ein-auf-dem-seile-schweben-juedische-deutschsprachige-lyrikerinnen-des-20-jahrhunderts/2025-11-14/
LOCATION:Franziskanerkirche\, Franziskanergasse\, Esslingen\, 73728
CATEGORIES:Austellung
END:VEVENT
BEGIN:VEVENT
DTSTART;TZID=Europe/Berlin:20251113T140000
DTEND;TZID=Europe/Berlin:20251113T180000
DTSTAMP:20260421T213543
CREATED:20251027T172829Z
LAST-MODIFIED:20251027T172854Z
UID:10006741-1763042400-1763056800@wandelstadt-esslingen.de
SUMMARY:Mein Leben war ein Auf-Dem-Seile-Schweben - Jüdische Deutschsprachige Lyrikerinnen des 20. Jahrhunderts
DESCRIPTION:Die Ausstellung\, erstellt im Auftrag des Träger- und Fördervereins Ehemalige Synagoge Riexingen\, befasst sich mit Leben und Werk von 15 bekannten – wie Nelly Sachs\, Rose Ausländer\, Mascha Kaléko\, Else Lasker-Schüler\, Hilde Domin – und weniger bekannten Schriftstellerinnen wie Esther Dischereit oder Lili Grün. Sie wird durch eine Vernissage eröffnet\, sowie von Vorträgen\, z.B. durch Karl-Josef Kuschel\, und einer Szenischen Lesung der WLB ergänzt. \nKOSTEN:\nFreier Eintritt \nVERANSTALTER:\nEvang. Dekanat\nEvang. Pfarramt für das christlich-\njüdische Gespräch\nFreunde Jüdischer Kultur Esslingen e.V.
URL:https://wandelstadt-esslingen.de/event/mein-leben-war-ein-auf-dem-seile-schweben-juedische-deutschsprachige-lyrikerinnen-des-20-jahrhunderts/2025-11-13/
LOCATION:Franziskanerkirche\, Franziskanergasse\, Esslingen\, 73728
CATEGORIES:Austellung
END:VEVENT
BEGIN:VEVENT
DTSTART;TZID=Europe/Berlin:20251112T140000
DTEND;TZID=Europe/Berlin:20251112T180000
DTSTAMP:20260421T213543
CREATED:20251027T172829Z
LAST-MODIFIED:20251027T172854Z
UID:10006740-1762956000-1762970400@wandelstadt-esslingen.de
SUMMARY:Mein Leben war ein Auf-Dem-Seile-Schweben - Jüdische Deutschsprachige Lyrikerinnen des 20. Jahrhunderts
DESCRIPTION:Die Ausstellung\, erstellt im Auftrag des Träger- und Fördervereins Ehemalige Synagoge Riexingen\, befasst sich mit Leben und Werk von 15 bekannten – wie Nelly Sachs\, Rose Ausländer\, Mascha Kaléko\, Else Lasker-Schüler\, Hilde Domin – und weniger bekannten Schriftstellerinnen wie Esther Dischereit oder Lili Grün. Sie wird durch eine Vernissage eröffnet\, sowie von Vorträgen\, z.B. durch Karl-Josef Kuschel\, und einer Szenischen Lesung der WLB ergänzt. \nKOSTEN:\nFreier Eintritt \nVERANSTALTER:\nEvang. Dekanat\nEvang. Pfarramt für das christlich-\njüdische Gespräch\nFreunde Jüdischer Kultur Esslingen e.V.
URL:https://wandelstadt-esslingen.de/event/mein-leben-war-ein-auf-dem-seile-schweben-juedische-deutschsprachige-lyrikerinnen-des-20-jahrhunderts/2025-11-12/
LOCATION:Franziskanerkirche\, Franziskanergasse\, Esslingen\, 73728
CATEGORIES:Austellung
END:VEVENT
BEGIN:VEVENT
DTSTART;TZID=Europe/Berlin:20251111T140000
DTEND;TZID=Europe/Berlin:20251111T180000
DTSTAMP:20260421T213543
CREATED:20251027T172829Z
LAST-MODIFIED:20251027T172854Z
UID:10006739-1762869600-1762884000@wandelstadt-esslingen.de
SUMMARY:Mein Leben war ein Auf-Dem-Seile-Schweben - Jüdische Deutschsprachige Lyrikerinnen des 20. Jahrhunderts
DESCRIPTION:Die Ausstellung\, erstellt im Auftrag des Träger- und Fördervereins Ehemalige Synagoge Riexingen\, befasst sich mit Leben und Werk von 15 bekannten – wie Nelly Sachs\, Rose Ausländer\, Mascha Kaléko\, Else Lasker-Schüler\, Hilde Domin – und weniger bekannten Schriftstellerinnen wie Esther Dischereit oder Lili Grün. Sie wird durch eine Vernissage eröffnet\, sowie von Vorträgen\, z.B. durch Karl-Josef Kuschel\, und einer Szenischen Lesung der WLB ergänzt. \nKOSTEN:\nFreier Eintritt \nVERANSTALTER:\nEvang. Dekanat\nEvang. Pfarramt für das christlich-\njüdische Gespräch\nFreunde Jüdischer Kultur Esslingen e.V.
URL:https://wandelstadt-esslingen.de/event/mein-leben-war-ein-auf-dem-seile-schweben-juedische-deutschsprachige-lyrikerinnen-des-20-jahrhunderts/2025-11-11/
LOCATION:Franziskanerkirche\, Franziskanergasse\, Esslingen\, 73728
CATEGORIES:Austellung
END:VEVENT
BEGIN:VEVENT
DTSTART;TZID=Europe/Berlin:20251110T140000
DTEND;TZID=Europe/Berlin:20251110T180000
DTSTAMP:20260421T213543
CREATED:20251027T172829Z
LAST-MODIFIED:20251027T172854Z
UID:10006738-1762783200-1762797600@wandelstadt-esslingen.de
SUMMARY:Mein Leben war ein Auf-Dem-Seile-Schweben - Jüdische Deutschsprachige Lyrikerinnen des 20. Jahrhunderts
DESCRIPTION:Die Ausstellung\, erstellt im Auftrag des Träger- und Fördervereins Ehemalige Synagoge Riexingen\, befasst sich mit Leben und Werk von 15 bekannten – wie Nelly Sachs\, Rose Ausländer\, Mascha Kaléko\, Else Lasker-Schüler\, Hilde Domin – und weniger bekannten Schriftstellerinnen wie Esther Dischereit oder Lili Grün. Sie wird durch eine Vernissage eröffnet\, sowie von Vorträgen\, z.B. durch Karl-Josef Kuschel\, und einer Szenischen Lesung der WLB ergänzt. \nKOSTEN:\nFreier Eintritt \nVERANSTALTER:\nEvang. Dekanat\nEvang. Pfarramt für das christlich-\njüdische Gespräch\nFreunde Jüdischer Kultur Esslingen e.V.
URL:https://wandelstadt-esslingen.de/event/mein-leben-war-ein-auf-dem-seile-schweben-juedische-deutschsprachige-lyrikerinnen-des-20-jahrhunderts/2025-11-10/
LOCATION:Franziskanerkirche\, Franziskanergasse\, Esslingen\, 73728
CATEGORIES:Austellung
END:VEVENT
BEGIN:VEVENT
DTSTART;TZID=Europe/Berlin:20251109T140000
DTEND;TZID=Europe/Berlin:20251109T180000
DTSTAMP:20260421T213543
CREATED:20251027T172829Z
LAST-MODIFIED:20251027T172854Z
UID:10006737-1762696800-1762711200@wandelstadt-esslingen.de
SUMMARY:Mein Leben war ein Auf-Dem-Seile-Schweben - Jüdische Deutschsprachige Lyrikerinnen des 20. Jahrhunderts
DESCRIPTION:Die Ausstellung\, erstellt im Auftrag des Träger- und Fördervereins Ehemalige Synagoge Riexingen\, befasst sich mit Leben und Werk von 15 bekannten – wie Nelly Sachs\, Rose Ausländer\, Mascha Kaléko\, Else Lasker-Schüler\, Hilde Domin – und weniger bekannten Schriftstellerinnen wie Esther Dischereit oder Lili Grün. Sie wird durch eine Vernissage eröffnet\, sowie von Vorträgen\, z.B. durch Karl-Josef Kuschel\, und einer Szenischen Lesung der WLB ergänzt. \nKOSTEN:\nFreier Eintritt \nVERANSTALTER:\nEvang. Dekanat\nEvang. Pfarramt für das christlich-\njüdische Gespräch\nFreunde Jüdischer Kultur Esslingen e.V.
URL:https://wandelstadt-esslingen.de/event/mein-leben-war-ein-auf-dem-seile-schweben-juedische-deutschsprachige-lyrikerinnen-des-20-jahrhunderts/2025-11-09/
LOCATION:Franziskanerkirche\, Franziskanergasse\, Esslingen\, 73728
CATEGORIES:Austellung
END:VEVENT
END:VCALENDAR