BEGIN:VCALENDAR
VERSION:2.0
PRODID:-//Wandelstadt Esslingen - ECPv6.15.20//NONSGML v1.0//EN
CALSCALE:GREGORIAN
METHOD:PUBLISH
X-WR-CALNAME:Wandelstadt Esslingen
X-ORIGINAL-URL:https://wandelstadt-esslingen.de
X-WR-CALDESC:Veranstaltungen für Wandelstadt Esslingen
REFRESH-INTERVAL;VALUE=DURATION:PT1H
X-Robots-Tag:noindex
X-PUBLISHED-TTL:PT1H
BEGIN:VTIMEZONE
TZID:Europe/Berlin
BEGIN:DAYLIGHT
TZOFFSETFROM:+0100
TZOFFSETTO:+0200
TZNAME:CEST
DTSTART:20230326T010000
END:DAYLIGHT
BEGIN:STANDARD
TZOFFSETFROM:+0200
TZOFFSETTO:+0100
TZNAME:CET
DTSTART:20231029T010000
END:STANDARD
BEGIN:DAYLIGHT
TZOFFSETFROM:+0100
TZOFFSETTO:+0200
TZNAME:CEST
DTSTART:20240331T010000
END:DAYLIGHT
BEGIN:STANDARD
TZOFFSETFROM:+0200
TZOFFSETTO:+0100
TZNAME:CET
DTSTART:20241027T010000
END:STANDARD
BEGIN:DAYLIGHT
TZOFFSETFROM:+0100
TZOFFSETTO:+0200
TZNAME:CEST
DTSTART:20250330T010000
END:DAYLIGHT
BEGIN:STANDARD
TZOFFSETFROM:+0200
TZOFFSETTO:+0100
TZNAME:CET
DTSTART:20251026T010000
END:STANDARD
BEGIN:DAYLIGHT
TZOFFSETFROM:+0100
TZOFFSETTO:+0200
TZNAME:CEST
DTSTART:20260329T010000
END:DAYLIGHT
BEGIN:STANDARD
TZOFFSETFROM:+0200
TZOFFSETTO:+0100
TZNAME:CET
DTSTART:20261025T010000
END:STANDARD
END:VTIMEZONE
BEGIN:VEVENT
DTSTART;TZID=Europe/Berlin:20251127T150000
DTEND;TZID=Europe/Berlin:20251127T170000
DTSTAMP:20260422T112235
CREATED:20251113T085247Z
LAST-MODIFIED:20251113T085247Z
UID:10007187-1764255600-1764262800@wandelstadt-esslingen.de
SUMMARY:Abschied in eva's Ottilie
DESCRIPTION:Wir müssen leider Abschied von eva’s Ottilie nehmen\, wollen jedoch die gemeinsame Zeit noch gebührend würdigen. \nKomm vorbei\, wir freuen uns über jede:n Einzelne:n.
URL:https://wandelstadt-esslingen.de/event/abschied-in-evas-ottilie/
LOCATION:eva’s Ottilie\, Ottilienplatz 3\, Esslingen\, 73728
ORGANIZER;CN="eva's Ottilie":MAILTO:evas-ottilie-es@eva-stuttgart.de
END:VEVENT
BEGIN:VEVENT
DTSTART;TZID=Europe/Berlin:20251114T090000
DTEND;TZID=Europe/Berlin:20251114T170000
DTSTAMP:20260422T112235
CREATED:20251113T085039Z
LAST-MODIFIED:20251113T085039Z
UID:10007186-1763110800-1763139600@wandelstadt-esslingen.de
SUMMARY:eva Bazar
DESCRIPTION:Ein toller eva Bazar mit u.a. viel kreativem Selbstgemachten aus eva’s Ottilie und Leckereien. \nSchau vorbei. Wir freuen uns.
URL:https://wandelstadt-esslingen.de/event/eva-bazar/
LOCATION:eva Geschäftsstelle\, Büchsenstraße 34/36\, Stuttgart\, 70174
ORGANIZER;CN="eva's Ottilie":MAILTO:evas-ottilie-es@eva-stuttgart.de
END:VEVENT
BEGIN:VEVENT
DTSTART;TZID=Europe/Berlin:20251030T140000
DTEND;TZID=Europe/Berlin:20251030T160000
DTSTAMP:20260422T112235
CREATED:20251001T150340Z
LAST-MODIFIED:20251001T150340Z
UID:10006640-1761832800-1761840000@wandelstadt-esslingen.de
SUMMARY:Basketta Sterne I
DESCRIPTION:Wir basteln gemeinsam Basketta Sterne. \nAlle Materialien vorhanden. Vorbeikommen während der Workshopzeit möglich. Keine Vorkenntnisse oder vorherige Anmeldung.
URL:https://wandelstadt-esslingen.de/event/basketta-sterne-i/
LOCATION:eva’s Ottilie\, Ottilienplatz 3\, Esslingen\, 73728
ORGANIZER;CN="eva's Ottilie":MAILTO:evas-ottilie-es@eva-stuttgart.de
END:VEVENT
BEGIN:VEVENT
DTSTART;TZID=Europe/Berlin:20251023T150000
DTEND;TZID=Europe/Berlin:20251023T170000
DTSTAMP:20260422T112235
CREATED:20251001T150223Z
LAST-MODIFIED:20251001T150223Z
UID:10006639-1761231600-1761238800@wandelstadt-esslingen.de
SUMMARY:Wollwerkstatt
DESCRIPTION:Egal ob du Lust auf häkeln\, stricken\, knüpfen\, weben o.ä. hast. Komm vorbei\, lerne etwas Neues oder bring deine angefangenen Projekte mit. \nHäkel- und Stricknadeln sowie Wolle sind vor Ort. Vorbeikommen jederzeit und ohne Anmeldung möglich.
URL:https://wandelstadt-esslingen.de/event/wollwerkstatt-6/
LOCATION:eva’s Ottilie\, Ottilienplatz 3\, Esslingen\, 73728
ORGANIZER;CN="eva's Ottilie":MAILTO:evas-ottilie-es@eva-stuttgart.de
END:VEVENT
BEGIN:VEVENT
DTSTART;TZID=Europe/Berlin:20251009T140000
DTEND;TZID=Europe/Berlin:20251009T160000
DTSTAMP:20260422T112235
CREATED:20251001T150112Z
LAST-MODIFIED:20251001T150112Z
UID:10006638-1760018400-1760025600@wandelstadt-esslingen.de
SUMMARY:Kerzen gießen
DESCRIPTION:Wir wollen Kerzen aus Wachsresten herstellen. Ob schlicht im Glas\, in einer kleinen Vintage Tasse oder einem anderen Gefäß\, wir sind offen für deine Ideen. \nAlle Materialien vorhanden. Vorbeikommen während der Workshopzeit möglich. Keine Vorkenntnisse oder vorherige Anmeldung.
URL:https://wandelstadt-esslingen.de/event/kerzen-giessen/
LOCATION:eva’s Ottilie\, Ottilienplatz 3\, Esslingen\, 73728
ORGANIZER;CN="eva's Ottilie":MAILTO:evas-ottilie-es@eva-stuttgart.de
END:VEVENT
BEGIN:VEVENT
DTSTART;TZID=Europe/Berlin:20251002T140000
DTEND;TZID=Europe/Berlin:20251002T160000
DTSTAMP:20260422T112235
CREATED:20251001T145932Z
LAST-MODIFIED:20251001T145932Z
UID:10006637-1759413600-1759420800@wandelstadt-esslingen.de
SUMMARY:Praktisches aus Papierröllchen
DESCRIPTION:Wir probieren uns aus mit Papierröllchen. Ob Flechtkorb\, Untersetzer oder etwas ganz anderes…komm vorbei! \nAlle Materialien vorhanden. Vorbeikommen während der Workshopzeit möglich. Keine Vorkenntnisse oder vorherige Anmeldung.
URL:https://wandelstadt-esslingen.de/event/praktisches-aus-papierroellchen/
LOCATION:eva’s Ottilie\, Ottilienplatz 3\, Esslingen\, 73728
ORGANIZER;CN="eva's Ottilie":MAILTO:evas-ottilie-es@eva-stuttgart.de
END:VEVENT
BEGIN:VEVENT
DTSTART;TZID=Europe/Berlin:20250925T140000
DTEND;TZID=Europe/Berlin:20250925T160000
DTSTAMP:20260422T112235
CREATED:20250901T193522Z
LAST-MODIFIED:20250901T193522Z
UID:10006492-1758808800-1758816000@wandelstadt-esslingen.de
SUMMARY:Wollwerkstatt
DESCRIPTION:Egal ob du Lust auf häkeln\, stricken\, knüpfen\, weben o.ä. hast. Komm vorbei\, lerne etwas Neues oder bring deine angefangenen Projekte mit. \nHäkel- und Stricknadeln sowie Wolle sind vor Ort. Vorbeikommen jederzeit und ohne Anmeldung möglich.
URL:https://wandelstadt-esslingen.de/event/wollwerkstatt-5/
LOCATION:eva’s Ottilie\, Ottilienplatz 3\, Esslingen\, 73728
ORGANIZER;CN="eva's Ottilie":MAILTO:evas-ottilie-es@eva-stuttgart.de
END:VEVENT
BEGIN:VEVENT
DTSTART;TZID=Europe/Berlin:20250918T140000
DTEND;TZID=Europe/Berlin:20250918T160000
DTSTAMP:20260422T112235
CREATED:20250901T193139Z
LAST-MODIFIED:20250901T193139Z
UID:10006491-1758204000-1758211200@wandelstadt-esslingen.de
SUMMARY:Papierkörbe flechten
DESCRIPTION:Wir wagen uns gemeinsam an das Flechten von Papierkörben aus Papierröllchen. \nAlle Materialien vorhanden. Vorbeikommen während der Workshopzeit möglich. Keine Vorkenntnisse oder vorherige Anmeldung.
URL:https://wandelstadt-esslingen.de/event/papierkoerbe-flechten/
LOCATION:eva’s Ottilie\, Ottilienplatz 3\, Esslingen\, 73728
ORGANIZER;CN="eva's Ottilie":MAILTO:evas-ottilie-es@eva-stuttgart.de
END:VEVENT
BEGIN:VEVENT
DTSTART;TZID=Europe/Berlin:20250911T140000
DTEND;TZID=Europe/Berlin:20250911T160000
DTSTAMP:20260422T112235
CREATED:20250901T192936Z
LAST-MODIFIED:20250901T192936Z
UID:10006490-1757599200-1757606400@wandelstadt-esslingen.de
SUMMARY:selbstgemachte Schalen gestalten II
DESCRIPTION:Wir wollen unsere Schalen aus alten Eierkartons gestalten. Selbst wenn du bei Teil I nicht dabei warst\, kannst du gerne vorbeikommen und eine Schale gestalten\, es sollten genug vorhanden sein. \nAlle Materialien vorhanden. Vorbeikommen während der Workshopzeit möglich. Keine Vorkenntnisse oder vorherige Anmeldung.
URL:https://wandelstadt-esslingen.de/event/selbstgemachte-schalen-gestalten-ii/
LOCATION:eva’s Ottilie\, Ottilienplatz 3\, Esslingen\, 73728
ORGANIZER;CN="eva's Ottilie":MAILTO:evas-ottilie-es@eva-stuttgart.de
END:VEVENT
BEGIN:VEVENT
DTSTART;TZID=Europe/Berlin:20250904T140000
DTEND;TZID=Europe/Berlin:20250904T160000
DTSTAMP:20260422T112235
CREATED:20250901T192622Z
LAST-MODIFIED:20250901T192622Z
UID:10006489-1756994400-1757001600@wandelstadt-esslingen.de
SUMMARY:selbstgemachte Schalen aus Eierkartons I
DESCRIPTION:Wir wollen gemeinsam Schalen aus alten Eierkartons herstellen. \nAlle Materialien vorhanden. Vorbeikommen während der Workshopzeit möglich. Keine Vorkenntnisse oder vorherige Anmeldung.
URL:https://wandelstadt-esslingen.de/event/selbstgemachte-schalen-aus-eierkartons-i/
ORGANIZER;CN="eva's Ottilie":MAILTO:evas-ottilie-es@eva-stuttgart.de
END:VEVENT
BEGIN:VEVENT
DTSTART;TZID=Europe/Berlin:20250821T140000
DTEND;TZID=Europe/Berlin:20250821T160000
DTSTAMP:20260422T112235
CREATED:20250804T083302Z
LAST-MODIFIED:20250804T083302Z
UID:10006118-1755784800-1755792000@wandelstadt-esslingen.de
SUMMARY:Wollwerkstatt
DESCRIPTION:Egal ob du Lust auf häkeln\, stricken\, knüpfen\, weben o.ä. hast. Komm vorbei\, lerne etwas Neues oder bring deine angefangenen Projekte mit. \nHäkel- und Stricknadeln sowie Wolle sind vor Ort. Vorbeikommen jederzeit und ohne Anmeldung möglich.
URL:https://wandelstadt-esslingen.de/event/wollwerkstatt-4/
LOCATION:eva’s Ottilie\, Ottilienplatz 3\, Esslingen\, 73728
ORGANIZER;CN="eva's Ottilie":MAILTO:evas-ottilie-es@eva-stuttgart.de
END:VEVENT
BEGIN:VEVENT
DTSTART;TZID=Europe/Berlin:20250814T140000
DTEND;TZID=Europe/Berlin:20250814T160000
DTSTAMP:20260422T112235
CREATED:20250804T082757Z
LAST-MODIFIED:20250804T082757Z
UID:10006117-1755180000-1755187200@wandelstadt-esslingen.de
SUMMARY:Druckwerkstatt
DESCRIPTION:Wir wollen uns dem experimentellen Druck annähern. Ob mit Moosgummi\, Milchtüten oder vielen anderen Materialien\, sei gespannt\, was dich erwartet! Falls du selbst Ideen oder tolles Material mit Struktur hast und damit drucken möchtest\, kannst du das natürlich mitbringen. \nAlle Materialien vorhanden. Vorbeikommen während der Workshopzeit möglich. Keine Vorkenntnisse oder vorherige Anmeldung.
URL:https://wandelstadt-esslingen.de/event/druckwerkstatt/
LOCATION:eva’s Ottilie\, Ottilienplatz 3\, Esslingen\, 73728
ORGANIZER;CN="eva's Ottilie":MAILTO:evas-ottilie-es@eva-stuttgart.de
END:VEVENT
BEGIN:VEVENT
DTSTART;TZID=Europe/Berlin:20250807T140000
DTEND;TZID=Europe/Berlin:20250807T160000
DTSTAMP:20260422T112235
CREATED:20250804T082542Z
LAST-MODIFIED:20250804T082542Z
UID:10006116-1754575200-1754582400@wandelstadt-esslingen.de
SUMMARY:Gipsvasen bemalen
DESCRIPTION:Wir wollen unsere zuvor hergestellten Gipsvasen bemalen. Falls du letzte Woche nicht da warst\, kein Problem\, bediene dich aus unserem Sortiment. \nAlle Materialien vorhanden. Vorbeikommen während der Workshopzeit möglich. Keine Vorkenntnisse oder vorherige Anmeldung.
URL:https://wandelstadt-esslingen.de/event/gipsvasen-bemalen/
LOCATION:eva’s Ottilie\, Ottilienplatz 3\, Esslingen\, 73728
ORGANIZER;CN="eva's Ottilie":MAILTO:evas-ottilie-es@eva-stuttgart.de
END:VEVENT
BEGIN:VEVENT
DTSTART;TZID=Europe/Berlin:20250731T140000
DTEND;TZID=Europe/Berlin:20250731T160000
DTSTAMP:20260422T112235
CREATED:20250701T113440Z
LAST-MODIFIED:20250701T113440Z
UID:10006020-1753970400-1753977600@wandelstadt-esslingen.de
SUMMARY:Gipsvasen herstellen
DESCRIPTION:Wir wollen Gipsvasen herstellen. Bringe dein individuelles (und ausgefallenes) Gefäß zum Umwickeln und Formen mit oder bediene dich aus unserem Sortiment. \nAlle Materialien vorhanden. Vorbeikommen während der Workshopzeit möglich. Keine Vorkenntnisse oder vorherige Anmeldung.
URL:https://wandelstadt-esslingen.de/event/gipsvasen-herstellen/
LOCATION:eva’s Ottilie\, Ottilienplatz 3\, Esslingen\, 73728
ORGANIZER;CN="eva's Ottilie":MAILTO:evas-ottilie-es@eva-stuttgart.de
END:VEVENT
BEGIN:VEVENT
DTSTART;TZID=Europe/Berlin:20250724T140000
DTEND;TZID=Europe/Berlin:20250724T160000
DTSTAMP:20260422T112235
CREATED:20250701T113255Z
LAST-MODIFIED:20250701T113255Z
UID:10006019-1753365600-1753372800@wandelstadt-esslingen.de
SUMMARY:Kerzen machen
DESCRIPTION:Wir wollen Kerzen aus Wachsresten herstellen. Ob schlicht im Glas\, in einer kleinen Vintage Tasse oder einem anderen Gefäß\, wir sind offen für deine Ideen. \nAlle Materialien vorhanden. Vorbeikommen während der Workshopzeit möglich. Keine Vorkenntnisse oder vorherige Anmeldung.
URL:https://wandelstadt-esslingen.de/event/kerzen-machen/
LOCATION:eva’s Ottilie\, Ottilienplatz 3\, Esslingen\, 73728
ORGANIZER;CN="eva's Ottilie":MAILTO:evas-ottilie-es@eva-stuttgart.de
END:VEVENT
BEGIN:VEVENT
DTSTART;TZID=Europe/Berlin:20250717T140000
DTEND;TZID=Europe/Berlin:20250717T160000
DTSTAMP:20260422T112235
CREATED:20250701T113038Z
LAST-MODIFIED:20250701T113038Z
UID:10006018-1752760800-1752768000@wandelstadt-esslingen.de
SUMMARY:Makramee Schlüsselanhänger
DESCRIPTION:Wir wollen Schlüsselanhänger mit Makramee herstellen. Bringe deinen Schlüsselring mit oder bediene dich aus unserem Sortiment. \nGarn\, Wolle und Schnüre sind vorhanden. \nAlle Materialien vorhanden. Vorbeikommen während der Workshopzeit möglich. Keine Vorkenntnisse oder vorherige Anmeldung.
URL:https://wandelstadt-esslingen.de/event/makramee-schluesselanhaenger/
LOCATION:eva’s Ottilie\, Ottilienplatz 3\, Esslingen\, 73728
ORGANIZER;CN="eva's Ottilie":MAILTO:evas-ottilie-es@eva-stuttgart.de
END:VEVENT
BEGIN:VEVENT
DTSTART;TZID=Europe/Berlin:20250710T140000
DTEND;TZID=Europe/Berlin:20250710T160000
DTSTAMP:20260422T112235
CREATED:20250701T112844Z
LAST-MODIFIED:20250701T112844Z
UID:10006017-1752156000-1752163200@wandelstadt-esslingen.de
SUMMARY:Karten gestalten
DESCRIPTION:Wir wollen Karten upcyceln und gestalten. Egal ob gemalt\, gezeichnet\, geklebt\, mit Schnur\, Wolle oder Glitzer gearbeitet wird. Lass deiner Kreativität freien Lauf. \nAlle Materialien vorhanden. Vorbeikommen während der Workshopzeit möglich. Keine Vorkenntnisse oder vorherige Anmeldung.
URL:https://wandelstadt-esslingen.de/event/karten-gestalten/
LOCATION:eva’s Ottilie\, Ottilienplatz 3\, Esslingen\, 73728
ORGANIZER;CN="eva's Ottilie":MAILTO:evas-ottilie-es@eva-stuttgart.de
END:VEVENT
BEGIN:VEVENT
DTSTART;TZID=Europe/Berlin:20250626T140000
DTEND;TZID=Europe/Berlin:20250626T160000
DTSTAMP:20260422T112235
CREATED:20250603T093517Z
LAST-MODIFIED:20250603T093517Z
UID:10005572-1750946400-1750953600@wandelstadt-esslingen.de
SUMMARY:Collage
DESCRIPTION:Gemeinsam wollen wir die Collage erkunden. Aus Zeitungsschnipseln\, Bildern uvm. in die Welt des Collagierens eintauchen. Ob du eine Wunschcollage\, Ressourcencollage oder einfach das Material kennenlernen und dich ausprobieren magst. Du entscheidest. \nAlle Materialien vorhanden\, du kannst gerne etwas mitbringen\, wenn du eine Idee hast\, Material von dir verarbeiten möchtest. Vorbeikommen während der Workshopzeit möglich. Keine Vorkenntnisse oder vorherige Anmeldung nötig.
URL:https://wandelstadt-esslingen.de/event/collage-2/
LOCATION:eva’s Ottilie\, Ottilienplatz 3\, Esslingen\, 73728
ORGANIZER;CN="eva's Ottilie":MAILTO:evas-ottilie-es@eva-stuttgart.de
END:VEVENT
BEGIN:VEVENT
DTSTART;TZID=Europe/Berlin:20250605T150000
DTEND;TZID=Europe/Berlin:20250605T170000
DTSTAMP:20260422T112235
CREATED:20250603T093356Z
LAST-MODIFIED:20250603T093356Z
UID:10005571-1749135600-1749142800@wandelstadt-esslingen.de
SUMMARY:Makramee Blumenampeln knüpfen 2.0
DESCRIPTION:Wir wollen Blumenampeln mit Makramee herstellen. Bringe deinen Lieblingsblumentopf mit oder bediene dich aus unserem Sortiment. Garn\, Wolle und Schnüre sind vorhanden. \nAlle Materialien vorhanden. Vorbeikommen während der Workshopzeit möglich. Keine Vorkenntnisse oder vorherige Anmeldung.
URL:https://wandelstadt-esslingen.de/event/makramee-blumenampeln-knuepfen-2-0/
LOCATION:eva’s Ottilie\, Ottilienplatz 3\, Esslingen\, 73728
ORGANIZER;CN="eva's Ottilie":MAILTO:evas-ottilie-es@eva-stuttgart.de
END:VEVENT
BEGIN:VEVENT
DTSTART;TZID=Europe/Berlin:20250522T140000
DTEND;TZID=Europe/Berlin:20250522T160000
DTSTAMP:20260422T112235
CREATED:20250501T130505Z
LAST-MODIFIED:20250501T130505Z
UID:10005393-1747922400-1747929600@wandelstadt-esslingen.de
SUMMARY:Collage
DESCRIPTION:Gemeinsam wollen wir die Collage erkunden. Aus Zeitungsschnipseln\, Bildern uvm. in die Welt des Collagierens eintauchen. Ob du eine Wunschcollage\, Ressourcencollage oder einfach das Material kennenlernen und dich ausprobieren magst. Du entscheidest. \nAlle Materialien vorhanden. Vorbeikommen während der Workshopzeit möglich. Keine Vorkenntnisse oder vorherige Anmeldung nötig.
URL:https://wandelstadt-esslingen.de/event/collage/
LOCATION:eva’s Ottilie\, Ottilienplatz 3\, Esslingen\, 73728
ORGANIZER;CN="eva's Ottilie":MAILTO:evas-ottilie-es@eva-stuttgart.de
END:VEVENT
BEGIN:VEVENT
DTSTART;TZID=Europe/Berlin:20250515T140000
DTEND;TZID=Europe/Berlin:20250515T160000
DTSTAMP:20260422T112235
CREATED:20250501T130056Z
LAST-MODIFIED:20250501T130056Z
UID:10005392-1747317600-1747324800@wandelstadt-esslingen.de
SUMMARY:Makramee Blumenampeln
DESCRIPTION:Wir wollen Blumenampeln mit Makramee herstellen. Bringe deinen Lieblingsblumentopf mit oder bediene dich aus unserem Sortiment. Garn\, Wolle und Schnüre sind vorhanden. \nAlle Materialien vorhanden. Vorbeikommen während der Workshopzeit möglich. Keine Vorkenntnisse oder vorherige Anmeldung.
URL:https://wandelstadt-esslingen.de/event/makramee-blumenampeln/
LOCATION:eva’s Ottilie\, Ottilienplatz 3\, Esslingen\, 73728
ORGANIZER;CN="eva's Ottilie":MAILTO:evas-ottilie-es@eva-stuttgart.de
END:VEVENT
BEGIN:VEVENT
DTSTART;TZID=Europe/Berlin:20250508T140000
DTEND;TZID=Europe/Berlin:20250508T160000
DTSTAMP:20260422T112235
CREATED:20250501T125625Z
LAST-MODIFIED:20250501T125625Z
UID:10005391-1746712800-1746720000@wandelstadt-esslingen.de
SUMMARY:Wollwerkstatt
DESCRIPTION:Egal ob du Lust auf häkeln\, stricken\, knüpfen\, weben o.ä. hast. Komm vorbei\, lerne etwas Neues oder bring deine angefangenen Projekte mit. Häkel- und Stricknadeln sowie Wolle sind vor Ort. Vorbeikommen jederzeit möglich.
URL:https://wandelstadt-esslingen.de/event/wollwerkstatt-3/
LOCATION:eva’s Ottilie\, Ottilienplatz 3\, Esslingen\, 73728
ORGANIZER;CN="eva's Ottilie":MAILTO:evas-ottilie-es@eva-stuttgart.de
END:VEVENT
BEGIN:VEVENT
DTSTART;TZID=Europe/Berlin:20250327T140000
DTEND;TZID=Europe/Berlin:20250327T160000
DTSTAMP:20260422T112235
CREATED:20250313T121357Z
LAST-MODIFIED:20250313T121357Z
UID:10004937-1743084000-1743091200@wandelstadt-esslingen.de
SUMMARY:Papierrosen aus Büchern
DESCRIPTION:Lerne\, wie du die die tollen Papierrosen selbst und einfach herstellen  kannst. Verschenke zukünftig nachhaltige Blumen(sträuße) oder stelle sie als Dekoration bei dir zuhause auf. \nMaterial ist vorhanden\, keine Vorkenntnisse notwendig\, ohne Anmeldung während der Zeit vorbeischauen. Wir freuen uns auf dich.
URL:https://wandelstadt-esslingen.de/event/papierrosen-aus-buechern/
LOCATION:eva’s Ottilie\, Ottilienplatz 3\, Esslingen\, 73728
ORGANIZER;CN="eva's Ottilie":MAILTO:evas-ottilie-es@eva-stuttgart.de
END:VEVENT
BEGIN:VEVENT
DTSTART;TZID=Europe/Berlin:20250320T140000
DTEND;TZID=Europe/Berlin:20250320T160000
DTSTAMP:20260422T112235
CREATED:20250313T121143Z
LAST-MODIFIED:20250313T121143Z
UID:10004936-1742479200-1742486400@wandelstadt-esslingen.de
SUMMARY:Origami Kraniche falten
DESCRIPTION:Lerne\, wie du die wunderschönen Origami Kraniche falten kannst. Sie sind vielseitig einsetzbar\, als Geschenk oder Dekoration in einem Mobilé oder einfach so. \nMaterial ist vorhanden\, keine Vorkenntnisse notwendig\, ohne Anmeldung während der Zeit vorbeischauen. Wir freuen uns auf dich.
URL:https://wandelstadt-esslingen.de/event/origami-kraniche-falten/
LOCATION:eva’s Ottilie\, Ottilienplatz 3\, Esslingen\, 73728
ORGANIZER;CN="eva's Ottilie":MAILTO:evas-ottilie-es@eva-stuttgart.de
END:VEVENT
BEGIN:VEVENT
DTSTART;TZID=Europe/Berlin:20250227T140000
DTEND;TZID=Europe/Berlin:20250227T160000
DTSTAMP:20260422T112235
CREATED:20250131T124048Z
LAST-MODIFIED:20250131T124048Z
UID:10004572-1740664800-1740672000@wandelstadt-esslingen.de
SUMMARY:Papierkörbe flechten Teil 2: flechten
DESCRIPTION:Wir wollen Papierkörbe o.ä. flechten. Hierfür haben wir Papierröllchen hergestellt und in Teil 2 des Workshops werden diese verarbeitet. Du kannst auch vorbeikommen\, wenn du Teil 1 verpasst hast. Falls uns die vorhandenen Röllchen ausgehen\, haben wir Zeitungspapier und alles an Material vor Ort\, du brauchst also nichts mitbringen. Keine Vorkenntnisse nötig\, kostenfrei und du kannst flexibel innerhalb der angegebenen Zeit dazustoßen.
URL:https://wandelstadt-esslingen.de/event/papierkoerbe-flechten-teil-2-flechten/
LOCATION:eva’s Ottilie\, Ottilienplatz 3\, Esslingen\, 73728
ORGANIZER;CN="eva's Ottilie":MAILTO:evas-ottilie-es@eva-stuttgart.de
END:VEVENT
BEGIN:VEVENT
DTSTART;TZID=Europe/Berlin:20250206T140000
DTEND;TZID=Europe/Berlin:20250206T160000
DTSTAMP:20260422T112235
CREATED:20250131T123752Z
LAST-MODIFIED:20250131T123752Z
UID:10004571-1738850400-1738857600@wandelstadt-esslingen.de
SUMMARY:Lesezeichen basteln (Kinder sind willkommen)
DESCRIPTION:Du kannst dein eigenes individuelles Lesezeichen basteln und mit nach Hause nehmen\, wenn du magst. Wir werden es so gestalten\, dass es dir eine Weile erhalten bleibt. Jede kreative Idee ist willkommen und deiner Fantasie sind keine Grenzen gesetzt. Alle Personen die Lust haben sind willkommen. \nMaterial ist vorhanden\, keine Vorkenntnisse oder Anmeldung nötig. Das Angebot ist kostenlos.
URL:https://wandelstadt-esslingen.de/event/lesezeichen-basteln-kinder-sind-willkommen/
LOCATION:eva’s Ottilie\, Ottilienplatz 3\, Esslingen\, 73728
ORGANIZER;CN="eva's Ottilie":MAILTO:evas-ottilie-es@eva-stuttgart.de
END:VEVENT
BEGIN:VEVENT
DTSTART;TZID=Europe/Berlin:20250123T150000
DTEND;TZID=Europe/Berlin:20250123T170000
DTSTAMP:20260422T112235
CREATED:20241230T153008Z
LAST-MODIFIED:20241230T153008Z
UID:10004535-1737644400-1737651600@wandelstadt-esslingen.de
SUMMARY:Papierkörbe flechten Teil 1 -Papierröllchen anfertigen-
DESCRIPTION:Wir wollen Papierkörbe o.ä. flechten\, doch hierfür benötigen wir erst einmal Papierröllchen\, die in Teil 2 des Workshops verarbeitet werden können. Sei von Grund auf dabei und lerne wie du die Röllchen herstellen kannst. Wir haben Zeitungspapier und alles an Material vor Ort\, du brauchst also nichts mitbringen. Keine Vorkenntnisse nötig\, kostenfrei und du kannst flexibel innerhalb der angegebenen Zeit dazustoßen. \n 
URL:https://wandelstadt-esslingen.de/event/papierkoerbe-flechten-teil-1-papierroellchen-anfertigen/2025-01-23/
LOCATION:eva’s Ottilie\, Ottilienplatz 3\, Esslingen\, 73728
ORGANIZER;CN="eva's Ottilie":MAILTO:evas-ottilie-es@eva-stuttgart.de
END:VEVENT
BEGIN:VEVENT
DTSTART;TZID=Europe/Berlin:20250116T140000
DTEND;TZID=Europe/Berlin:20250116T160000
DTSTAMP:20260422T112235
CREATED:20241230T153319Z
LAST-MODIFIED:20241230T153319Z
UID:10004536-1737036000-1737043200@wandelstadt-esslingen.de
SUMMARY:Wollwerkstatt
DESCRIPTION:Egal ob du Lust auf häkeln\, stricken\, knüpfen\, weben o.ä. hast. Komm vorbei\, lerne etwas neues oder bring deine angefangenen Projekte mit. \nHäkel- und Stricknadeln sowie Wolle sind vor Ort. Vorbeikommen jederzeit möglich.
URL:https://wandelstadt-esslingen.de/event/wollwerkstatt-2/
LOCATION:eva’s Ottilie\, Ottilienplatz 3\, Esslingen\, 73728
ORGANIZER;CN="eva's Ottilie":MAILTO:evas-ottilie-es@eva-stuttgart.de
END:VEVENT
BEGIN:VEVENT
DTSTART;TZID=Europe/Berlin:20250109T140000
DTEND;TZID=Europe/Berlin:20250109T160000
DTSTAMP:20260422T112235
CREATED:20241230T153008Z
LAST-MODIFIED:20241230T153008Z
UID:10004534-1736431200-1736438400@wandelstadt-esslingen.de
SUMMARY:Papierkörbe flechten Teil 1 -Papierröllchen anfertigen-
DESCRIPTION:Wir wollen Papierkörbe o.ä. flechten\, doch hierfür benötigen wir erst einmal Papierröllchen\, die in Teil 2 des Workshops verarbeitet werden können. Sei von Grund auf dabei und lerne wie du die Röllchen herstellen kannst. Wir haben Zeitungspapier und alles an Material vor Ort\, du brauchst also nichts mitbringen. Keine Vorkenntnisse nötig\, kostenfrei und du kannst flexibel innerhalb der angegebenen Zeit dazustoßen. \n 
URL:https://wandelstadt-esslingen.de/event/papierkoerbe-flechten-teil-1-papierroellchen-anfertigen/2025-01-09/
LOCATION:eva’s Ottilie\, Ottilienplatz 3\, Esslingen\, 73728
ORGANIZER;CN="eva's Ottilie":MAILTO:evas-ottilie-es@eva-stuttgart.de
END:VEVENT
BEGIN:VEVENT
DTSTART;TZID=Europe/Berlin:20241230T140000
DTEND;TZID=Europe/Berlin:20241230T160000
DTSTAMP:20260422T112235
CREATED:20241129T123345Z
LAST-MODIFIED:20241129T123345Z
UID:10004445-1735567200-1735574400@wandelstadt-esslingen.de
SUMMARY:kreativer Jahresabschluss
DESCRIPTION:Arbeite an einem deiner angefangenen kreativen Projekte oder lass’ dich von unserem Material & Ideen inspirieren. \nOhne Anmeldung. Ohne Vorkenntnisse. Verschiedene Materialien & Ideen vorhanden.
URL:https://wandelstadt-esslingen.de/event/kreativer-jahresabschluss/
LOCATION:eva’s Ottilie\, Ottilienplatz 3\, Esslingen\, 73728
ORGANIZER;CN="eva's Ottilie":MAILTO:evas-ottilie-es@eva-stuttgart.de
END:VEVENT
END:VCALENDAR