BEGIN:VCALENDAR
VERSION:2.0
PRODID:-//Wandelstadt Esslingen - ECPv6.15.20//NONSGML v1.0//EN
CALSCALE:GREGORIAN
METHOD:PUBLISH
X-ORIGINAL-URL:https://wandelstadt-esslingen.de
X-WR-CALDESC:Veranstaltungen für Wandelstadt Esslingen
REFRESH-INTERVAL;VALUE=DURATION:PT1H
X-Robots-Tag:noindex
X-PUBLISHED-TTL:PT1H
BEGIN:VTIMEZONE
TZID:Europe/Berlin
BEGIN:DAYLIGHT
TZOFFSETFROM:+0100
TZOFFSETTO:+0200
TZNAME:CEST
DTSTART:20230326T010000
END:DAYLIGHT
BEGIN:STANDARD
TZOFFSETFROM:+0200
TZOFFSETTO:+0100
TZNAME:CET
DTSTART:20231029T010000
END:STANDARD
BEGIN:DAYLIGHT
TZOFFSETFROM:+0100
TZOFFSETTO:+0200
TZNAME:CEST
DTSTART:20240331T010000
END:DAYLIGHT
BEGIN:STANDARD
TZOFFSETFROM:+0200
TZOFFSETTO:+0100
TZNAME:CET
DTSTART:20241027T010000
END:STANDARD
BEGIN:DAYLIGHT
TZOFFSETFROM:+0100
TZOFFSETTO:+0200
TZNAME:CEST
DTSTART:20250330T010000
END:DAYLIGHT
BEGIN:STANDARD
TZOFFSETFROM:+0200
TZOFFSETTO:+0100
TZNAME:CET
DTSTART:20251026T010000
END:STANDARD
BEGIN:DAYLIGHT
TZOFFSETFROM:+0100
TZOFFSETTO:+0200
TZNAME:CEST
DTSTART:20260329T010000
END:DAYLIGHT
BEGIN:STANDARD
TZOFFSETFROM:+0200
TZOFFSETTO:+0100
TZNAME:CET
DTSTART:20261025T010000
END:STANDARD
BEGIN:DAYLIGHT
TZOFFSETFROM:+0100
TZOFFSETTO:+0200
TZNAME:CEST
DTSTART:20270328T010000
END:DAYLIGHT
BEGIN:STANDARD
TZOFFSETFROM:+0200
TZOFFSETTO:+0100
TZNAME:CET
DTSTART:20271031T010000
END:STANDARD
END:VTIMEZONE
BEGIN:VEVENT
DTSTART;TZID=Europe/Berlin:20260309T193000
DTEND;TZID=Europe/Berlin:20260309T193000
DTSTAMP:20260421T152710
CREATED:20260224T162732Z
LAST-MODIFIED:20260224T162732Z
UID:10009132-1773084600-1773084600@wandelstadt-esslingen.de
SUMMARY:Warum Verzeihen eine Wohltat sein kann
DESCRIPTION:Vortrag „ Das kann ich niemals verzeihen!“ Wer tiefe Verletzungen erfahren hat\, kann diese Haltung nachvollziehen. Doch die Zeit allein heilt keine Wunden. Wer nicht auf Dauer in negativen Gefühlen gefangen bleiben will\, muss sie loslassen\, um einen Raum für inneren Frieden zu finden. Die Kunst des Verzeihens ist etwas vom Schwersten\, aber sie kann eine Wohltat sein\, für andere und für sich selbst. Referentin Dr. Beate M. Weingardt Diplom-Psychologin und evangelische Theologin aus Tübingen\, erfolgreiche Autorin und in der psychologischen Beratung und als Veranstaltungsreferentin tätig. Sie hat in Heidelberg über den „ Prozess des Vergebens in Theorie und Empirie“ promoviert und beschäﬅigt sich seit Jahrzehnten fachlich und persönlich mit diesem schweren und zugleich zukunﬅsweisenden Thema.   Ort der Veranstaltung : Lemppsaal\, Im Blarer\, Franziskanergasse 4\, 73728 Esslingen am Neckar
URL:https://wandelstadt-esslingen.de/event/warum-verzeihen-eine-wohltat-sein-kann/
LOCATION:Das neue Blarer\, Franziskanergasse 4\, Esslingen\, 73728\, Deutschland
END:VEVENT
BEGIN:VEVENT
DTSTART;TZID=Europe/Berlin:20260127T190000
DTEND;TZID=Europe/Berlin:20260127T210000
DTSTAMP:20260421T152710
CREATED:20260102T185316Z
LAST-MODIFIED:20260102T185316Z
UID:10008224-1769540400-1769547600@wandelstadt-esslingen.de
SUMMARY:Tag des Gedenkens an die Opfer des Nationalsozialismus 2026
DESCRIPTION:Dienstag\, 27. Januar 2026\, 19 Uhr\nEsslingen\, Stadtkirche St. Dionys \nTag des Gedenkens an die Opfer des Nationalsozialismus 2026\nAm 27. Januar 1945 befreite die Rote Armee die Konzentrationslager in Auschwitz. Dieser Tag wurde vom deutschen Bundespräsidenten Roman Herzog 1996 als offizieller Gedenktag für die Opfer des Nationalsozialismus eingerichtet\, um an die Gräueltaten der Nationalsozialisten und an die Menschen zu erinnern\, die ihnen zum Opfer fielen. Das Wichtigste an diesem Tag ist das Gedenken an die Menschen\, denen unbeschreiblich großes Leid angetan wurde. \nZwangssterilisierte\nZu den eher vergessenen Opfern gehören die Menschen\, die ab 1933 im Rahmen des so genannten Erbgesundheitsgesetzes im ganzen Deutschen Reich zwangssterilisiert wurden. Auch im Esslinger Krankenhaus sterilisierten Chirurgen mehr als 200 Männer und Frauen\, zudem wurde eine Zwangsabtreibung durchgeführt. Wer wurde Opfer und warum? Wie versuchten sich manche zur Wehr zu setzen? Wann und warum bekamen sie erst sehr spät Entschädigung? \nMitwirkende: Dr. Gudrun Silberzahn-Jandt\, Arbeitsgruppe des Georgii-Gymnasiums\, Musikalische Umrahmung vom Schulorchester des Theodor-Heuss-Gymnasiums Esslingen.\nGrußworte: Bürgermeister Hans-Georg Sigel\, Pfarrer Stefan Möhler
URL:https://wandelstadt-esslingen.de/event/tag-des-gedenkens-an-die-opfer-des-nationalsozialismus-2026/
LOCATION:Stadtkirche St. Dionys\, Marktplatz 18\, Esslingen\, 73728
CATEGORIES:Demonstration,Live-Veranstaltung
END:VEVENT
BEGIN:VEVENT
DTSTART;TZID=Europe/Berlin:20250217T190000
DTEND;TZID=Europe/Berlin:20250217T210000
DTSTAMP:20260421T152710
CREATED:20250127T165407Z
LAST-MODIFIED:20250127T165407Z
UID:10004568-1739818800-1739826000@wandelstadt-esslingen.de
SUMMARY:Klartext im Blarer – Diskussionsforum mit den Kandidierenden Bundestagswahl 2025
DESCRIPTION:Die vorgezogene Bundestagswahl findet am 23. Februar 2025 statt. An diesem Abend können Sie mit Kandidatinnen und Kandidaten der aussichtsreich kandidierenden Parteien im Landkreis Esslingen ins Gespräch kommen. Die Kandidierenden stellen ihre Ziele und Themen vor\, für die sie sich im Bundestag einsetzen möchten und nehmen sich Zeit für Ihre Fragen. Wir freuen uns auf Sie! \nMontag\, 17. Februar 2025\, 19.00 – 21.00 Uhr \nEsslingen\, DAS NEUE BLARER\, Blarerplatz \nDie Teilnahme ist kostenlos \nAnmeldung erforderlich bis 14. Februar 2025: \nkeb Katholische Erwachsenenbildung: Tel.: 0711 – 38 21 74\, info @keb-esslingen.de\, keb-esslingen.de oder Evangelisches Bildungswerk: Tel.: 07022 – 90 57 60\, info@ebiwes.de\, ev-bildungswerk-esslingen.de \nEine Kooperation der Außenstelle Ludwigsburg der Landeszentrale für politische Bildung\, des Evangelischen Bildungswerks im Landkreis Esslingen\, der Katholischen Erwachsenenbildung im Landkreis Esslingen und des Kreisjugendrings Esslingen
URL:https://wandelstadt-esslingen.de/event/klartext-im-blarer-diskussionsforum-mit-den-kandidierenden-bundestagswahl-2025/
LOCATION:Das neue Blarer\, Franziskanergasse 4\, Esslingen\, 73728\, Deutschland
END:VEVENT
BEGIN:VEVENT
DTSTART;TZID=Europe/Berlin:20241007T153000
DTEND;TZID=Europe/Berlin:20241007T153000
DTSTAMP:20260421T152710
CREATED:20240926T201931Z
LAST-MODIFIED:20240926T201931Z
UID:10004044-1728315000-1728315000@wandelstadt-esslingen.de
SUMMARY:DemoCrazy – Demokratie erlebbar machen / Kultur im Diakonieladen
DESCRIPTION:Ab 15:30: Capoeira – Vorführung und Mitmachgelegenheit \nAfrobrasilianische Fusion von Akrobatik\, Kampfkunst & Musik \nhttps://dieselstrasse.de/kalenderdaten/detail/kultur-im-diakonieladen-0710/ \nIm Alltagsort Diakonieladen in Esslingen halten sich Menschen mit unterschiedlichsten Lebenswirklichkeiten auf: Menschen kaufen dort ein\, weil ihnen nur wenig Geld zur Verfügung steht oder weil für sie Nachhaltigkeit eine hohe Bedeutung hat. Außerdem sind dort Ehrenamtliche\, Menschen in Arbeitsgelegenheit (AGH) und Hauptamtliche beschäftigt und es kommen täglich Personen vorbei\, die Waren spenden. Durch soziokulturelle und demokratiebildende Aktionen sollen die Menschen auf den zwei Etagen des Diakonieladens in einen respektvollen und konstruktiven Austausch gebracht werden und ihre Ideen und Themen einbringen. Idealerweise entsteht eine Gruppe aus Laden-Nutzer*innen\, die sich verantwortlich fühlt\, Veranstaltungen wie Konzerte u.ä. zu planen und zu begleiten. 
URL:https://wandelstadt-esslingen.de/event/democrazy-demokratie-erlebbar-machen-kultur-im-diakonieladen/
LOCATION:Alltagsort Diakonieladen Esslingen\, Küferstrasse 13/1\, Esslingen am Neckar\, 73728\, Deutschland
ORGANIZER;CN="Kulturzentrum Dieselstrasse":MAILTO:info@dieselstrasse.de
END:VEVENT
BEGIN:VEVENT
DTSTART;TZID=Europe/Berlin:20240502T193000
DTEND;TZID=Europe/Berlin:20240502T203000
DTSTAMP:20260421T152710
CREATED:20240422T193749Z
LAST-MODIFIED:20240422T194150Z
UID:10002842-1714678200-1714681800@wandelstadt-esslingen.de
SUMMARY:Unser täglich Brot. Zukunftsfähige Landwirtschaft
DESCRIPTION:Klartext im Blarer\nmit dem Bundesminister für Ernährung und Landwirtschaft Cem Özdemir\, MdB\nZur Veranstaltung:\nOhne die Arbeit unserer Bäuerinnenund Bauern fehlt uns allen das Wichtigste: Unser täglich Brot! Darum ist es im Interesse aller Bürgerinnen und Bürger\, dass unsere Landwirtschaft zukunfts- und krisenfest ist\, sie Perspektiven auch für die nächste Generation der Hofnachfolge bietet. Deshalb braucht es gute Rahmenbedingungen für ihre wertvolle Arbeit. Lassen Sie uns also darüber diskutieren wie wir Planbarkeit\, Verlässlichkeit und Veränderungsbereitschaft unterstützen und so Wertschätzung und Wertschöpfung unserer Bauernfamilien stärken können. Damit Landwirtinnen und Landwirte das Klima\, die Natur und Tiere schützen und zugleich hochwertige und bezahlbare Lebensmittel erzeugen. \nZur Veranstaltungsreihe:\nIn der Stadtmitte von Esslingen – im Neuen Blarer – soll „Klartext“ gesprochen werden. Das Evangelische Bildungswerk und der Evangelische Kirchenbezirk Esslingen laden Persönlichkeiten des öffentlichen Lebens und aus den verschiedensten Bereichen der Gesellschaft ein.\nDie Gäste reflektieren ihre Arbeit\, ihre Motivationen und aktuelle gesellschaftliche Entwicklungen an christlichen Werten. Sie reden über den Gleichklang von „weltlicher Verantwortung“ und ihrer „persönlichen Gewissheit“.\n„Klartext im Blarer“ will den Menschen in Esslingen und Umgebung Impulse zum Nachdenken über „Gott und die Welt“ geben. Es will zur eigenen Lebensgestaltung anregen\, sowie Motivation zu einer Neuausrichtung und „Orientierungshilfe in zunehmender Orientierungslosigkeit“ geben. \n 
URL:https://wandelstadt-esslingen.de/event/unser-taeglich-brot-zukunftsfaehige-landwirtschaft/
LOCATION:Das neue Blarer\, Franziskanergasse 4\, Esslingen\, 73728\, Deutschland
CATEGORIES:Infoveranstaltung
END:VEVENT
END:VCALENDAR