BEGIN:VCALENDAR
VERSION:2.0
PRODID:-//Wandelstadt Esslingen - ECPv6.15.20//NONSGML v1.0//EN
CALSCALE:GREGORIAN
METHOD:PUBLISH
X-WR-CALNAME:Wandelstadt Esslingen
X-ORIGINAL-URL:https://wandelstadt-esslingen.de
X-WR-CALDESC:Veranstaltungen für Wandelstadt Esslingen
REFRESH-INTERVAL;VALUE=DURATION:PT1H
X-Robots-Tag:noindex
X-PUBLISHED-TTL:PT1H
BEGIN:VTIMEZONE
TZID:Europe/Berlin
BEGIN:DAYLIGHT
TZOFFSETFROM:+0100
TZOFFSETTO:+0200
TZNAME:CEST
DTSTART:20230326T010000
END:DAYLIGHT
BEGIN:STANDARD
TZOFFSETFROM:+0200
TZOFFSETTO:+0100
TZNAME:CET
DTSTART:20231029T010000
END:STANDARD
BEGIN:DAYLIGHT
TZOFFSETFROM:+0100
TZOFFSETTO:+0200
TZNAME:CEST
DTSTART:20240331T010000
END:DAYLIGHT
BEGIN:STANDARD
TZOFFSETFROM:+0200
TZOFFSETTO:+0100
TZNAME:CET
DTSTART:20241027T010000
END:STANDARD
BEGIN:DAYLIGHT
TZOFFSETFROM:+0100
TZOFFSETTO:+0200
TZNAME:CEST
DTSTART:20250330T010000
END:DAYLIGHT
BEGIN:STANDARD
TZOFFSETFROM:+0200
TZOFFSETTO:+0100
TZNAME:CET
DTSTART:20251026T010000
END:STANDARD
END:VTIMEZONE
BEGIN:VEVENT
DTSTART;TZID=Europe/Berlin:20240821T193000
DTEND;TZID=Europe/Berlin:20240821T210000
DTSTAMP:20260421T213146
CREATED:20240206T112222Z
LAST-MODIFIED:20240206T113330Z
UID:10004593-1724268600-1724274000@wandelstadt-esslingen.de
SUMMARY:ES GRÜNT!
DESCRIPTION:Esslingen: eine Stadt kühlt grün\nGlobal denken und regional handeln\, das ist unser Leitspruch. \nKomm gerne vorbei und schreib uns eine Mail an mitmachen@es-gruent.de\, damit wir dir den Ort mitteilen können.
URL:https://wandelstadt-esslingen.de/event/es-gruent-3/2024-08-21/
ATTACH;FMTTYPE=image/jpeg:https://wandelstadt-esslingen.de/wp-content/uploads/2022/10/giesspaten_Natalia_Rak_Girl_with_water_can_Bialystok.jpg
ORGANIZER;CN="ES gr%C3%BCnt":MAILTO:mitmachen@es-gruent.de
END:VEVENT
BEGIN:VEVENT
DTSTART;TZID=Europe/Berlin:20240814T193000
DTEND;TZID=Europe/Berlin:20240814T210000
DTSTAMP:20260421T213146
CREATED:20240206T112222Z
LAST-MODIFIED:20240206T113330Z
UID:10004592-1723663800-1723669200@wandelstadt-esslingen.de
SUMMARY:ES GRÜNT!
DESCRIPTION:Esslingen: eine Stadt kühlt grün\nGlobal denken und regional handeln\, das ist unser Leitspruch. \nKomm gerne vorbei und schreib uns eine Mail an mitmachen@es-gruent.de\, damit wir dir den Ort mitteilen können.
URL:https://wandelstadt-esslingen.de/event/es-gruent-3/2024-08-14/
ATTACH;FMTTYPE=image/jpeg:https://wandelstadt-esslingen.de/wp-content/uploads/2022/10/giesspaten_Natalia_Rak_Girl_with_water_can_Bialystok.jpg
ORGANIZER;CN="ES gr%C3%BCnt":MAILTO:mitmachen@es-gruent.de
END:VEVENT
BEGIN:VEVENT
DTSTART;TZID=Europe/Berlin:20240807T193000
DTEND;TZID=Europe/Berlin:20240807T210000
DTSTAMP:20260421T213146
CREATED:20240206T112222Z
LAST-MODIFIED:20240206T113330Z
UID:10004591-1723059000-1723064400@wandelstadt-esslingen.de
SUMMARY:ES GRÜNT!
DESCRIPTION:Esslingen: eine Stadt kühlt grün\nGlobal denken und regional handeln\, das ist unser Leitspruch. \nKomm gerne vorbei und schreib uns eine Mail an mitmachen@es-gruent.de\, damit wir dir den Ort mitteilen können.
URL:https://wandelstadt-esslingen.de/event/es-gruent-3/2024-08-07/
ATTACH;FMTTYPE=image/jpeg:https://wandelstadt-esslingen.de/wp-content/uploads/2022/10/giesspaten_Natalia_Rak_Girl_with_water_can_Bialystok.jpg
ORGANIZER;CN="ES gr%C3%BCnt":MAILTO:mitmachen@es-gruent.de
END:VEVENT
BEGIN:VEVENT
DTSTART;TZID=Europe/Berlin:20240731T193000
DTEND;TZID=Europe/Berlin:20240731T210000
DTSTAMP:20260421T213146
CREATED:20240206T112222Z
LAST-MODIFIED:20240206T113330Z
UID:10001941-1722454200-1722459600@wandelstadt-esslingen.de
SUMMARY:ES GRÜNT!
DESCRIPTION:Esslingen: eine Stadt kühlt grün\nGlobal denken und regional handeln\, das ist unser Leitspruch. \nKomm gerne vorbei und schreib uns eine Mail an mitmachen@es-gruent.de\, damit wir dir den Ort mitteilen können.
URL:https://wandelstadt-esslingen.de/event/es-gruent-3/2024-07-31/
ATTACH;FMTTYPE=image/jpeg:https://wandelstadt-esslingen.de/wp-content/uploads/2022/10/giesspaten_Natalia_Rak_Girl_with_water_can_Bialystok.jpg
ORGANIZER;CN="ES gr%C3%BCnt":MAILTO:mitmachen@es-gruent.de
END:VEVENT
BEGIN:VEVENT
DTSTART;TZID=Europe/Berlin:20240724T193000
DTEND;TZID=Europe/Berlin:20240724T210000
DTSTAMP:20260421T213146
CREATED:20240206T112222Z
LAST-MODIFIED:20240206T113330Z
UID:10004590-1721849400-1721854800@wandelstadt-esslingen.de
SUMMARY:ES GRÜNT!
DESCRIPTION:Esslingen: eine Stadt kühlt grün\nGlobal denken und regional handeln\, das ist unser Leitspruch. \nKomm gerne vorbei und schreib uns eine Mail an mitmachen@es-gruent.de\, damit wir dir den Ort mitteilen können.
URL:https://wandelstadt-esslingen.de/event/es-gruent-3/2024-07-24/
ATTACH;FMTTYPE=image/jpeg:https://wandelstadt-esslingen.de/wp-content/uploads/2022/10/giesspaten_Natalia_Rak_Girl_with_water_can_Bialystok.jpg
ORGANIZER;CN="ES gr%C3%BCnt":MAILTO:mitmachen@es-gruent.de
END:VEVENT
BEGIN:VEVENT
DTSTART;TZID=Europe/Berlin:20240717T193000
DTEND;TZID=Europe/Berlin:20240717T210000
DTSTAMP:20260421T213146
CREATED:20240206T112222Z
LAST-MODIFIED:20240206T113330Z
UID:10004589-1721244600-1721250000@wandelstadt-esslingen.de
SUMMARY:ES GRÜNT!
DESCRIPTION:Esslingen: eine Stadt kühlt grün\nGlobal denken und regional handeln\, das ist unser Leitspruch. \nKomm gerne vorbei und schreib uns eine Mail an mitmachen@es-gruent.de\, damit wir dir den Ort mitteilen können.
URL:https://wandelstadt-esslingen.de/event/es-gruent-3/2024-07-17/
ATTACH;FMTTYPE=image/jpeg:https://wandelstadt-esslingen.de/wp-content/uploads/2022/10/giesspaten_Natalia_Rak_Girl_with_water_can_Bialystok.jpg
ORGANIZER;CN="ES gr%C3%BCnt":MAILTO:mitmachen@es-gruent.de
END:VEVENT
BEGIN:VEVENT
DTSTART;TZID=Europe/Berlin:20240710T193000
DTEND;TZID=Europe/Berlin:20240710T210000
DTSTAMP:20260421T213146
CREATED:20240206T112222Z
LAST-MODIFIED:20240206T113330Z
UID:10004588-1720639800-1720645200@wandelstadt-esslingen.de
SUMMARY:ES GRÜNT!
DESCRIPTION:Esslingen: eine Stadt kühlt grün\nGlobal denken und regional handeln\, das ist unser Leitspruch. \nKomm gerne vorbei und schreib uns eine Mail an mitmachen@es-gruent.de\, damit wir dir den Ort mitteilen können.
URL:https://wandelstadt-esslingen.de/event/es-gruent-3/2024-07-10/
ATTACH;FMTTYPE=image/jpeg:https://wandelstadt-esslingen.de/wp-content/uploads/2022/10/giesspaten_Natalia_Rak_Girl_with_water_can_Bialystok.jpg
ORGANIZER;CN="ES gr%C3%BCnt":MAILTO:mitmachen@es-gruent.de
END:VEVENT
BEGIN:VEVENT
DTSTART;TZID=Europe/Berlin:20240703T193000
DTEND;TZID=Europe/Berlin:20240703T210000
DTSTAMP:20260421T213146
CREATED:20240206T112222Z
LAST-MODIFIED:20240206T113330Z
UID:10001940-1720035000-1720040400@wandelstadt-esslingen.de
SUMMARY:ES GRÜNT!
DESCRIPTION:Esslingen: eine Stadt kühlt grün\nGlobal denken und regional handeln\, das ist unser Leitspruch. \nKomm gerne vorbei und schreib uns eine Mail an mitmachen@es-gruent.de\, damit wir dir den Ort mitteilen können.
URL:https://wandelstadt-esslingen.de/event/es-gruent-3/2024-07-03/
ATTACH;FMTTYPE=image/jpeg:https://wandelstadt-esslingen.de/wp-content/uploads/2022/10/giesspaten_Natalia_Rak_Girl_with_water_can_Bialystok.jpg
ORGANIZER;CN="ES gr%C3%BCnt":MAILTO:mitmachen@es-gruent.de
END:VEVENT
BEGIN:VEVENT
DTSTART;TZID=Europe/Berlin:20240703T183000
DTEND;TZID=Europe/Berlin:20240703T183000
DTSTAMP:20260421T213146
CREATED:20240621T100704Z
LAST-MODIFIED:20240621T100704Z
UID:10003029-1720031400-1720031400@wandelstadt-esslingen.de
SUMMARY:ES Grünt und Bureau Baubotanik in der Villa Merkel
DESCRIPTION:Gemeinsam gestalten wir einen interaktiven Gesprächsabend zu Begrünung und Ökosystemen in der Stadt\, Klimaanpassung\, lebende Bauten sowie Visionen von kreativen und kollektiven Ansätzen.
URL:https://wandelstadt-esslingen.de/event/es-gruent-und-bureau-baubotanik-in-der-villa-merkel/
LOCATION:Villa Merkel\, Pulverwiesen 25\, Esslingen\, 73726\, Deutschland
ORGANIZER;CN="ES gr%C3%BCnt":MAILTO:mitmachen@es-gruent.de
END:VEVENT
BEGIN:VEVENT
DTSTART;TZID=Europe/Berlin:20240626T193000
DTEND;TZID=Europe/Berlin:20240626T210000
DTSTAMP:20260421T213146
CREATED:20240206T112222Z
LAST-MODIFIED:20240206T113330Z
UID:10004587-1719430200-1719435600@wandelstadt-esslingen.de
SUMMARY:ES GRÜNT!
DESCRIPTION:Esslingen: eine Stadt kühlt grün\nGlobal denken und regional handeln\, das ist unser Leitspruch. \nKomm gerne vorbei und schreib uns eine Mail an mitmachen@es-gruent.de\, damit wir dir den Ort mitteilen können.
URL:https://wandelstadt-esslingen.de/event/es-gruent-3/2024-06-26/
ATTACH;FMTTYPE=image/jpeg:https://wandelstadt-esslingen.de/wp-content/uploads/2022/10/giesspaten_Natalia_Rak_Girl_with_water_can_Bialystok.jpg
ORGANIZER;CN="ES gr%C3%BCnt":MAILTO:mitmachen@es-gruent.de
END:VEVENT
BEGIN:VEVENT
DTSTART;TZID=Europe/Berlin:20240619T193000
DTEND;TZID=Europe/Berlin:20240619T210000
DTSTAMP:20260421T213146
CREATED:20240206T112222Z
LAST-MODIFIED:20240206T113330Z
UID:10004586-1718825400-1718830800@wandelstadt-esslingen.de
SUMMARY:ES GRÜNT!
DESCRIPTION:Esslingen: eine Stadt kühlt grün\nGlobal denken und regional handeln\, das ist unser Leitspruch. \nKomm gerne vorbei und schreib uns eine Mail an mitmachen@es-gruent.de\, damit wir dir den Ort mitteilen können.
URL:https://wandelstadt-esslingen.de/event/es-gruent-3/2024-06-19/
ATTACH;FMTTYPE=image/jpeg:https://wandelstadt-esslingen.de/wp-content/uploads/2022/10/giesspaten_Natalia_Rak_Girl_with_water_can_Bialystok.jpg
ORGANIZER;CN="ES gr%C3%BCnt":MAILTO:mitmachen@es-gruent.de
END:VEVENT
BEGIN:VEVENT
DTSTART;TZID=Europe/Berlin:20240612T193000
DTEND;TZID=Europe/Berlin:20240612T210000
DTSTAMP:20260421T213146
CREATED:20240206T112222Z
LAST-MODIFIED:20240206T113330Z
UID:10004585-1718220600-1718226000@wandelstadt-esslingen.de
SUMMARY:ES GRÜNT!
DESCRIPTION:Esslingen: eine Stadt kühlt grün\nGlobal denken und regional handeln\, das ist unser Leitspruch. \nKomm gerne vorbei und schreib uns eine Mail an mitmachen@es-gruent.de\, damit wir dir den Ort mitteilen können.
URL:https://wandelstadt-esslingen.de/event/es-gruent-3/2024-06-12/
ATTACH;FMTTYPE=image/jpeg:https://wandelstadt-esslingen.de/wp-content/uploads/2022/10/giesspaten_Natalia_Rak_Girl_with_water_can_Bialystok.jpg
ORGANIZER;CN="ES gr%C3%BCnt":MAILTO:mitmachen@es-gruent.de
END:VEVENT
BEGIN:VEVENT
DTSTART;TZID=Europe/Berlin:20240605T193000
DTEND;TZID=Europe/Berlin:20240605T210000
DTSTAMP:20260421T213146
CREATED:20240206T112222Z
LAST-MODIFIED:20240206T113330Z
UID:10001939-1717615800-1717621200@wandelstadt-esslingen.de
SUMMARY:ES GRÜNT!
DESCRIPTION:Esslingen: eine Stadt kühlt grün\nGlobal denken und regional handeln\, das ist unser Leitspruch. \nKomm gerne vorbei und schreib uns eine Mail an mitmachen@es-gruent.de\, damit wir dir den Ort mitteilen können.
URL:https://wandelstadt-esslingen.de/event/es-gruent-3/2024-06-05/
ATTACH;FMTTYPE=image/jpeg:https://wandelstadt-esslingen.de/wp-content/uploads/2022/10/giesspaten_Natalia_Rak_Girl_with_water_can_Bialystok.jpg
ORGANIZER;CN="ES gr%C3%BCnt":MAILTO:mitmachen@es-gruent.de
END:VEVENT
BEGIN:VEVENT
DTSTART;TZID=Europe/Berlin:20240529T193000
DTEND;TZID=Europe/Berlin:20240529T210000
DTSTAMP:20260421T213146
CREATED:20240206T112222Z
LAST-MODIFIED:20240206T113330Z
UID:10004584-1717011000-1717016400@wandelstadt-esslingen.de
SUMMARY:ES GRÜNT!
DESCRIPTION:Esslingen: eine Stadt kühlt grün\nGlobal denken und regional handeln\, das ist unser Leitspruch. \nKomm gerne vorbei und schreib uns eine Mail an mitmachen@es-gruent.de\, damit wir dir den Ort mitteilen können.
URL:https://wandelstadt-esslingen.de/event/es-gruent-3/2024-05-29/
ATTACH;FMTTYPE=image/jpeg:https://wandelstadt-esslingen.de/wp-content/uploads/2022/10/giesspaten_Natalia_Rak_Girl_with_water_can_Bialystok.jpg
ORGANIZER;CN="ES gr%C3%BCnt":MAILTO:mitmachen@es-gruent.de
END:VEVENT
BEGIN:VEVENT
DTSTART;TZID=Europe/Berlin:20240522T193000
DTEND;TZID=Europe/Berlin:20240522T210000
DTSTAMP:20260421T213146
CREATED:20240206T112222Z
LAST-MODIFIED:20240206T113330Z
UID:10004583-1716406200-1716411600@wandelstadt-esslingen.de
SUMMARY:ES GRÜNT!
DESCRIPTION:Esslingen: eine Stadt kühlt grün\nGlobal denken und regional handeln\, das ist unser Leitspruch. \nKomm gerne vorbei und schreib uns eine Mail an mitmachen@es-gruent.de\, damit wir dir den Ort mitteilen können.
URL:https://wandelstadt-esslingen.de/event/es-gruent-3/2024-05-22/
ATTACH;FMTTYPE=image/jpeg:https://wandelstadt-esslingen.de/wp-content/uploads/2022/10/giesspaten_Natalia_Rak_Girl_with_water_can_Bialystok.jpg
ORGANIZER;CN="ES gr%C3%BCnt":MAILTO:mitmachen@es-gruent.de
END:VEVENT
BEGIN:VEVENT
DTSTART;TZID=Europe/Berlin:20240515T193000
DTEND;TZID=Europe/Berlin:20240515T210000
DTSTAMP:20260421T213146
CREATED:20240206T112222Z
LAST-MODIFIED:20240206T113330Z
UID:10004582-1715801400-1715806800@wandelstadt-esslingen.de
SUMMARY:ES GRÜNT!
DESCRIPTION:Esslingen: eine Stadt kühlt grün\nGlobal denken und regional handeln\, das ist unser Leitspruch. \nKomm gerne vorbei und schreib uns eine Mail an mitmachen@es-gruent.de\, damit wir dir den Ort mitteilen können.
URL:https://wandelstadt-esslingen.de/event/es-gruent-3/2024-05-15/
ATTACH;FMTTYPE=image/jpeg:https://wandelstadt-esslingen.de/wp-content/uploads/2022/10/giesspaten_Natalia_Rak_Girl_with_water_can_Bialystok.jpg
ORGANIZER;CN="ES gr%C3%BCnt":MAILTO:mitmachen@es-gruent.de
END:VEVENT
BEGIN:VEVENT
DTSTART;TZID=Europe/Berlin:20240508T193000
DTEND;TZID=Europe/Berlin:20240508T210000
DTSTAMP:20260421T213146
CREATED:20240206T112222Z
LAST-MODIFIED:20240206T113330Z
UID:10001938-1715196600-1715202000@wandelstadt-esslingen.de
SUMMARY:ES GRÜNT!
DESCRIPTION:Esslingen: eine Stadt kühlt grün\nGlobal denken und regional handeln\, das ist unser Leitspruch. \nKomm gerne vorbei und schreib uns eine Mail an mitmachen@es-gruent.de\, damit wir dir den Ort mitteilen können.
URL:https://wandelstadt-esslingen.de/event/es-gruent-3/2024-05-08/
ATTACH;FMTTYPE=image/jpeg:https://wandelstadt-esslingen.de/wp-content/uploads/2022/10/giesspaten_Natalia_Rak_Girl_with_water_can_Bialystok.jpg
ORGANIZER;CN="ES gr%C3%BCnt":MAILTO:mitmachen@es-gruent.de
END:VEVENT
BEGIN:VEVENT
DTSTART;TZID=Europe/Berlin:20240501T193000
DTEND;TZID=Europe/Berlin:20240501T210000
DTSTAMP:20260421T213146
CREATED:20240206T112222Z
LAST-MODIFIED:20240206T113330Z
UID:10004581-1714591800-1714597200@wandelstadt-esslingen.de
SUMMARY:ES GRÜNT!
DESCRIPTION:Esslingen: eine Stadt kühlt grün\nGlobal denken und regional handeln\, das ist unser Leitspruch. \nKomm gerne vorbei und schreib uns eine Mail an mitmachen@es-gruent.de\, damit wir dir den Ort mitteilen können.
URL:https://wandelstadt-esslingen.de/event/es-gruent-3/2024-05-01/
ATTACH;FMTTYPE=image/jpeg:https://wandelstadt-esslingen.de/wp-content/uploads/2022/10/giesspaten_Natalia_Rak_Girl_with_water_can_Bialystok.jpg
ORGANIZER;CN="ES gr%C3%BCnt":MAILTO:mitmachen@es-gruent.de
END:VEVENT
BEGIN:VEVENT
DTSTART;TZID=Europe/Berlin:20240424T193000
DTEND;TZID=Europe/Berlin:20240424T210000
DTSTAMP:20260421T213146
CREATED:20240206T112222Z
LAST-MODIFIED:20240206T113330Z
UID:10004580-1713987000-1713992400@wandelstadt-esslingen.de
SUMMARY:ES GRÜNT!
DESCRIPTION:Esslingen: eine Stadt kühlt grün\nGlobal denken und regional handeln\, das ist unser Leitspruch. \nKomm gerne vorbei und schreib uns eine Mail an mitmachen@es-gruent.de\, damit wir dir den Ort mitteilen können.
URL:https://wandelstadt-esslingen.de/event/es-gruent-3/2024-04-24/
ATTACH;FMTTYPE=image/jpeg:https://wandelstadt-esslingen.de/wp-content/uploads/2022/10/giesspaten_Natalia_Rak_Girl_with_water_can_Bialystok.jpg
ORGANIZER;CN="ES gr%C3%BCnt":MAILTO:mitmachen@es-gruent.de
END:VEVENT
BEGIN:VEVENT
DTSTART;TZID=Europe/Berlin:20240417T193000
DTEND;TZID=Europe/Berlin:20240417T210000
DTSTAMP:20260421T213146
CREATED:20240206T112222Z
LAST-MODIFIED:20240206T113330Z
UID:10004579-1713382200-1713387600@wandelstadt-esslingen.de
SUMMARY:ES GRÜNT!
DESCRIPTION:Esslingen: eine Stadt kühlt grün\nGlobal denken und regional handeln\, das ist unser Leitspruch. \nKomm gerne vorbei und schreib uns eine Mail an mitmachen@es-gruent.de\, damit wir dir den Ort mitteilen können.
URL:https://wandelstadt-esslingen.de/event/es-gruent-3/2024-04-17/
ATTACH;FMTTYPE=image/jpeg:https://wandelstadt-esslingen.de/wp-content/uploads/2022/10/giesspaten_Natalia_Rak_Girl_with_water_can_Bialystok.jpg
ORGANIZER;CN="ES gr%C3%BCnt":MAILTO:mitmachen@es-gruent.de
END:VEVENT
BEGIN:VEVENT
DTSTART;TZID=Europe/Berlin:20240410T193000
DTEND;TZID=Europe/Berlin:20240410T210000
DTSTAMP:20260421T213146
CREATED:20240206T112222Z
LAST-MODIFIED:20240206T113330Z
UID:10001937-1712777400-1712782800@wandelstadt-esslingen.de
SUMMARY:ES GRÜNT!
DESCRIPTION:Esslingen: eine Stadt kühlt grün\nGlobal denken und regional handeln\, das ist unser Leitspruch. \nKomm gerne vorbei und schreib uns eine Mail an mitmachen@es-gruent.de\, damit wir dir den Ort mitteilen können.
URL:https://wandelstadt-esslingen.de/event/es-gruent-3/2024-04-10/
ATTACH;FMTTYPE=image/jpeg:https://wandelstadt-esslingen.de/wp-content/uploads/2022/10/giesspaten_Natalia_Rak_Girl_with_water_can_Bialystok.jpg
ORGANIZER;CN="ES gr%C3%BCnt":MAILTO:mitmachen@es-gruent.de
END:VEVENT
BEGIN:VEVENT
DTSTART;TZID=Europe/Berlin:20240403T193000
DTEND;TZID=Europe/Berlin:20240403T210000
DTSTAMP:20260421T213146
CREATED:20240206T112222Z
LAST-MODIFIED:20240206T113330Z
UID:10004578-1712172600-1712178000@wandelstadt-esslingen.de
SUMMARY:ES GRÜNT!
DESCRIPTION:Esslingen: eine Stadt kühlt grün\nGlobal denken und regional handeln\, das ist unser Leitspruch. \nKomm gerne vorbei und schreib uns eine Mail an mitmachen@es-gruent.de\, damit wir dir den Ort mitteilen können.
URL:https://wandelstadt-esslingen.de/event/es-gruent-3/2024-04-03/
ATTACH;FMTTYPE=image/jpeg:https://wandelstadt-esslingen.de/wp-content/uploads/2022/10/giesspaten_Natalia_Rak_Girl_with_water_can_Bialystok.jpg
ORGANIZER;CN="ES gr%C3%BCnt":MAILTO:mitmachen@es-gruent.de
END:VEVENT
BEGIN:VEVENT
DTSTART;TZID=Europe/Berlin:20240327T193000
DTEND;TZID=Europe/Berlin:20240327T210000
DTSTAMP:20260421T213146
CREATED:20240206T112222Z
LAST-MODIFIED:20240206T113330Z
UID:10004577-1711567800-1711573200@wandelstadt-esslingen.de
SUMMARY:ES GRÜNT!
DESCRIPTION:Esslingen: eine Stadt kühlt grün\nGlobal denken und regional handeln\, das ist unser Leitspruch. \nKomm gerne vorbei und schreib uns eine Mail an mitmachen@es-gruent.de\, damit wir dir den Ort mitteilen können.
URL:https://wandelstadt-esslingen.de/event/es-gruent-3/2024-03-27/
ATTACH;FMTTYPE=image/jpeg:https://wandelstadt-esslingen.de/wp-content/uploads/2022/10/giesspaten_Natalia_Rak_Girl_with_water_can_Bialystok.jpg
ORGANIZER;CN="ES gr%C3%BCnt":MAILTO:mitmachen@es-gruent.de
END:VEVENT
BEGIN:VEVENT
DTSTART;TZID=Europe/Berlin:20240320T193000
DTEND;TZID=Europe/Berlin:20240320T210000
DTSTAMP:20260421T213146
CREATED:20240206T112222Z
LAST-MODIFIED:20240206T113330Z
UID:10004576-1710963000-1710968400@wandelstadt-esslingen.de
SUMMARY:ES GRÜNT!
DESCRIPTION:Esslingen: eine Stadt kühlt grün\nGlobal denken und regional handeln\, das ist unser Leitspruch. \nKomm gerne vorbei und schreib uns eine Mail an mitmachen@es-gruent.de\, damit wir dir den Ort mitteilen können.
URL:https://wandelstadt-esslingen.de/event/es-gruent-3/2024-03-20/
ATTACH;FMTTYPE=image/jpeg:https://wandelstadt-esslingen.de/wp-content/uploads/2022/10/giesspaten_Natalia_Rak_Girl_with_water_can_Bialystok.jpg
ORGANIZER;CN="ES gr%C3%BCnt":MAILTO:mitmachen@es-gruent.de
END:VEVENT
BEGIN:VEVENT
DTSTART;TZID=Europe/Berlin:20240313T193000
DTEND;TZID=Europe/Berlin:20240313T210000
DTSTAMP:20260421T213146
CREATED:20240206T112222Z
LAST-MODIFIED:20240206T113330Z
UID:10001936-1710358200-1710363600@wandelstadt-esslingen.de
SUMMARY:ES GRÜNT!
DESCRIPTION:Esslingen: eine Stadt kühlt grün\nGlobal denken und regional handeln\, das ist unser Leitspruch. \nKomm gerne vorbei und schreib uns eine Mail an mitmachen@es-gruent.de\, damit wir dir den Ort mitteilen können.
URL:https://wandelstadt-esslingen.de/event/es-gruent-3/2024-03-13/
ATTACH;FMTTYPE=image/jpeg:https://wandelstadt-esslingen.de/wp-content/uploads/2022/10/giesspaten_Natalia_Rak_Girl_with_water_can_Bialystok.jpg
ORGANIZER;CN="ES gr%C3%BCnt":MAILTO:mitmachen@es-gruent.de
END:VEVENT
BEGIN:VEVENT
DTSTART;TZID=Europe/Berlin:20240306T193000
DTEND;TZID=Europe/Berlin:20240306T210000
DTSTAMP:20260421T213146
CREATED:20240206T112222Z
LAST-MODIFIED:20240206T113330Z
UID:10004575-1709753400-1709758800@wandelstadt-esslingen.de
SUMMARY:ES GRÜNT!
DESCRIPTION:Esslingen: eine Stadt kühlt grün\nGlobal denken und regional handeln\, das ist unser Leitspruch. \nKomm gerne vorbei und schreib uns eine Mail an mitmachen@es-gruent.de\, damit wir dir den Ort mitteilen können.
URL:https://wandelstadt-esslingen.de/event/es-gruent-3/2024-03-06/
ATTACH;FMTTYPE=image/jpeg:https://wandelstadt-esslingen.de/wp-content/uploads/2022/10/giesspaten_Natalia_Rak_Girl_with_water_can_Bialystok.jpg
ORGANIZER;CN="ES gr%C3%BCnt":MAILTO:mitmachen@es-gruent.de
END:VEVENT
BEGIN:VEVENT
DTSTART;TZID=Europe/Berlin:20240228T193000
DTEND;TZID=Europe/Berlin:20240228T210000
DTSTAMP:20260421T213146
CREATED:20240206T112222Z
LAST-MODIFIED:20240206T113330Z
UID:10004574-1709148600-1709154000@wandelstadt-esslingen.de
SUMMARY:ES GRÜNT!
DESCRIPTION:Esslingen: eine Stadt kühlt grün\nGlobal denken und regional handeln\, das ist unser Leitspruch. \nKomm gerne vorbei und schreib uns eine Mail an mitmachen@es-gruent.de\, damit wir dir den Ort mitteilen können.
URL:https://wandelstadt-esslingen.de/event/es-gruent-3/2024-02-28/
ATTACH;FMTTYPE=image/jpeg:https://wandelstadt-esslingen.de/wp-content/uploads/2022/10/giesspaten_Natalia_Rak_Girl_with_water_can_Bialystok.jpg
ORGANIZER;CN="ES gr%C3%BCnt":MAILTO:mitmachen@es-gruent.de
END:VEVENT
BEGIN:VEVENT
DTSTART;TZID=Europe/Berlin:20240221T193000
DTEND;TZID=Europe/Berlin:20240221T210000
DTSTAMP:20260421T213146
CREATED:20240206T112222Z
LAST-MODIFIED:20240206T113330Z
UID:10004573-1708543800-1708549200@wandelstadt-esslingen.de
SUMMARY:ES GRÜNT!
DESCRIPTION:Esslingen: eine Stadt kühlt grün\nGlobal denken und regional handeln\, das ist unser Leitspruch. \nKomm gerne vorbei und schreib uns eine Mail an mitmachen@es-gruent.de\, damit wir dir den Ort mitteilen können.
URL:https://wandelstadt-esslingen.de/event/es-gruent-3/2024-02-21/
ATTACH;FMTTYPE=image/jpeg:https://wandelstadt-esslingen.de/wp-content/uploads/2022/10/giesspaten_Natalia_Rak_Girl_with_water_can_Bialystok.jpg
ORGANIZER;CN="ES gr%C3%BCnt":MAILTO:mitmachen@es-gruent.de
END:VEVENT
BEGIN:VEVENT
DTSTART;TZID=Europe/Berlin:20240214T193000
DTEND;TZID=Europe/Berlin:20240214T210000
DTSTAMP:20260421T213146
CREATED:20240206T112222Z
LAST-MODIFIED:20240206T113330Z
UID:10001935-1707939000-1707944400@wandelstadt-esslingen.de
SUMMARY:ES GRÜNT!
DESCRIPTION:Esslingen: eine Stadt kühlt grün\nGlobal denken und regional handeln\, das ist unser Leitspruch. \nKomm gerne vorbei und schreib uns eine Mail an mitmachen@es-gruent.de\, damit wir dir den Ort mitteilen können.
URL:https://wandelstadt-esslingen.de/event/es-gruent-3/2024-02-14/
ATTACH;FMTTYPE=image/jpeg:https://wandelstadt-esslingen.de/wp-content/uploads/2022/10/giesspaten_Natalia_Rak_Girl_with_water_can_Bialystok.jpg
ORGANIZER;CN="ES gr%C3%BCnt":MAILTO:mitmachen@es-gruent.de
END:VEVENT
END:VCALENDAR