BEGIN:VCALENDAR
VERSION:2.0
PRODID:-//Wandelstadt Esslingen - ECPv6.15.20//NONSGML v1.0//EN
CALSCALE:GREGORIAN
METHOD:PUBLISH
X-ORIGINAL-URL:https://wandelstadt-esslingen.de
X-WR-CALDESC:Veranstaltungen für Wandelstadt Esslingen
REFRESH-INTERVAL;VALUE=DURATION:PT1H
X-Robots-Tag:noindex
X-PUBLISHED-TTL:PT1H
BEGIN:VTIMEZONE
TZID:Europe/Berlin
BEGIN:DAYLIGHT
TZOFFSETFROM:+0100
TZOFFSETTO:+0200
TZNAME:CEST
DTSTART:20230326T010000
END:DAYLIGHT
BEGIN:STANDARD
TZOFFSETFROM:+0200
TZOFFSETTO:+0100
TZNAME:CET
DTSTART:20231029T010000
END:STANDARD
BEGIN:DAYLIGHT
TZOFFSETFROM:+0100
TZOFFSETTO:+0200
TZNAME:CEST
DTSTART:20240331T010000
END:DAYLIGHT
BEGIN:STANDARD
TZOFFSETFROM:+0200
TZOFFSETTO:+0100
TZNAME:CET
DTSTART:20241027T010000
END:STANDARD
BEGIN:DAYLIGHT
TZOFFSETFROM:+0100
TZOFFSETTO:+0200
TZNAME:CEST
DTSTART:20250330T010000
END:DAYLIGHT
BEGIN:STANDARD
TZOFFSETFROM:+0200
TZOFFSETTO:+0100
TZNAME:CET
DTSTART:20251026T010000
END:STANDARD
BEGIN:DAYLIGHT
TZOFFSETFROM:+0100
TZOFFSETTO:+0200
TZNAME:CEST
DTSTART:20260329T010000
END:DAYLIGHT
BEGIN:STANDARD
TZOFFSETFROM:+0200
TZOFFSETTO:+0100
TZNAME:CET
DTSTART:20261025T010000
END:STANDARD
END:VTIMEZONE
BEGIN:VEVENT
DTSTART;TZID=Europe/Berlin:20250925T190000
DTEND;TZID=Europe/Berlin:20250925T203000
DTSTAMP:20260422T032634
CREATED:20250909T114607Z
LAST-MODIFIED:20250909T114607Z
UID:10006517-1758826800-1758832200@wandelstadt-esslingen.de
SUMMARY:Lesung mit Harald Vogel über Kurt Tucholsky: Nie wieder Krieg
DESCRIPTION:Wir laden Sie herzlich ein zur Lesung mit Harald Vogel im Buchladen Die Zeitgenossen eG \nin der Strohstr. 28\, Esslingen \nam Donnerstag\, den 25.September um 19 Uhr \nDer Literaturwissenschaftler Prof.Dr. Harald Vogel ist ein profunder Kenner von Kurt Tucholskys Weltbühnentexte\, die uns auch heute noch Denkanstöße geben können. \nDieser Abend  soll natürlich alle Literaturinteressierten ansprechen\, ganz besonders aber wollen wir auch interessierten Schülerinnen und Schülern einen Zugang zu Tucholskys Werken anbieten. \nDer Eintritt  ist frei.
URL:https://wandelstadt-esslingen.de/event/lesung-mit-harald-vogel-ueber-kurt-tucholsky-nie-wieder-krieg/
CATEGORIES:Kulturveranstaltung
END:VEVENT
BEGIN:VEVENT
DTSTART;TZID=Europe/Berlin:20250920T183000
DTEND;TZID=Europe/Berlin:20250920T203000
DTSTAMP:20260422T032634
CREATED:20250909T120051Z
LAST-MODIFIED:20250909T120051Z
UID:10006518-1758393000-1758400200@wandelstadt-esslingen.de
SUMMARY:Krimilesung mit Ann-Katrin Zellner und Stefan Zeh
DESCRIPTION:Wir laden herzlich ein zur Krimilesung im Buchladen die Zeitgenossen eG\, Strohstr. 28\, Esslingen \nmit Ann-Katrin Zellner und Stefan Zeh am Samstag\, den 20 September um 18.30 Uhr \nZwei spannende Krimi-Stimmen stellen ihre Werke vor: \nAnne-Katrin Zellner liest aus ihrem Kurzkrimi:  Der Tote am Wasserfall \nStefan Zeh präsentiert Auszüge aus seinem gesellschaftskritischen Kriminalroman. Gefährliche Lüge. \nEs erwartet Sie ein abwechslungsreicher Abend mit regionalem Bezug und atmospärischer Spannung. \nEintritt 8 Euro
URL:https://wandelstadt-esslingen.de/event/krimilesung-mit-ann-katrin-zellner-und-stefan-zeh/
LOCATION:Buchladen Die Zeitgenossen\, Strohstraße 28\, Esslingen\, 73728\, Deutschland
CATEGORIES:Kulturveranstaltung
END:VEVENT
BEGIN:VEVENT
DTSTART;TZID=Europe/Berlin:20241205T190000
DTEND;TZID=Europe/Berlin:20241205T190000
DTSTAMP:20260422T032634
CREATED:20241129T164212Z
LAST-MODIFIED:20241129T164812Z
UID:10004446-1733425200-1733425200@wandelstadt-esslingen.de
SUMMARY:Lieblingsbüchervorstellung bei den Zeitgenossen
DESCRIPTION:Ja\, ist denn schon wieder Weihnachten??? Oh weh\, oh weh\, was schenk ich nur??? \nWir beantworten die Frage und laden Euch herzlich ein zu unserer Buchvorstellung am\nDonnerstag\, 5. Dezember um 19 Uhr im Buchladen\nStrohstraße 28 in Esslingen \nWir präsentieren Euch unsere Lieblingsbücher aus den Bereichen Kinderbuch\, Jugendbuch\, Romane\, Krimis und Sachbücher in gemütlicher Atmosphäre. \nUnd natürlich könnt ihr auch weiterhin Gutscheine und/oder Anteile an der Genossenschaft verschenken.    \nWir freuen uns auf Euch\nEuer Team von den Zeitgenossen \nPS: Eine weitere Geschenkidee sind die tollen Bilder\, die wieder bei uns im Laden hängen. Hans Ulrich hat eine schöne Auswahl von Werken zusammengestellt. Kommt vorbei!
URL:https://wandelstadt-esslingen.de/event/lieblingsbuechervorstellung-bei-den-zeitgenossen/
LOCATION:Buchladen Die Zeitgenossen\, Strohstraße 28\, Esslingen\, 73728\, Deutschland
END:VEVENT
END:VCALENDAR