BEGIN:VCALENDAR
VERSION:2.0
PRODID:-//Wandelstadt Esslingen - ECPv6.15.20//NONSGML v1.0//EN
CALSCALE:GREGORIAN
METHOD:PUBLISH
X-ORIGINAL-URL:https://wandelstadt-esslingen.de
X-WR-CALDESC:Veranstaltungen für Wandelstadt Esslingen
REFRESH-INTERVAL;VALUE=DURATION:PT1H
X-Robots-Tag:noindex
X-PUBLISHED-TTL:PT1H
BEGIN:VTIMEZONE
TZID:Europe/Berlin
BEGIN:DAYLIGHT
TZOFFSETFROM:+0100
TZOFFSETTO:+0200
TZNAME:CEST
DTSTART:20220327T010000
END:DAYLIGHT
BEGIN:STANDARD
TZOFFSETFROM:+0200
TZOFFSETTO:+0100
TZNAME:CET
DTSTART:20221030T010000
END:STANDARD
BEGIN:DAYLIGHT
TZOFFSETFROM:+0100
TZOFFSETTO:+0200
TZNAME:CEST
DTSTART:20230326T010000
END:DAYLIGHT
BEGIN:STANDARD
TZOFFSETFROM:+0200
TZOFFSETTO:+0100
TZNAME:CET
DTSTART:20231029T010000
END:STANDARD
BEGIN:DAYLIGHT
TZOFFSETFROM:+0100
TZOFFSETTO:+0200
TZNAME:CEST
DTSTART:20240331T010000
END:DAYLIGHT
BEGIN:STANDARD
TZOFFSETFROM:+0200
TZOFFSETTO:+0100
TZNAME:CET
DTSTART:20241027T010000
END:STANDARD
BEGIN:DAYLIGHT
TZOFFSETFROM:+0100
TZOFFSETTO:+0200
TZNAME:CEST
DTSTART:20250330T010000
END:DAYLIGHT
BEGIN:STANDARD
TZOFFSETFROM:+0200
TZOFFSETTO:+0100
TZNAME:CET
DTSTART:20251026T010000
END:STANDARD
BEGIN:DAYLIGHT
TZOFFSETFROM:+0100
TZOFFSETTO:+0200
TZNAME:CEST
DTSTART:20260329T010000
END:DAYLIGHT
BEGIN:STANDARD
TZOFFSETFROM:+0200
TZOFFSETTO:+0100
TZNAME:CET
DTSTART:20261025T010000
END:STANDARD
END:VTIMEZONE
BEGIN:VEVENT
DTSTART;TZID=Europe/Berlin:20250517T150000
DTEND;TZID=Europe/Berlin:20250517T150000
DTSTAMP:20260424T181755
CREATED:20250423T212143Z
LAST-MODIFIED:20250423T212143Z
UID:10005282-1747494000-1747494000@wandelstadt-esslingen.de
SUMMARY:3. Internationales Frühlingsfest
DESCRIPTION:Bei freiem Eintritt darf die Vielfalt Esslingens bei einem bunten Bühnenprogramm aus Musik und Tanz mit allen wieder im Saal der Dieselstrasse gefeiert werden. Ein  internationales Spezialitätenbuffet (*) umrahmen das Programm. \nEinlass ist ab 14:30 Uhr. Um 15 Uhr beginnt die Festivalatmosphäre im Saal: Gerhard Polacek mit Ani und den buntES-Trommelkids betreten die Bühne. Gegen 15:15 Uhr fängt der Hauptteil mit der Begrüßung an. Traditionelle Tänze der bolivianischen Gruppe Kantuta\, der griechischen Gruppe Thrakes\, von Meenakshi aus Indien mit ihrer Tanzgruppe\, der Flamenco-Gruppe des Spanischen Elternvereins\, die Hip-Hop-Gruppe KidsDance aus Esslingen und die filipinischen Gruppe mit dem Bambustanz regen zum Staunen und vielleicht auch zum Mittanzen an. \nDas interkulturelle Netzwerk buntES e.V. präsentiert sich mit der 21. Ausgabe des Kulturfestes zum zweiten Mal im neuen Standort des Kooperationspartners Kulturzentrum Dieselstrasse e.V. mit mehr Festivalcharakter und bietet den Liveauftritten einen geschützten Raum. \nDer Eintritt ist frei! Verkostung liegt  bei 6 € je Teller. Gestaltet wird das Buffet von einer kurdischen Frauengruppe\, dem Verein Frauen stärken Frauen\, dem Verein Thrakes e.V.\, dem Verein Tushia Hilfe für Kinder e.V.\, dem indischen Verein Maitree e.V. und einer madadagassischen Gruppe. \nKooperationspartner und Unterstützer sind die Stadtwerke Esslingen\, das Kulturzentrum Dieselstrasse\, die Bäckerei Hermann und Kiris Grillpfanne. Gefördert wird das Projekt durch den Integrationsfonds der Stadt Esslingen.
URL:https://wandelstadt-esslingen.de/event/3-internationales-fruehlingsfest/
LOCATION:Kulturzentrum Dieselstraße\, Dieselstraße 26\, Esslingen\, Deutschland
CATEGORIES:Gemütliches Treffen,Infoveranstaltung,Kulturveranstaltung
END:VEVENT
BEGIN:VEVENT
DTSTART;TZID=Europe/Berlin:20240608T160000
DTEND;TZID=Europe/Berlin:20240608T160000
DTSTAMP:20260424T181755
CREATED:20240517T074949Z
LAST-MODIFIED:20240517T082616Z
UID:10002924-1717862400-1717862400@wandelstadt-esslingen.de
SUMMARY:2. Internationales Frühlingsfest
DESCRIPTION:
URL:https://wandelstadt-esslingen.de/event/2-internationales-fruehlingsfest/
LOCATION:Kulturzentrum Dieselstraße\, Dieselstraße 26\, Esslingen\, Deutschland
END:VEVENT
BEGIN:VEVENT
DTSTART;TZID=Europe/Berlin:20230506T150000
DTEND;TZID=Europe/Berlin:20230506T190000
DTSTAMP:20260424T181755
CREATED:20230331T181419Z
LAST-MODIFIED:20230331T182107Z
UID:10000903-1683385200-1683399600@wandelstadt-esslingen.de
SUMMARY:1. buntES Internationales Frühlingsfest
DESCRIPTION:Der Frühling kommt und er ist bunt! \nDer Frühling kann nur noch bunter werden! Erleben Sie mit uns ein Fest der Kulturen\, einen Markt der Möglichkeiten und genießen Sie unsere internationalen Spezialitäten.\nbuntES lädt nach 18 Herbstfesten ein zum 1. Internationalen Frühlingsfest im Neuen Blarer (Ev. Gemeindehaus am Blarerplatz in Esslingen) \n6. Mai 2023\, Samstag von 15 bis 19 Uhr. \n 
URL:https://wandelstadt-esslingen.de/event/1-buntes-internationales-fruehlingsfest/
LOCATION:Das neue Blarer\, Franziskanergasse 4\, Esslingen\, 73728\, Deutschland
END:VEVENT
BEGIN:VEVENT
DTSTART;TZID=Europe/Berlin:20230428T210000
DTEND;TZID=Europe/Berlin:20230428T210000
DTSTAMP:20260424T181755
CREATED:20230330T173703Z
LAST-MODIFIED:20230330T173703Z
UID:10000893-1682715600-1682715600@wandelstadt-esslingen.de
SUMMARY:Tanz und Musik aus allen Ecken der Welt
DESCRIPTION:Mit buntES hat Esslingen ein großes interkulturelles Netzwerk\, das in einzigartiger Art und Weise von engagierten Ehrenamtlichen getragen wird und die kulturelle Vielfalt der Stadt schon seit Jahren sicht-\, hör- und spürbar macht. Zusammen mit im Netzwerk aktiven Tanzgruppen Kids Dance und Kantuta entsteht im Kulturzentrum Dieselstrasse ein Abend\, der diese Vielfalt feiert und als Auftakt für eine weitere Zusammenarbeit steht. Zwischen bolivianischen Tänzen\, Hip-Hop-Kultur und minimal music suchen ehrenamtliche Tänzer*innen und PODIUM Musiker*innen nach Verbindendem\, bauen Brücken über den Neckar\, wo andere baufällig werden und feiern den kulturellen Reichtum der Pliensauvorstadt. \nMit: \nMaria Schneider (Schlagwerk)\, Jakob Nierenz (Violoncello) u.v.m. \nTed Hearne (*1982): Furtive Movements \nund weitere Werke u.a. aus Klassik & HipHop \nu.a. \nKartenvorverkauf\nRegulär 10 €\nErmäßigt 5 €
URL:https://wandelstadt-esslingen.de/event/tanz-und-musik-aus-allen-ecken-der-welt/
LOCATION:Kulturzentrum Dieselstraße\, Dieselstraße 26\, Esslingen\, Deutschland
ORGANIZER;CN="Podium Musikstiftung Esslingen":MAILTO:post@podium-esslingen.de
END:VEVENT
END:VCALENDAR