BEGIN:VCALENDAR
VERSION:2.0
PRODID:-//Wandelstadt Esslingen - ECPv6.15.20//NONSGML v1.0//EN
CALSCALE:GREGORIAN
METHOD:PUBLISH
X-WR-CALNAME:Wandelstadt Esslingen
X-ORIGINAL-URL:https://wandelstadt-esslingen.de
X-WR-CALDESC:Veranstaltungen für Wandelstadt Esslingen
REFRESH-INTERVAL;VALUE=DURATION:PT1H
X-Robots-Tag:noindex
X-PUBLISHED-TTL:PT1H
BEGIN:VTIMEZONE
TZID:Europe/Berlin
BEGIN:DAYLIGHT
TZOFFSETFROM:+0100
TZOFFSETTO:+0200
TZNAME:CEST
DTSTART:20240331T010000
END:DAYLIGHT
BEGIN:STANDARD
TZOFFSETFROM:+0200
TZOFFSETTO:+0100
TZNAME:CET
DTSTART:20241027T010000
END:STANDARD
BEGIN:DAYLIGHT
TZOFFSETFROM:+0100
TZOFFSETTO:+0200
TZNAME:CEST
DTSTART:20250330T010000
END:DAYLIGHT
BEGIN:STANDARD
TZOFFSETFROM:+0200
TZOFFSETTO:+0100
TZNAME:CET
DTSTART:20251026T010000
END:STANDARD
BEGIN:DAYLIGHT
TZOFFSETFROM:+0100
TZOFFSETTO:+0200
TZNAME:CEST
DTSTART:20260329T010000
END:DAYLIGHT
BEGIN:STANDARD
TZOFFSETFROM:+0200
TZOFFSETTO:+0100
TZNAME:CET
DTSTART:20261025T010000
END:STANDARD
BEGIN:DAYLIGHT
TZOFFSETFROM:+0100
TZOFFSETTO:+0200
TZNAME:CEST
DTSTART:20270328T010000
END:DAYLIGHT
BEGIN:STANDARD
TZOFFSETFROM:+0200
TZOFFSETTO:+0100
TZNAME:CET
DTSTART:20271031T010000
END:STANDARD
END:VTIMEZONE
BEGIN:VEVENT
DTSTART;TZID=Europe/Berlin:20260124T130000
DTEND;TZID=Europe/Berlin:20260124T150000
DTSTAMP:20260422T024830
CREATED:20260109T213924Z
LAST-MODIFIED:20260109T213924Z
UID:10008671-1769259600-1769266800@wandelstadt-esslingen.de
SUMMARY:LINUX Werkstatt - Info für alle
DESCRIPTION:Windows\, Word & Co. werden zunehmend zum Sicherheitsrisiko. Nicht nur wegen der ausgedehnten Datenschnüffelei. Die Abhängigkeit von den Produkten der großen Techkonzerne macht Europa auch politisch erpressbar. Doch es gibt sichere und bewährte Alternativen wie das freie Betriebssystem Linux. Es läuft auch auf älteren PCs und Notebooks\, die von Windows 11 nicht unterstützt werden. \nBeratung und Hilfe rund um Linux gibt es in der Linux-Werkstatt im Bürgerhaus RSKN. \nAngebote: \n\nBeratung zum Umstieg auf Linux\nInstallation auf mitgebrachten Notebooks und PCs (Voranmeldung erbeten an linux@ba-rskn.de)\nUnterstützung bei der Benutzung von Linux \nHilfe bei Problemen (Troubleshooting)\nSpenden-Annahme gebrauchter Notebooks\n\n\nDie Teilnahme ist kostenlos. \nWeitere Infos zu Linux unter https://endof10.org/de/ \nSpendenaktion Sie haben ein funktionsfähiges Notebook\, das sie nicht mehr benötigen? Dann spenden Sie es doch für einen guten Zweck und bringen Sie es mit Netzteil am 24.1. ins Bürgerhaus! Die gespendeten Geräte werden aufbereitet\, mit Linux ausgestattet und an Menschen mit geringem Einkommen abgegeben. \nMit dem Linux-Projekt möchte der Bürgerausschuss nicht nur dazu beitragen\, Computerschrott zu vermeiden. Die Aktion soll auch den Gedanken der gegenseitigen Hilfe in RSKN stärken – damit in einer zunehmend digitalisierten Gesellschaft niemand auf der Strecke bleibt. \n\n \nFragen? linux@ba-rskn.de
URL:https://wandelstadt-esslingen.de/event/linux-werkstatt-info-fuer-alle/
LOCATION:Bürgerhaus RSKN\, Sulzgrieser Straße 170\, Esslingen am Neckar\, 73733
END:VEVENT
BEGIN:VEVENT
DTSTART;TZID=Europe/Berlin:20250327T182000
DTEND;TZID=Europe/Berlin:20250327T210000
DTSTAMP:20260422T024830
CREATED:20250326T222600Z
LAST-MODIFIED:20250326T222600Z
UID:10004971-1743099600-1743109200@wandelstadt-esslingen.de
SUMMARY:Wahl: Bürgerauschuss Rüdern\, Sulzgries\, Krummenacker und Neckarhalde
DESCRIPTION:Wahl des neuen Bürgerausschuss ist von 18:20 Uhr bis 18:45 Uhr möglich. \nNach gut 6 Jahren steht nun Ende März\, genauer gesagt am Donnerstag\, 27. März 2025 ab 19 Uhr die nächste Einwohnerversammlung im Stadtteil RSKN statt. Normalerweise finden Einwohnerversammlungen alle drei Jahre statt\, doch Corona hat die Abstände zwischen den Versammlungen verlängert. Auch gilt ein neues Verfahren zur Durchführung der Versammlung \nDer Oberbürgermeister informiert allgemein über kommunalpolitische Themen in Esslingen\, danach liegt der Schwerpunkt auf fünf Themen aus dem Bezirk. Zwei der Themen bestimmt der Bürgerausschuss\, drei weitere Themen wurden im Vorfeld online ermittelt. Die Verwaltung nimmt bei der Versammlung Stellung zu den Themen\, danach ist Zeit für den Austausch. \nAußerdem erfolgt innerhalb der Einwohnerversammlung auch der Rechenschaftsbericht des Bürgerausschusses sowie die Bekanntgabe des Wahlergebnisses der Wahl des neuen Bürgerausschusses. \nZwei Themen für die Tagesordnung legt der jeweilige Bürgerausschuss fest. Im Online-Portal werden diese Themen angezeigt. \nAus allen eingereichten Themenvorschlägen werden nach der Sichtung Themenkomplexe gebündelt und dann nochmals online zur Abstimmung gestellt (14. – 21. Februar 2025; Beginn/Ende jeweils 12 Uhr). Es kann für bis zu drei Themen gestimmt werden\, die drei Themen mit den meisten Stimmen werden dann auf die Tagesordnung genommen. Weitere Informationen finden Sie unter https://www.esslingen.de/stadt-und-politik/politik/buergerausschuesse/einwohnerversammlung. Mitmachen lohnt sich. \n 
URL:https://wandelstadt-esslingen.de/event/wahl-buergerauschuss-ruedern-sulzgries-krummenacker-und-neckarhalde/
LOCATION:Bürgerhaus RSKN\, Sulzgrieser Straße 170\, Esslingen am Neckar\, 73733
END:VEVENT
END:VCALENDAR