BEGIN:VCALENDAR
VERSION:2.0
PRODID:-//Wandelstadt Esslingen - ECPv6.15.20//NONSGML v1.0//EN
CALSCALE:GREGORIAN
METHOD:PUBLISH
X-WR-CALNAME:Wandelstadt Esslingen
X-ORIGINAL-URL:https://wandelstadt-esslingen.de
X-WR-CALDESC:Veranstaltungen für Wandelstadt Esslingen
REFRESH-INTERVAL;VALUE=DURATION:PT1H
X-Robots-Tag:noindex
X-PUBLISHED-TTL:PT1H
BEGIN:VTIMEZONE
TZID:Europe/Berlin
BEGIN:DAYLIGHT
TZOFFSETFROM:+0100
TZOFFSETTO:+0200
TZNAME:CEST
DTSTART:20240331T010000
END:DAYLIGHT
BEGIN:STANDARD
TZOFFSETFROM:+0200
TZOFFSETTO:+0100
TZNAME:CET
DTSTART:20241027T010000
END:STANDARD
BEGIN:DAYLIGHT
TZOFFSETFROM:+0100
TZOFFSETTO:+0200
TZNAME:CEST
DTSTART:20250330T010000
END:DAYLIGHT
BEGIN:STANDARD
TZOFFSETFROM:+0200
TZOFFSETTO:+0100
TZNAME:CET
DTSTART:20251026T010000
END:STANDARD
BEGIN:DAYLIGHT
TZOFFSETFROM:+0100
TZOFFSETTO:+0200
TZNAME:CEST
DTSTART:20260329T010000
END:DAYLIGHT
BEGIN:STANDARD
TZOFFSETFROM:+0200
TZOFFSETTO:+0100
TZNAME:CET
DTSTART:20261025T010000
END:STANDARD
BEGIN:DAYLIGHT
TZOFFSETFROM:+0100
TZOFFSETTO:+0200
TZNAME:CEST
DTSTART:20270328T010000
END:DAYLIGHT
BEGIN:STANDARD
TZOFFSETFROM:+0200
TZOFFSETTO:+0100
TZNAME:CET
DTSTART:20271031T010000
END:STANDARD
END:VTIMEZONE
BEGIN:VEVENT
DTSTART;TZID=Europe/Berlin:20260319T190000
DTEND;TZID=Europe/Berlin:20260319T190000
DTSTAMP:20260421T225906
CREATED:20260224T162738Z
LAST-MODIFIED:20260224T162738Z
UID:10009142-1773946800-1773946800@wandelstadt-esslingen.de
SUMMARY:WIR. Geschichten aus dem Alltag mit behinderten Kindern
DESCRIPTION:Lesung und Gespräch Wie sieht der Alltag einer inklusiven Familie aus? Was bedeutet es\, pflegende Mutter zu sein? In ihrem autobiografischen Buch „WIR. Geschichten aus dem Alltag mit behinderten Kindern“ gibt Anna Mendel hierauf Antworten. In der Lesung und im Gespräch mit der Esslinger Abgeordneten Andrea Lindlohr und dem Publikum teilt Anna Mendel ihr persönliches Erleben – und macht die unsichtbare Pflegearbeit sichtbar. Es wird deutlich\, wie Akzeptanz und Inklusion die Grundpfeiler einer unterstützenden Gemeinschaﬅ sind. Referentin Anna Mendel arbeitet als Autorin\, Speakerin und Sensitivity Readerin zu Pflegender Elternschaﬅ\, Bodyneutrality und Antirassismus. Sie lebt mit ihrem Partner und ihren drei Kindern\, von denen zwei eine Behinderung haben\, im Landkreis Esslingen. Veranstaltungsort : Wahlkreisbüro Andrea Lindlohr\, Im Heppächer 15\, 73728 Esslingen am Neckar
URL:https://wandelstadt-esslingen.de/event/wir-geschichten-aus-dem-alltag-mit-behinderten-kindern/
LOCATION:Wahlkreisbüro Andrea Lindlohr\, Im Heppächer 15\, Esslingen\, 73728\, Deutschland
ORGANIZER;CN="B%C3%BCndnis 90 / Die Gr%C3%BCnen Ortsverband Esslingen":MAILTO:vorstand@gruene-esslingen.de
END:VEVENT
BEGIN:VEVENT
DTSTART;TZID=Europe/Berlin:20260206T180000
DTEND;TZID=Europe/Berlin:20260206T180000
DTSTAMP:20260421T225906
CREATED:20260124T190847Z
LAST-MODIFIED:20260124T190847Z
UID:10008811-1770400800-1770400800@wandelstadt-esslingen.de
SUMMARY:Jugenddialog mit Landtagskandidatin Andrea Lindlohr
DESCRIPTION:Herzliche Einladung an alle jungen Menschen aus Aichwald\, Esslingen am Neckar\, Denkendorf\, Neuhausen auf den Fildern\, Ostfildern und Wolfschlugen: \nLerne mich als deine Landtagskandidatin für den Wahlkreis Esslingen persönlich kennen! Am Freitag\, den 6. Februar 2026 freue ich mich\, dich ab 18 Uhr im KOMMA Esslingen zu treffen. Mit dabei ist die Esslinger Stadträtin Selin Erdogan. \nWas beschäftigt dich gerade? Wo wünschst du dir Veränderung? Das interessiert mich\, denn es ist deine Zukunft\, über die du bei der Wahl am 8. März mit deiner Stimme entscheidest! Also komm vorbei\, und bringe gerne deine Fragen\, Anregungen und Freunde mit!
URL:https://wandelstadt-esslingen.de/event/jugenddialog-mit-landtagskandidatin-andrea-lindlohr/
LOCATION:KOMMA Esslingen\, Maille 5-9\, Esslingen\, 73728\, Deutschland
CATEGORIES:Beteiligung,Vernetzungsveranstaltung
END:VEVENT
BEGIN:VEVENT
DTSTART;TZID=Europe/Berlin:20251205T180000
DTEND;TZID=Europe/Berlin:20251205T200000
DTSTAMP:20260421T225906
CREATED:20251127T190259Z
LAST-MODIFIED:20251127T190259Z
UID:10007546-1764957600-1764964800@wandelstadt-esslingen.de
SUMMARY:ES bei Nacht: Die Stadt für Frauen sicherer machen
DESCRIPTION:📍 Bahnhofsvorplatz\, Esslingen am Neckar\n📆 5. Dezember\, 18:00 Uhr \nIm Rahmen der Orange Days lädt der OV Esslingen alle Interessierten zu einem gemeinsamen Abendspaziergang ein. Wir suchen Orte auf\, an denen sich besonders Frauen und Mädchen im Dunkeln unsicher fühlen. \nUnser Ziel:\n🔍 prüfen\, ob bisherige Maßnahmen wirken\n💡 neue Ideen sammeln\, wie wir Sicherheit & Sicherheitsempfinden stärken können \nMit dabei:\n✨ Andrea Lindlohr (MdL)\, Landtagsabgeordnete des Wahlkreises Esslingen\n✨ Carmen Tittel\, Vorsitzende der Grünen Gemeinderatsfraktion Esslingen \n👥 Eingeladen sind alle Interessierten – kommt gerne vorbei! \nWir freuen uns auf einen offenen Austausch und vielfältige Perspektiven. 💚🌙
URL:https://wandelstadt-esslingen.de/event/es-bei-nacht-die-stadt-fuer-frauen-sicherer-machen/
LOCATION:Bahnhofsvorplatz\, Esslingen
CATEGORIES:Demonstration,Infoveranstaltung,Wanderung,Workshop
ORGANIZER;CN="B%C3%BCndnis 90 / Die Gr%C3%BCnen Ortsverband Esslingen":MAILTO:vorstand@gruene-esslingen.de
END:VEVENT
END:VCALENDAR