BEGIN:VCALENDAR
VERSION:2.0
PRODID:-//Wandelstadt Esslingen - ECPv6.15.20//NONSGML v1.0//EN
CALSCALE:GREGORIAN
METHOD:PUBLISH
X-WR-CALNAME:Wandelstadt Esslingen
X-ORIGINAL-URL:https://wandelstadt-esslingen.de
X-WR-CALDESC:Veranstaltungen für Wandelstadt Esslingen
REFRESH-INTERVAL;VALUE=DURATION:PT1H
X-Robots-Tag:noindex
X-PUBLISHED-TTL:PT1H
BEGIN:VTIMEZONE
TZID:Europe/Berlin
BEGIN:DAYLIGHT
TZOFFSETFROM:+0100
TZOFFSETTO:+0200
TZNAME:CEST
DTSTART:20230326T010000
END:DAYLIGHT
BEGIN:STANDARD
TZOFFSETFROM:+0200
TZOFFSETTO:+0100
TZNAME:CET
DTSTART:20231029T010000
END:STANDARD
BEGIN:DAYLIGHT
TZOFFSETFROM:+0100
TZOFFSETTO:+0200
TZNAME:CEST
DTSTART:20240331T010000
END:DAYLIGHT
BEGIN:STANDARD
TZOFFSETFROM:+0200
TZOFFSETTO:+0100
TZNAME:CET
DTSTART:20241027T010000
END:STANDARD
BEGIN:DAYLIGHT
TZOFFSETFROM:+0100
TZOFFSETTO:+0200
TZNAME:CEST
DTSTART:20250330T010000
END:DAYLIGHT
BEGIN:STANDARD
TZOFFSETFROM:+0200
TZOFFSETTO:+0100
TZNAME:CET
DTSTART:20251026T010000
END:STANDARD
BEGIN:DAYLIGHT
TZOFFSETFROM:+0100
TZOFFSETTO:+0200
TZNAME:CEST
DTSTART:20260329T010000
END:DAYLIGHT
BEGIN:STANDARD
TZOFFSETFROM:+0200
TZOFFSETTO:+0100
TZNAME:CET
DTSTART:20261025T010000
END:STANDARD
BEGIN:DAYLIGHT
TZOFFSETFROM:+0100
TZOFFSETTO:+0200
TZNAME:CEST
DTSTART:20270328T010000
END:DAYLIGHT
BEGIN:STANDARD
TZOFFSETFROM:+0200
TZOFFSETTO:+0100
TZNAME:CET
DTSTART:20271031T010000
END:STANDARD
END:VTIMEZONE
BEGIN:VEVENT
DTSTART;TZID=Europe/Berlin:20260110T180000
DTEND;TZID=Europe/Berlin:20260110T200000
DTSTAMP:20260421T231127
CREATED:20260102T115449Z
LAST-MODIFIED:20260102T115449Z
UID:10008185-1768068000-1768075200@wandelstadt-esslingen.de
SUMMARY:"Das fängt ja gut an\, sozusagen!"
DESCRIPTION:Die Theatergruppe der Bürgerinitiative „Aufstehen! Esslinger Initiative für Demokratie!“ zeigt ihr 3. Forum-Theaterstück zur politischen Lage. \nEin Neujahrsempfang der Gemeinde\, bei dem verschiedene Menschen aus Politik\, Vereinen und der Bürgerschaft aufeinandertreffen. Aus dem Small Talk ergeben sich schnell Konflikte. Rassismus\, Respektlosigkeit\, Hetze\, Gewalt und Sexismus werden sichtbar. Bevor alles eskaliert\, wird die Szene auf der Bühne eingefroren und Zuschauer dürfen in eine Rolle schlüpfen und eine Lösung spielerisch anbieten! Sind Spieler*innen und alle Zuschauer mit der Lösung zufrieden\, ist das Theater zu Ende! Ansonsten: Do it again! \nModeration: Angela Brock\nSpielleitung: Barbara von Lauenstein\nSpieler*innen: Evelyn Eggers\, Marlies Baunack-Könnel\, Angela Brock\, Bernhard Wiesmeier\, Dirk Rassler\, Wolf Delfs\, Barbara von Lauenstein
URL:https://wandelstadt-esslingen.de/event/das-faengt-ja-gut-an-sozusagen/
LOCATION:Kulturzentrum Dieselstraße\, Dieselstraße 26\, Esslingen\, Deutschland
CATEGORIES:Kulturveranstaltung,Live-Veranstaltung
END:VEVENT
BEGIN:VEVENT
DTSTART;TZID=Europe/Berlin:20250930T190000
DTEND;TZID=Europe/Berlin:20250930T220000
DTSTAMP:20260421T231127
CREATED:20250827T130115Z
LAST-MODIFIED:20250927T091912Z
UID:10006475-1759258800-1759269600@wandelstadt-esslingen.de
SUMMARY:"Das Deutsche Volk" - Film-Dokumentation über die Morde von Hanau
DESCRIPTION:
URL:https://wandelstadt-esslingen.de/event/das-deutsche-volk-film-dokumentation-ueber-die-morde-von-hanau/
LOCATION:Kommunales Kino\, Maille 4-9\, Esslingen\, 73728\, Deutschland
CATEGORIES:Kulturveranstaltung,Live-Veranstaltung
END:VEVENT
BEGIN:VEVENT
DTSTART;TZID=Europe/Berlin:20250928T110000
DTEND;TZID=Europe/Berlin:20250928T170000
DTSTAMP:20260421T231127
CREATED:20250822T090508Z
LAST-MODIFIED:20250822T090508Z
UID:10006462-1759057200-1759078800@wandelstadt-esslingen.de
SUMMARY:Lesung mit Volker Weiß
DESCRIPTION:Volker Weiß liest aus seinem Buch „Das Deutsche Demokratische Reich – Wie die Extreme Rechte Geschichte und Demokratie zerstört“. \nModeration: Gesa von Leesen (Journalistin) \nEintritt frei – wir freuen uns über Spenden.
URL:https://wandelstadt-esslingen.de/event/lesung-mit-volker-weiss/
LOCATION:Kabarett der Galgenstricke\, Webergasse 9\, Esslingen\, 73728
CATEGORIES:Kulturveranstaltung,Live-Veranstaltung
END:VEVENT
BEGIN:VEVENT
DTSTART;TZID=Europe/Berlin:20250911T170000
DTEND;TZID=Europe/Berlin:20250911T190000
DTSTAMP:20260421T231127
CREATED:20250827T125923Z
LAST-MODIFIED:20250827T125923Z
UID:10006474-1757610000-1757617200@wandelstadt-esslingen.de
SUMMARY:Kundgebung zum "Tag der wohnungslosen Menschen"
DESCRIPTION:
URL:https://wandelstadt-esslingen.de/event/kundgebung-zum-tag-der-wohnungslosen-menschen/
LOCATION:Bahnhofsvorplatz\, Esslingen
CATEGORIES:Beteiligung,Demonstration
END:VEVENT
BEGIN:VEVENT
DTSTART;TZID=Europe/Berlin:20250910T190000
DTEND;TZID=Europe/Berlin:20250910T210000
DTSTAMP:20260421T231127
CREATED:20250822T085428Z
LAST-MODIFIED:20250822T085428Z
UID:10006461-1757530800-1757538000@wandelstadt-esslingen.de
SUMMARY:Aufstehen! Esslinger Initiative für Demokratie - Nächstes Treffen
DESCRIPTION:
URL:https://wandelstadt-esslingen.de/event/aufstehen-esslinger-initiative-fuer-demokratie-naechstes-treffen/
LOCATION:Forum Esslingen\, Schelztorstraße 38\, Esslingen\, 73728
CATEGORIES:Gemütliches Treffen,Live-Veranstaltung,Vernetzungsveranstaltung
END:VEVENT
BEGIN:VEVENT
DTSTART;TZID=Europe/Berlin:20250510T193000
DTEND;TZID=Europe/Berlin:20250510T203000
DTSTAMP:20260421T231127
CREATED:20250426T231851Z
LAST-MODIFIED:20250426T231851Z
UID:10005377-1746905400-1746909000@wandelstadt-esslingen.de
SUMMARY:Verbrannt\, vergessen\, verdrängt
DESCRIPTION:Am 10. Mai 1933 brennen tausende Bücher in deutschen Städten – angezündet von einer nationalsozialistisch motovierten Studierendenschaft mit dem Ziel\, undeutsches Schrifttum auszumerzen. 📚🔥 Es brennen die Werke jüdischer\, sozialistischer\, liberaler Autoren und Autorinnen. \nFast hundert Jahre später ist eines nicht gelungen: Die Werke sind nicht verloren gegangen\, die Autor:innen nicht vergessen. Die Erinnerung lebt! 🤍 \nWir geben den Autor:innen unsere Stimme. Musikalisch begleiten dazu Karoline Höfler (Kontrabass) und Jochen Feucht (Saxophon). \nWir freuen uns auf einen Abend wider das Vergessen. \n🗓 Wann: 10.5.25\, 18:00 Uhr und 19:30 Uhr \n📍 Wo: Kunstdruck Central Theater\, Rossmarkt 9\, Esslingen \nEintritt frei\, gerne Spenden!
URL:https://wandelstadt-esslingen.de/event/verbrannt-vergessen-verdraengt/2025-05-10/2/
LOCATION:Kunstdruck Centraltheater\, Rossmarkt 9\, Esslingen
END:VEVENT
BEGIN:VEVENT
DTSTART;TZID=Europe/Berlin:20250510T180000
DTEND;TZID=Europe/Berlin:20250510T190000
DTSTAMP:20260421T231127
CREATED:20250426T231851Z
LAST-MODIFIED:20250426T231851Z
UID:10005376-1746900000-1746903600@wandelstadt-esslingen.de
SUMMARY:Verbrannt\, vergessen\, verdrängt
DESCRIPTION:Am 10. Mai 1933 brennen tausende Bücher in deutschen Städten – angezündet von einer nationalsozialistisch motovierten Studierendenschaft mit dem Ziel\, undeutsches Schrifttum auszumerzen. 📚🔥 Es brennen die Werke jüdischer\, sozialistischer\, liberaler Autoren und Autorinnen. \nFast hundert Jahre später ist eines nicht gelungen: Die Werke sind nicht verloren gegangen\, die Autor:innen nicht vergessen. Die Erinnerung lebt! 🤍 \nWir geben den Autor:innen unsere Stimme. Musikalisch begleiten dazu Karoline Höfler (Kontrabass) und Jochen Feucht (Saxophon). \nWir freuen uns auf einen Abend wider das Vergessen. \n🗓 Wann: 10.5.25\, 18:00 Uhr und 19:30 Uhr \n📍 Wo: Kunstdruck Central Theater\, Rossmarkt 9\, Esslingen \nEintritt frei\, gerne Spenden!
URL:https://wandelstadt-esslingen.de/event/verbrannt-vergessen-verdraengt/2025-05-10/1/
LOCATION:Kunstdruck Centraltheater\, Rossmarkt 9\, Esslingen
END:VEVENT
BEGIN:VEVENT
DTSTART;TZID=Europe/Berlin:20250409T190000
DTEND;TZID=Europe/Berlin:20250409T190000
DTSTAMP:20260421T231127
CREATED:20250329T053737Z
LAST-MODIFIED:20250329T053811Z
UID:10005186-1744225200-1744225200@wandelstadt-esslingen.de
SUMMARY:!Aufstehen!
DESCRIPTION:In Esslingen am Neckar freuen sich unsere Bündnispartner*innen von !Aufstehen! Esslinger Initiative für Demokratie über weitere Mitstreiter*innen im Kampf gegen Rassismus und die AfD. \nKontakt: aufstehen_es[at]gmx.de
URL:https://wandelstadt-esslingen.de/event/aufstehen/
LOCATION:Forum Esslingen – Zentrum für Bürgerengagement\, Schelztorstraße 38\, Esslingen\, Deutschland
END:VEVENT
BEGIN:VEVENT
DTSTART;TZID=Europe/Berlin:20240507T190000
DTEND;TZID=Europe/Berlin:20240507T190000
DTSTAMP:20260421T231127
CREATED:20240429T091404Z
LAST-MODIFIED:20240429T091507Z
UID:10002851-1715108400-1715108400@wandelstadt-esslingen.de
SUMMARY:Treffen "Aufstehen! Initiative Esslingen"
DESCRIPTION:Aus der Zwiebel (Ausgabe 26.04.24): \nTausende Menschen haben im Januar auf dem Esslinger Marktplatz für eine starke Demokratie und gegen rechtsextremistische Tendenzen demonstriert. Die überparteiliche Initiative „Aufstehen!“ will sich mit ihren Aktionen dauerhaft engagieren. \nDie Gruppe plant neben regelmäßigen Treffen und Infoständen zum Beispiel eine Plakataktion in Esslinger Geschäften. \nDas nächste Treffen von „Aufstehen! Initiative Esslingen“ ist am Dienstag\, 7. Mai\, um 19 Uhr im Café Maille.
URL:https://wandelstadt-esslingen.de/event/treffen-aufstehen-initiative-esslingen/
END:VEVENT
END:VCALENDAR