BEGIN:VCALENDAR
VERSION:2.0
PRODID:-//Wandelstadt Esslingen - ECPv6.15.20//NONSGML v1.0//EN
CALSCALE:GREGORIAN
METHOD:PUBLISH
X-ORIGINAL-URL:https://wandelstadt-esslingen.de
X-WR-CALDESC:Veranstaltungen für Wandelstadt Esslingen
REFRESH-INTERVAL;VALUE=DURATION:PT1H
X-Robots-Tag:noindex
X-PUBLISHED-TTL:PT1H
BEGIN:VTIMEZONE
TZID:Europe/Berlin
BEGIN:DAYLIGHT
TZOFFSETFROM:+0100
TZOFFSETTO:+0200
TZNAME:CEST
DTSTART:20230326T010000
END:DAYLIGHT
BEGIN:STANDARD
TZOFFSETFROM:+0200
TZOFFSETTO:+0100
TZNAME:CET
DTSTART:20231029T010000
END:STANDARD
BEGIN:DAYLIGHT
TZOFFSETFROM:+0100
TZOFFSETTO:+0200
TZNAME:CEST
DTSTART:20240331T010000
END:DAYLIGHT
BEGIN:STANDARD
TZOFFSETFROM:+0200
TZOFFSETTO:+0100
TZNAME:CET
DTSTART:20241027T010000
END:STANDARD
BEGIN:DAYLIGHT
TZOFFSETFROM:+0100
TZOFFSETTO:+0200
TZNAME:CEST
DTSTART:20250330T010000
END:DAYLIGHT
BEGIN:STANDARD
TZOFFSETFROM:+0200
TZOFFSETTO:+0100
TZNAME:CET
DTSTART:20251026T010000
END:STANDARD
BEGIN:DAYLIGHT
TZOFFSETFROM:+0100
TZOFFSETTO:+0200
TZNAME:CEST
DTSTART:20260329T010000
END:DAYLIGHT
BEGIN:STANDARD
TZOFFSETFROM:+0200
TZOFFSETTO:+0100
TZNAME:CET
DTSTART:20261025T010000
END:STANDARD
BEGIN:DAYLIGHT
TZOFFSETFROM:+0100
TZOFFSETTO:+0200
TZNAME:CEST
DTSTART:20270328T010000
END:DAYLIGHT
BEGIN:STANDARD
TZOFFSETFROM:+0200
TZOFFSETTO:+0100
TZNAME:CET
DTSTART:20271031T010000
END:STANDARD
END:VTIMEZONE
BEGIN:VEVENT
DTSTART;TZID=Europe/Berlin:20260307T093000
DTEND;TZID=Europe/Berlin:20260307T120000
DTSTAMP:20260421T202639
CREATED:20251120T174518Z
LAST-MODIFIED:20260219T093509Z
UID:10007215-1772875800-1772884800@wandelstadt-esslingen.de
SUMMARY:Baumschnitt - Agendagruppe Streuobstwiesen
DESCRIPTION:Bei gutem Wetter trifft sich die Streuobstwiesengruppe zum Baumschnitt. Neue Helfer:innen sind herzlich willkommen! Für Infos zum Treffpunkt bitte eine Mail an streuobstgruppe@forum-esslingen.de.
URL:https://wandelstadt-esslingen.de/event/baumschnitt-agendagruppe-streuobstwiesen-13/2026-03-07/
ORGANIZER;CN="Agendagruppe Streuobstwiesen":MAILTO:streuobstgruppe@forum-esslingen.de
END:VEVENT
BEGIN:VEVENT
DTSTART;TZID=Europe/Berlin:20260228T093000
DTEND;TZID=Europe/Berlin:20260228T120000
DTSTAMP:20260421T202639
CREATED:20251120T174518Z
LAST-MODIFIED:20260219T093509Z
UID:10009106-1772271000-1772280000@wandelstadt-esslingen.de
SUMMARY:Baumschnitt - Agendagruppe Streuobstwiesen
DESCRIPTION:Bei gutem Wetter trifft sich die Streuobstwiesengruppe zum Baumschnitt. Neue Helfer:innen sind herzlich willkommen! Für Infos zum Treffpunkt bitte eine Mail an streuobstgruppe@forum-esslingen.de.
URL:https://wandelstadt-esslingen.de/event/baumschnitt-agendagruppe-streuobstwiesen-13/2026-02-28/
ORGANIZER;CN="Agendagruppe Streuobstwiesen":MAILTO:streuobstgruppe@forum-esslingen.de
END:VEVENT
BEGIN:VEVENT
DTSTART;TZID=Europe/Berlin:20260207T093000
DTEND;TZID=Europe/Berlin:20260207T120000
DTSTAMP:20260421T202639
CREATED:20251120T174518Z
LAST-MODIFIED:20260219T093509Z
UID:10007213-1770456600-1770465600@wandelstadt-esslingen.de
SUMMARY:Baumschnitt - Agendagruppe Streuobstwiesen
DESCRIPTION:Bei gutem Wetter trifft sich die Streuobstwiesengruppe zum Baumschnitt. Neue Helfer:innen sind herzlich willkommen! Für Infos zum Treffpunkt bitte eine Mail an streuobstgruppe@forum-esslingen.de.
URL:https://wandelstadt-esslingen.de/event/baumschnitt-agendagruppe-streuobstwiesen-13/2026-02-07/
ORGANIZER;CN="Agendagruppe Streuobstwiesen":MAILTO:streuobstgruppe@forum-esslingen.de
END:VEVENT
BEGIN:VEVENT
DTSTART;TZID=Europe/Berlin:20260124T093000
DTEND;TZID=Europe/Berlin:20260124T120000
DTSTAMP:20260421T202639
CREATED:20251120T174518Z
LAST-MODIFIED:20260219T093509Z
UID:10007212-1769247000-1769256000@wandelstadt-esslingen.de
SUMMARY:Baumschnitt - Agendagruppe Streuobstwiesen
DESCRIPTION:Bei gutem Wetter trifft sich die Streuobstwiesengruppe zum Baumschnitt. Neue Helfer:innen sind herzlich willkommen! Für Infos zum Treffpunkt bitte eine Mail an streuobstgruppe@forum-esslingen.de.
URL:https://wandelstadt-esslingen.de/event/baumschnitt-agendagruppe-streuobstwiesen-13/2026-01-24/
ORGANIZER;CN="Agendagruppe Streuobstwiesen":MAILTO:streuobstgruppe@forum-esslingen.de
END:VEVENT
BEGIN:VEVENT
DTSTART;TZID=Europe/Berlin:20251129T093000
DTEND;TZID=Europe/Berlin:20251129T120000
DTSTAMP:20260421T202639
CREATED:20251120T174518Z
LAST-MODIFIED:20260219T093509Z
UID:10007210-1764408600-1764417600@wandelstadt-esslingen.de
SUMMARY:Baumschnitt - Agendagruppe Streuobstwiesen
DESCRIPTION:Bei gutem Wetter trifft sich die Streuobstwiesengruppe zum Baumschnitt. Neue Helfer:innen sind herzlich willkommen! Für Infos zum Treffpunkt bitte eine Mail an streuobstgruppe@forum-esslingen.de.
URL:https://wandelstadt-esslingen.de/event/baumschnitt-agendagruppe-streuobstwiesen-13/2025-11-29/
ORGANIZER;CN="Agendagruppe Streuobstwiesen":MAILTO:streuobstgruppe@forum-esslingen.de
END:VEVENT
BEGIN:VEVENT
DTSTART;TZID=Europe/Berlin:20250628T073000
DTEND;TZID=Europe/Berlin:20250628T093000
DTSTAMP:20260421T202639
CREATED:20250527T185103Z
LAST-MODIFIED:20250602T181455Z
UID:10005560-1751095800-1751103000@wandelstadt-esslingen.de
SUMMARY:Wiesenmahd - Agendagruppe Streuobstwiesen
DESCRIPTION:Locker und mit Schwung: Eine Wiese mit der Sense mähen \nAnfänger sind besonders willkommen. Die Termine sind an 4 Samstagen im Juni am 07.06 / 14.06. / 21.06. / 28.06. und außerdem dienstags am 10.06. / 17.06. / 24.06. für alle\, die auch unter der Woche Zeit haben. Die Termine beginnen alle um 7 Uhr 30 und dauern bis etwa 9 Uhr 30. Wir treffen uns an der Wiese\, auf der Karte zu finden mit Google Maps unter den Koordinaten 48.74885\, 9.30826. Der Zugang erfolgt über die Mülbergerstraße – Obere Beutau – Wittumhalde. Anmeldung bei Rainer König unter rainer.o.koenig@web.de oder 0151 50742396. Eigene Sensen und Wetzsteine sollten mitgebracht werden. Mehrere Sensen zum Ausleihen sind vorhanden.
URL:https://wandelstadt-esslingen.de/event/wiesenmahd-agendagruppe-streuobstwiesen-7/
ORGANIZER;CN="Agendagruppe Streuobstwiesen":MAILTO:streuobstgruppe@forum-esslingen.de
END:VEVENT
BEGIN:VEVENT
DTSTART;TZID=Europe/Berlin:20250624T073000
DTEND;TZID=Europe/Berlin:20250624T093000
DTSTAMP:20260421T202639
CREATED:20250527T184945Z
LAST-MODIFIED:20250602T181419Z
UID:10005559-1750750200-1750757400@wandelstadt-esslingen.de
SUMMARY:Wiesenmahd - Agendagruppe Streuobstwiesen
DESCRIPTION:Locker und mit Schwung: Eine Wiese mit der Sense mähen \nAnfänger sind besonders willkommen. Die Termine sind an 4 Samstagen im Juni am 07.06 / 14.06. / 21.06. / 28.06. und außerdem dienstags am 10.06. / 17.06. / 24.06. für alle\, die auch unter der Woche Zeit haben. Die Termine beginnen alle um 7 Uhr 30 und dauern bis etwa 9 Uhr 30. Wir treffen uns an der Wiese\, auf der Karte zu finden mit Google Maps unter den Koordinaten 48.74885\, 9.30826. Der Zugang erfolgt über die Mülbergerstraße – Obere Beutau – Wittumhalde. Anmeldung bei Rainer König unter rainer.o.koenig@web.de oder 0151 50742396. Eigene Sensen und Wetzsteine sollten mitgebracht werden. Mehrere Sensen zum Ausleihen sind vorhanden.
URL:https://wandelstadt-esslingen.de/event/wiesenmahd-agendagruppe-streuobstwiesen-6/
ORGANIZER;CN="Agendagruppe Streuobstwiesen":MAILTO:streuobstgruppe@forum-esslingen.de
END:VEVENT
BEGIN:VEVENT
DTSTART;TZID=Europe/Berlin:20250621T073000
DTEND;TZID=Europe/Berlin:20250621T093000
DTSTAMP:20260421T202639
CREATED:20250527T184816Z
LAST-MODIFIED:20250602T181354Z
UID:10005558-1750491000-1750498200@wandelstadt-esslingen.de
SUMMARY:Wiesenmahd - Agendagruppe Streuobstwiesen
DESCRIPTION:Locker und mit Schwung: Eine Wiese mit der Sense mähen \nAnfänger sind besonders willkommen. Die Termine sind an 4 Samstagen im Juni am 07.06 / 14.06. / 21.06. / 28.06. und außerdem dienstags am 10.06. / 17.06. / 24.06. für alle\, die auch unter der Woche Zeit haben. Die Termine beginnen alle um 7 Uhr 30 und dauern bis etwa 9 Uhr 30. Wir treffen uns an der Wiese\, auf der Karte zu finden mit Google Maps unter den Koordinaten 48.74885\, 9.30826. Der Zugang erfolgt über die Mülbergerstraße – Obere Beutau – Wittumhalde. Anmeldung bei Rainer König unter rainer.o.koenig@web.de oder 0151 50742396. Eigene Sensen und Wetzsteine sollten mitgebracht werden. Mehrere Sensen zum Ausleihen sind vorhanden.
URL:https://wandelstadt-esslingen.de/event/wiesenmahd-agendagruppe-streuobstwiesen-5/
ORGANIZER;CN="Agendagruppe Streuobstwiesen":MAILTO:streuobstgruppe@forum-esslingen.de
END:VEVENT
BEGIN:VEVENT
DTSTART;TZID=Europe/Berlin:20250617T073000
DTEND;TZID=Europe/Berlin:20250617T093000
DTSTAMP:20260421T202639
CREATED:20250527T184535Z
LAST-MODIFIED:20250602T181317Z
UID:10005557-1750145400-1750152600@wandelstadt-esslingen.de
SUMMARY:Wiesenmahd - Agendagruppe Streuobstwiesen
DESCRIPTION:Locker und mit Schwung: Eine Wiese mit der Sense mähen \nAnfänger sind besonders willkommen. Die Termine sind an 4 Samstagen im Juni am 07.06 / 14.06. / 21.06. / 28.06. und außerdem dienstags am 10.06. / 17.06. / 24.06. für alle\, die auch unter der Woche Zeit haben. Die Termine beginnen alle um 7 Uhr 30 und dauern bis etwa 9 Uhr 30. Wir treffen uns an der Wiese\, auf der Karte zu finden mit Google Maps unter den Koordinaten 48.74885\, 9.30826. Der Zugang erfolgt über die Mülbergerstraße – Obere Beutau – Wittumhalde. Anmeldung bei Rainer König unter rainer.o.koenig@web.de oder 0151 50742396. Eigene Sensen und Wetzsteine sollten mitgebracht werden. Mehrere Sensen zum Ausleihen sind vorhanden.
URL:https://wandelstadt-esslingen.de/event/wiesenmahd-agendagruppe-streuobstwiesen-4/
ORGANIZER;CN="Agendagruppe Streuobstwiesen":MAILTO:streuobstgruppe@forum-esslingen.de
END:VEVENT
BEGIN:VEVENT
DTSTART;TZID=Europe/Berlin:20250614T073000
DTEND;TZID=Europe/Berlin:20250614T093000
DTSTAMP:20260421T202639
CREATED:20250527T173453Z
LAST-MODIFIED:20250602T181243Z
UID:10005556-1749886200-1749893400@wandelstadt-esslingen.de
SUMMARY:Wiesenmahd - Agendagruppe Streuobstwiesen
DESCRIPTION:Locker und mit Schwung: Eine Wiese mit der Sense mähen \nAnfänger sind besonders willkommen. Die Termine sind an 4 Samstagen im Juni am 07.06 / 14.06. / 21.06. / 28.06. und außerdem dienstags am 10.06. / 17.06. / 24.06. für alle\, die auch unter der Woche Zeit haben. Die Termine beginnen alle um 7 Uhr 30 und dauern bis etwa 9 Uhr 30. Wir treffen uns an der Wiese\, auf der Karte zu finden mit Google Maps unter den Koordinaten 48.74885\, 9.30826. Der Zugang erfolgt über die Mülbergerstraße – Obere Beutau – Wittumhalde. Anmeldung bei Rainer König unter rainer.o.koenig@web.de oder 0151 50742396. Eigene Sensen und Wetzsteine sollten mitgebracht werden. Mehrere Sensen zum Ausleihen sind vorhanden.
URL:https://wandelstadt-esslingen.de/event/wiesenmahd-agendagruppe-streuobstwiesen-3/
ORGANIZER;CN="Agendagruppe Streuobstwiesen":MAILTO:streuobstgruppe@forum-esslingen.de
END:VEVENT
BEGIN:VEVENT
DTSTART;TZID=Europe/Berlin:20250610T073000
DTEND;TZID=Europe/Berlin:20250610T093000
DTSTAMP:20260421T202639
CREATED:20250527T173315Z
LAST-MODIFIED:20250602T181157Z
UID:10005555-1749540600-1749547800@wandelstadt-esslingen.de
SUMMARY:Wiesenmahd - Agendagruppe Streuobstwiesen
DESCRIPTION:Locker und mit Schwung: Eine Wiese mit der Sense mähen \nAnfänger sind besonders willkommen. Die Termine sind an 4 Samstagen im Juni am 07.06 / 14.06. / 21.06. / 28.06. und außerdem dienstags am 10.06. / 17.06. / 24.06. für alle\, die auch unter der Woche Zeit haben. Die Termine beginnen alle um 7 Uhr 30 und dauern bis etwa 9 Uhr 30. Wir treffen uns an der Wiese\, auf der Karte zu finden mit Google Maps unter den Koordinaten 48.74885\, 9.30826. Der Zugang erfolgt über die Mülbergerstraße – Obere Beutau – Wittumhalde. Anmeldung bei Rainer König unter rainer.o.koenig@web.de oder 0151 50742396. Eigene Sensen und Wetzsteine sollten mitgebracht werden. Mehrere Sensen zum Ausleihen sind vorhanden.
URL:https://wandelstadt-esslingen.de/event/wiesenmahd-agendagruppe-streuobstwiesen-2/
ORGANIZER;CN="Agendagruppe Streuobstwiesen":MAILTO:streuobstgruppe@forum-esslingen.de
END:VEVENT
BEGIN:VEVENT
DTSTART;TZID=Europe/Berlin:20250607T073000
DTEND;TZID=Europe/Berlin:20250607T093000
DTSTAMP:20260421T202639
CREATED:20250527T085611Z
LAST-MODIFIED:20250602T180936Z
UID:10005554-1749281400-1749288600@wandelstadt-esslingen.de
SUMMARY:Wiesenmahd - Agendagruppe Streuobstwiesen
DESCRIPTION:Locker und mit Schwung: Eine Wiese mit der Sense mähen \nAnfänger sind besonders willkommen. Die Termine sind an 4 Samstagen im Juni am 07.06 / 14.06. / 21.06. / 28.06. und außerdem dienstags am 10.06. / 17.06. / 24.06. für alle\, die auch unter der Woche Zeit haben. Die Termine beginnen alle um 7 Uhr 30 und dauern bis etwa 9 Uhr 30. Wir treffen uns an der Wiese\, auf der Karte zu finden mit Google Maps unter den Koordinaten 48.74885\, 9.30826. Der Zugang erfolgt über die Mülbergerstraße – Obere Beutau – Wittumhalde. Anmeldung bei Rainer König unter rainer.o.koenig@web.de oder 0151 50742396. Eigene Sensen und Wetzsteine sollten mitgebracht werden. Mehrere Sensen zum Ausleihen sind vorhanden.
URL:https://wandelstadt-esslingen.de/event/wiesenmahd-agendagruppe-streuobstwiesen/
ORGANIZER;CN="Agendagruppe Streuobstwiesen":MAILTO:streuobstgruppe@forum-esslingen.de
END:VEVENT
BEGIN:VEVENT
DTSTART;TZID=Europe/Berlin:20250301T093000
DTEND;TZID=Europe/Berlin:20250301T123000
DTSTAMP:20260421T202639
CREATED:20241217T163659Z
LAST-MODIFIED:20241217T163659Z
UID:10004497-1740821400-1740832200@wandelstadt-esslingen.de
SUMMARY:Baumschnitt - Agendagruppe Streuobstwiesen
DESCRIPTION:Bei gutem Wetter trifft sich die Streuobstwiesengruppe am Samstag\, 1. März\, um 9:30 Uhr zum Baumschnitt. Neue Helfer sind herzlich willkommen! Für Infos zum Treffpunkt bitte eine Mail an streuobstgruppe@forum-esslingen.de.
URL:https://wandelstadt-esslingen.de/event/baumschnitt-agendagruppe-streuobstwiesen-12/
ORGANIZER;CN="Agendagruppe Streuobstwiesen":MAILTO:streuobstgruppe@forum-esslingen.de
END:VEVENT
BEGIN:VEVENT
DTSTART;TZID=Europe/Berlin:20250222T093000
DTEND;TZID=Europe/Berlin:20250222T123000
DTSTAMP:20260421T202639
CREATED:20241217T163421Z
LAST-MODIFIED:20241217T163421Z
UID:10004496-1740216600-1740227400@wandelstadt-esslingen.de
SUMMARY:Baumschnitt - Agendagruppe Streuobstwiesen
DESCRIPTION:Bei gutem Wetter trifft sich die Streuobstwiesengruppe am Samstag\, 22. Februar\, um 9:30 Uhr zum Baumschnitt. Neue Helfer sind herzlich willkommen! Für Infos zum Treffpunkt bitte eine Mail an streuobstgruppe@forum-esslingen.de.
URL:https://wandelstadt-esslingen.de/event/baumschnitt-agendagruppe-streuobstwiesen-11/
ORGANIZER;CN="Agendagruppe Streuobstwiesen":MAILTO:streuobstgruppe@forum-esslingen.de
END:VEVENT
BEGIN:VEVENT
DTSTART;TZID=Europe/Berlin:20250208T093000
DTEND;TZID=Europe/Berlin:20250208T123000
DTSTAMP:20260421T202639
CREATED:20241217T163231Z
LAST-MODIFIED:20241217T163231Z
UID:10004495-1739007000-1739017800@wandelstadt-esslingen.de
SUMMARY:Baumschnitt - Agendagruppe Streuobstwiesen
DESCRIPTION:Bei gutem Wetter trifft sich die Streuobstwiesengruppe am Samstag\, 8. Februar\, um 9:30 Uhr zum Baumschnitt. Neue Helfer sind herzlich willkommen! Für Infos zum Treffpunkt bitte eine Mail an streuobstgruppe@forum-esslingen.de.
URL:https://wandelstadt-esslingen.de/event/baumschnitt-agendagruppe-streuobstwiesen-10/
ORGANIZER;CN="Agendagruppe Streuobstwiesen":MAILTO:streuobstgruppe@forum-esslingen.de
END:VEVENT
BEGIN:VEVENT
DTSTART;TZID=Europe/Berlin:20250125T093000
DTEND;TZID=Europe/Berlin:20250125T123000
DTSTAMP:20260421T202639
CREATED:20241217T163021Z
LAST-MODIFIED:20241217T163021Z
UID:10004494-1737797400-1737808200@wandelstadt-esslingen.de
SUMMARY:Baumschnitt - Agendagruppe Streuobstwiesen
DESCRIPTION:Bei gutem Wetter trifft sich die Streuobstwiesengruppe am Samstag\, 25. Januar\, um 9:30 Uhr zum Baumschnitt. Neue Helfer sind herzlich willkommen! Für Infos zum Treffpunkt bitte eine Mail an streuobstgruppe@forum-esslingen.de.
URL:https://wandelstadt-esslingen.de/event/baumschnitt-agendagruppe-streuobstwiesen-9/
ORGANIZER;CN="Agendagruppe Streuobstwiesen":MAILTO:streuobstgruppe@forum-esslingen.de
END:VEVENT
BEGIN:VEVENT
DTSTART;TZID=Europe/Berlin:20250111T093000
DTEND;TZID=Europe/Berlin:20250111T123000
DTSTAMP:20260421T202639
CREATED:20241217T162704Z
LAST-MODIFIED:20241217T162704Z
UID:10004493-1736587800-1736598600@wandelstadt-esslingen.de
SUMMARY:Baumschnitt - Agendagruppe Streuobstwiesen
DESCRIPTION:Bei gutem Wetter trifft sich die Streuobstwiesengruppe am Samstag\, 11. Januar\, um 9:30 Uhr zum Baumschnitt. Neue Helfer sind herzlich willkommen! Für Infos zum Treffpunkt bitte eine Mail an streuobstgruppe@forum-esslingen.de.
URL:https://wandelstadt-esslingen.de/event/baumschnitt-agendagruppe-streuobstwiesen-8/
ORGANIZER;CN="Agendagruppe Streuobstwiesen":MAILTO:streuobstgruppe@forum-esslingen.de
END:VEVENT
BEGIN:VEVENT
DTSTART;TZID=Europe/Berlin:20241012T090000
DTEND;TZID=Europe/Berlin:20241012T120000
DTSTAMP:20260421T202639
CREATED:20240912T115718Z
LAST-MODIFIED:20240912T115718Z
UID:10004002-1728723600-1728734400@wandelstadt-esslingen.de
SUMMARY:Obstsammeln - Agendagruppe Streuobstwiesen
DESCRIPTION:Bei gutem Wetter trifft sich die Streuobstwiesengruppe am Samstag\, 12. Oktober\, um 9 Uhr zum Obstsammeln. Neue Helferinnen und Helfer sind herzlich willkommen! Für Infos zum Treffpunkt bitte eine Mail an streuobstgruppe@forum-esslingen.de.
URL:https://wandelstadt-esslingen.de/event/obstsammeln-agendagruppe-streuobstwiesen-5/
ORGANIZER;CN="Agendagruppe Streuobstwiesen":MAILTO:streuobstgruppe@forum-esslingen.de
END:VEVENT
BEGIN:VEVENT
DTSTART;TZID=Europe/Berlin:20241005T090000
DTEND;TZID=Europe/Berlin:20241005T120000
DTSTAMP:20260421T202639
CREATED:20240912T115521Z
LAST-MODIFIED:20240912T115521Z
UID:10004001-1728118800-1728129600@wandelstadt-esslingen.de
SUMMARY:Obstsammeln - Agendagruppe Streuobstwiesen
DESCRIPTION:Bei gutem Wetter trifft sich die Streuobstwiesengruppe am Samstag\, 5. Oktober\, um 9 Uhr zum Obstsammeln. Neue Helferinnen und Helfer sind herzlich willkommen! Für Infos zum Treffpunkt bitte eine Mail an streuobstgruppe@forum-esslingen.de.
URL:https://wandelstadt-esslingen.de/event/obstsammeln-agendagruppe-streuobstwiesen-4/
ORGANIZER;CN="Agendagruppe Streuobstwiesen":MAILTO:streuobstgruppe@forum-esslingen.de
END:VEVENT
BEGIN:VEVENT
DTSTART;TZID=Europe/Berlin:20240928T090000
DTEND;TZID=Europe/Berlin:20240928T120000
DTSTAMP:20260421T202639
CREATED:20240912T115229Z
LAST-MODIFIED:20240912T115229Z
UID:10004000-1727514000-1727524800@wandelstadt-esslingen.de
SUMMARY:Obstsammeln - Agendagruppe Streuobstwiesen
DESCRIPTION:Bei gutem Wetter trifft sich die Streuobstwiesengruppe am Samstag\, 28. September\, um 9 Uhr zum Obstsammeln. Neue Helferinnen und Helfer sind herzlich willkommen! Für Infos zum Treffpunkt bitte eine Mail an streuobstgruppe@forum-esslingen.de.
URL:https://wandelstadt-esslingen.de/event/obstsammeln-agendagruppe-streuobstwiesen-3/
ORGANIZER;CN="Agendagruppe Streuobstwiesen":MAILTO:streuobstgruppe@forum-esslingen.de
END:VEVENT
BEGIN:VEVENT
DTSTART;TZID=Europe/Berlin:20240921T090000
DTEND;TZID=Europe/Berlin:20240921T120000
DTSTAMP:20260421T202639
CREATED:20240912T115021Z
LAST-MODIFIED:20240912T115021Z
UID:10003999-1726909200-1726920000@wandelstadt-esslingen.de
SUMMARY:Obstsammeln - Agendagruppe Streuobstwiesen
DESCRIPTION:Bei gutem Wetter trifft sich die Streuobstwiesengruppe am Samstag\, 21. September\, um 9 Uhr zum Obstsammeln. Neue Helferinnen und Helfer sind herzlich willkommen! Für Infos zum Treffpunkt bitte eine Mail an streuobstgruppe@forum-esslingen.de.
URL:https://wandelstadt-esslingen.de/event/obstsammeln-agendagruppe-streuobstwiesen-2/
ORGANIZER;CN="Agendagruppe Streuobstwiesen":MAILTO:streuobstgruppe@forum-esslingen.de
END:VEVENT
BEGIN:VEVENT
DTSTART;TZID=Europe/Berlin:20240914T090000
DTEND;TZID=Europe/Berlin:20240914T120000
DTSTAMP:20260421T202639
CREATED:20240912T114421Z
LAST-MODIFIED:20240912T114421Z
UID:10003998-1726304400-1726315200@wandelstadt-esslingen.de
SUMMARY:Obstsammeln - Agendagruppe Streuobstwiesen
DESCRIPTION:Bei gutem Wetter trifft sich die Streuobstwiesengruppe am Samstag\, 14. September\, um 9 Uhr zum Obstsammeln. Neue Helferinnen und Helfer sind herzlich willkommen! Für Infos zum Treffpunkt bitte eine Mail an streuobstgruppe@forum-esslingen.de.
URL:https://wandelstadt-esslingen.de/event/obstsammeln-agendagruppe-streuobstwiesen/
ORGANIZER;CN="Agendagruppe Streuobstwiesen":MAILTO:streuobstgruppe@forum-esslingen.de
END:VEVENT
BEGIN:VEVENT
DTSTART;TZID=Europe/Berlin:20240706T090000
DTEND;TZID=Europe/Berlin:20240706T120000
DTSTAMP:20260421T202639
CREATED:20240523T203555Z
LAST-MODIFIED:20240523T203555Z
UID:10003012-1720256400-1720267200@wandelstadt-esslingen.de
SUMMARY:Pflegearbeiten - Agendagruppe Streuobstwiesen
DESCRIPTION:Bei gutem Wetter trifft sich die Streuobstwiesengruppe am Samstag\, 6. Juli\, um 9 Uhr zu Pflegearbeiten. Neue Helfer sind herzlich willkommen! Für Infos zum Treffpunkt bitte eine Mail an streuobstgruppe@forum-esslingen.de.
URL:https://wandelstadt-esslingen.de/event/pflegearbeiten-agendagruppe-streuobstwiesen-4/
ORGANIZER;CN="Agendagruppe Streuobstwiesen":MAILTO:streuobstgruppe@forum-esslingen.de
END:VEVENT
BEGIN:VEVENT
DTSTART;TZID=Europe/Berlin:20240629T090000
DTEND;TZID=Europe/Berlin:20240629T120000
DTSTAMP:20260421T202639
CREATED:20240523T203354Z
LAST-MODIFIED:20240523T203354Z
UID:10003011-1719651600-1719662400@wandelstadt-esslingen.de
SUMMARY:Pflegearbeiten - Agendagruppe Streuobstwiesen
DESCRIPTION:Bei gutem Wetter trifft sich die Streuobstwiesengruppe am Samstag\, 29. Juni\, um 9 Uhr zu Pflegearbeiten. Neue Helfer sind herzlich willkommen! Für Infos zum Treffpunkt bitte eine Mail an streuobstgruppe@forum-esslingen.de.
URL:https://wandelstadt-esslingen.de/event/pflegearbeiten-agendagruppe-streuobstwiesen-3/
ORGANIZER;CN="Agendagruppe Streuobstwiesen":MAILTO:streuobstgruppe@forum-esslingen.de
END:VEVENT
BEGIN:VEVENT
DTSTART;TZID=Europe/Berlin:20240622T090000
DTEND;TZID=Europe/Berlin:20240622T120000
DTSTAMP:20260421T202639
CREATED:20240524T050217Z
LAST-MODIFIED:20240524T051844Z
UID:10003013-1719046800-1719057600@wandelstadt-esslingen.de
SUMMARY:Pflegearbeiten - Agendagruppe Streuobstwiesen
DESCRIPTION:Bei gutem Wetter trifft sich die Streuobstwiesengruppe am Samstag\, 22. Juni\, um 9 Uhr zu Pflegearbeiten. Neue Helfer sind herzlich willkommen! Für Infos zum Treffpunkt bitte eine Mail an streuobstgruppe@forum-esslingen.de.
URL:https://wandelstadt-esslingen.de/event/pflegearbeiten-agendagruppe-streuobstwiesen-5/
ORGANIZER;CN="Agendagruppe Streuobstwiesen":MAILTO:streuobstgruppe@forum-esslingen.de
END:VEVENT
BEGIN:VEVENT
DTSTART;TZID=Europe/Berlin:20240615T090000
DTEND;TZID=Europe/Berlin:20240615T120000
DTSTAMP:20260421T202639
CREATED:20240523T202552Z
LAST-MODIFIED:20240523T202552Z
UID:10003010-1718442000-1718452800@wandelstadt-esslingen.de
SUMMARY:Pflegearbeiten - Agendagruppe Streuobstwiesen
DESCRIPTION:Bei gutem Wetter trifft sich die Streuobstwiesengruppe am Samstag\, 15. Juni\, um 9 Uhr zu Pflegearbeiten. Neue Helfer sind herzlich willkommen! Für Infos zum Treffpunkt bitte eine Mail an streuobstgruppe@forum-esslingen.de.
URL:https://wandelstadt-esslingen.de/event/pflegearbeiten-agendagruppe-streuobstwiesen/
ORGANIZER;CN="Agendagruppe Streuobstwiesen":MAILTO:streuobstgruppe@forum-esslingen.de
END:VEVENT
BEGIN:VEVENT
DTSTART;TZID=Europe/Berlin:20240608T083000
DTEND;TZID=Europe/Berlin:20240608T110000
DTSTAMP:20260421T202639
CREATED:20240529T155804Z
LAST-MODIFIED:20240529T155804Z
UID:10003025-1717835400-1717844400@wandelstadt-esslingen.de
SUMMARY:Mähen mit der Sense - Agendagruppe Streuobstwiesen
DESCRIPTION:Bei gutem Wetter trifft sich die Streuobstwiesengruppe am Samstag\, 8. Juni\, um 8:30 Uhr zum Mähen mit der Sense mit Einführung. Neue Helfer – auch Zuschauer – sind herzlich willkommen! Für Infos zum Treffpunkt bitte eine Mail an streuobstgruppe@forum-esslingen.de.
URL:https://wandelstadt-esslingen.de/event/maehen-mit-der-sense-agendagruppe-streuobstwiesen-4/
ORGANIZER;CN="Agendagruppe Streuobstwiesen":MAILTO:streuobstgruppe@forum-esslingen.de
END:VEVENT
BEGIN:VEVENT
DTSTART;TZID=Europe/Berlin:20240607T083000
DTEND;TZID=Europe/Berlin:20240607T110000
DTSTAMP:20260421T202639
CREATED:20240529T155623Z
LAST-MODIFIED:20240529T155623Z
UID:10003024-1717749000-1717758000@wandelstadt-esslingen.de
SUMMARY:Mähen mit der Sense - Agendagruppe Streuobstwiesen
DESCRIPTION:Bei gutem Wetter trifft sich die Streuobstwiesengruppe am Freitag\, 7. Juni\, um 8:30 Uhr zum Mähen mit der Sense mit Einführung. Neue Helfer – auch Zuschauer – sind herzlich willkommen! Für Infos zum Treffpunkt bitte eine Mail an streuobstgruppe@forum-esslingen.de.
URL:https://wandelstadt-esslingen.de/event/maehen-mit-der-sense-agendagruppe-streuobstwiesen-3/
ORGANIZER;CN="Agendagruppe Streuobstwiesen":MAILTO:streuobstgruppe@forum-esslingen.de
END:VEVENT
BEGIN:VEVENT
DTSTART;TZID=Europe/Berlin:20240606T083000
DTEND;TZID=Europe/Berlin:20240606T110000
DTSTAMP:20260421T202639
CREATED:20240529T155409Z
LAST-MODIFIED:20240529T155409Z
UID:10003023-1717662600-1717671600@wandelstadt-esslingen.de
SUMMARY:Mähen mit der Sense - Agendagruppe Streuobstwiesen
DESCRIPTION:Bei gutem Wetter trifft sich die Streuobstwiesengruppe am Donnerstag\, 6. Juni\, um 8:30 Uhr zum Mähen mit der Sense mit Einführung. Neue Helfer – auch Zuschauer – sind herzlich willkommen! Für Infos zum Treffpunkt bitte eine Mail an streuobstgruppe@forum-esslingen.de.
URL:https://wandelstadt-esslingen.de/event/maehen-mit-der-sense-agendagruppe-streuobstwiesen-2/
ORGANIZER;CN="Agendagruppe Streuobstwiesen":MAILTO:streuobstgruppe@forum-esslingen.de
END:VEVENT
BEGIN:VEVENT
DTSTART;TZID=Europe/Berlin:20240605T083000
DTEND;TZID=Europe/Berlin:20240605T110000
DTSTAMP:20260421T202639
CREATED:20240529T155135Z
LAST-MODIFIED:20240529T155135Z
UID:10003022-1717576200-1717585200@wandelstadt-esslingen.de
SUMMARY:Mähen mit der Sense - Agendagruppe Streuobstwiesen
DESCRIPTION:Bei gutem Wetter trifft sich die Streuobstwiesengruppe am Mittwoch\, 5. Juni\, um 8:30 Uhr zum Mähen mit der Sense mit Einführung. Neue Helfer – auch Zuschauer – sind herzlich willkommen! Für Infos zum Treffpunkt bitte eine Mail an streuobstgruppe@forum-esslingen.de.
URL:https://wandelstadt-esslingen.de/event/maehen-mit-der-sense-agendagruppe-streuobstwiesen/
ORGANIZER;CN="Agendagruppe Streuobstwiesen":MAILTO:streuobstgruppe@forum-esslingen.de
END:VEVENT
END:VCALENDAR