BEGIN:VCALENDAR
VERSION:2.0
PRODID:-//Wandelstadt Esslingen - ECPv6.15.20//NONSGML v1.0//EN
CALSCALE:GREGORIAN
METHOD:PUBLISH
X-ORIGINAL-URL:https://wandelstadt-esslingen.de
X-WR-CALDESC:Veranstaltungen für Wandelstadt Esslingen
REFRESH-INTERVAL;VALUE=DURATION:PT1H
X-Robots-Tag:noindex
X-PUBLISHED-TTL:PT1H
BEGIN:VTIMEZONE
TZID:Europe/Berlin
BEGIN:DAYLIGHT
TZOFFSETFROM:+0100
TZOFFSETTO:+0200
TZNAME:CEST
DTSTART:20260329T010000
END:DAYLIGHT
BEGIN:STANDARD
TZOFFSETFROM:+0200
TZOFFSETTO:+0100
TZNAME:CET
DTSTART:20261025T010000
END:STANDARD
BEGIN:DAYLIGHT
TZOFFSETFROM:+0100
TZOFFSETTO:+0200
TZNAME:CEST
DTSTART:20270328T010000
END:DAYLIGHT
BEGIN:STANDARD
TZOFFSETFROM:+0200
TZOFFSETTO:+0100
TZNAME:CET
DTSTART:20271031T010000
END:STANDARD
BEGIN:DAYLIGHT
TZOFFSETFROM:+0100
TZOFFSETTO:+0200
TZNAME:CEST
DTSTART:20280326T010000
END:DAYLIGHT
BEGIN:STANDARD
TZOFFSETFROM:+0200
TZOFFSETTO:+0100
TZNAME:CET
DTSTART:20281029T010000
END:STANDARD
END:VTIMEZONE
BEGIN:VEVENT
DTSTART;TZID=Europe/Berlin:20270804T140000
DTEND;TZID=Europe/Berlin:20270804T170000
DTSTAMP:20260423T111116
CREATED:20260218T110213Z
LAST-MODIFIED:20260218T110233Z
UID:10008935-1817388000-1817398800@wandelstadt-esslingen.de
SUMMARY:Inklusiver Spieletreff
DESCRIPTION:Herzlich willkommen! \nDer Inklusive Spieletreff bietet eine gemütliche Atmosphäre mit Kaffee und Kuchen\, Zeit zum Plaudern und viel Raum\, um neben dem Spielen nette Menschen zu treffen und neue Freundschaften aufzubauen. \n\n\n\n\nAlle sind herzlich willkommen! \nGespielt werden Kartenspiele wie Canasta\, Rommé\, Mau Mau\, UNO\, Elfer raus sowie Brettspiele wie Halma\, Domino\, Mühle\, Mensch ärgere dich nicht! und auch Denksportspiele wie Schach\, Skat\, Kniffel und vieles mehr \nUnser Motto: Ein paar Stunden gemeinsam genießen und den Alltag vergessen! \nSie sind alleine und finden keinen Spielpartner? – Beim Inklusiven Spieletreff finden Sie Gleichgesinnte!\nBrauchen Sie Abstand vom Alltag? -Bei uns gelingt das!\nMöchten Sie gerne ungezwungen unter Menschen sein? – Hier ist es möglich! \nKommen Sie doch einfach mal vorbei! \nWir treffen uns immer am ersten und dritten Mittwoch im Monat von 14-17 Uhr \n\n\n\n\nKontakt\n\n\n\nAnneliese Ergenzinger\nE-Mail spieletreff@forum-esslingen.de
URL:https://wandelstadt-esslingen.de/event/inklusiver-spieletreff/2027-08-04/
LOCATION:Forum Esslingen – Zentrum für Bürgerengagement\, Schelztorstraße 38\, Esslingen\, Deutschland
CATEGORIES:Gemütliches Treffen,Vernetzungsveranstaltung
ORGANIZER;CN="Inklusiver Spieletreff":MAILTO:spieletreff@forum-esslingen.de
END:VEVENT
BEGIN:VEVENT
DTSTART;TZID=Europe/Berlin:20270804T180000
DTEND;TZID=Europe/Berlin:20270804T191500
DTSTAMP:20260423T111116
CREATED:20251207T102043Z
LAST-MODIFIED:20251207T102043Z
UID:10007935-1817402400-1817406900@wandelstadt-esslingen.de
SUMMARY:Ashtanga Yoga im Bürgerforum Esslingen
DESCRIPTION:Wir treffen uns wöchentlich zu einem „Flow am Abend“. Es werden unterschiedliche Asanas (Haltungen) und unterschiedliche anatomische Schwerpunkte gesetzt. Dabei orinetiere ich mich an der ersten Serie des Ashtanga-Yogas. \nBürgerforum\nSchelztorstraße 38 blau\,\n73728 Esslingen\n‍\nmittwochs 18-19:15 Uhr\nkostenlos \nan folgenden Tagen entfällt der Kurs:\n24.12.2025\, 31.12.2025
URL:https://wandelstadt-esslingen.de/event/ashtanga-yoga-im-buergerforum-esslingen/2027-08-04/
LOCATION:Forum Esslingen\, Schelztorstraße 38\, Esslingen\, 73728
CATEGORIES:Achtsamkeit,Sport und Gesundheit,Yoga
ORGANIZER;CN="Ashtanga Yoga Gruppe":MAILTO:fothalexander.yoga@outlook.de
END:VEVENT
BEGIN:VEVENT
DTSTART;TZID=Europe/Berlin:20270804T180000
DTEND;TZID=Europe/Berlin:20270804T200000
DTSTAMP:20260423T111116
CREATED:20251127T202915Z
LAST-MODIFIED:20251127T202915Z
UID:10007645-1817402400-1817409600@wandelstadt-esslingen.de
SUMMARY:Textil- und druckwerkstatt
DESCRIPTION:Deine Band braucht Merch? Oder du hast Lust\, personalisierte Designs auf Klamotten zu sticken oder zu drucken? Hast du generell Interesse an Textildesign und Mode? Wir stellen Material\, vorgefertigte Motive\, eine Näh-\, eine Stickmaschine und einen Schneideplotter zu Verfügung\, damit du an\, auf und mit Textilien in kleinen Format experimentieren kannst. Bring dein Material zum Bedrucken mit. Im Hinblick auf nachhaltigen Konsum\, kannst du gerne alte oder unbenutzte Textilien mitbringen! \nWir haben die grundlegende Ausstattung für Photoshootings: Leinwand (Weiss\, Schwarz und Grün)\, 3 Dauerlichter\, Kamera und Zubehör. \nKostenlos und ohne Anmeldung – jeden Mittwoch ab 18 Uhr und auf Anfrage\nTagesaktuelle Infos auf Instagram @kommaesslingen\nKontakt: werkstatt@komma.info
URL:https://wandelstadt-esslingen.de/event/textil-und-druckwerkstatt/2027-08-04/
LOCATION:KOMMA Esslingen\, Maille 5-9\, Esslingen\, 73728\, Deutschland
CATEGORIES:Live-Veranstaltung,Vernetzungsveranstaltung,Workshop
END:VEVENT
BEGIN:VEVENT
DTSTART;TZID=Europe/Berlin:20270805T090000
DTEND;TZID=Europe/Berlin:20270805T110000
DTSTAMP:20260423T111116
CREATED:20250627T221735Z
LAST-MODIFIED:20250627T221735Z
UID:10005842-1817456400-1817463600@wandelstadt-esslingen.de
SUMMARY:TAT + RAT · Senioren und Seniorinnen helfen
DESCRIPTION:Wobei wir helfen!\nWir unterstützen Sie bei anfallenden Arbeiten\, bei denen „tatkräftige Hilfe“ oder „guter Rat“ benötigt wird. \nBeispiele unserer Tätigkeiten\n▷ Reparaturen im Haushalt \n• Tropfende Wasserhähne\n• Leuchten montieren oder Leuchtmittel austauschen\n• Möbelscharniere reparieren\n• Haltegriffe montieren\n• Montage von Kleinmöbeln\n• und vieles mehr \n▷ Lösung technischer Probleme \n• Digitale Geräte wie Telefon\, Drucker\, Router\, stationärer PC etc.\n• Grundeinstellung Fernseher etc.\n• Bedienungsanleitungen erklären \n▷ Hilfe bei Formularen und beim Verfassen von Schriftstücken\n▷ Beratung wenn Sie unsicher sind\, ob \n• wenige Handgriffe ausreichen\, um das Problem zu beheben\n• ein Kundendienst gerufen werden sollte\n• eine Ersatzbeschaffung sinnvoll schein \nSie erreichen uns persönlich und telefonisch\ndonnerstags von 9 – 11 Uhr\n0711 357420\nAnrufbeantworter wird wöchentlich abgehört. \nSie erreichen uns online\ntatundrat@forum-esslingen.de\nforum-esslingen.de
URL:https://wandelstadt-esslingen.de/event/tat-rat-%c2%b7-senioren-und-seniorinnen-helfen/2027-08-05/
LOCATION:Forum Esslingen in der Schelztorstraße 38\, 73728 Esslingen\, Schelztorstraße 38\, Esslingen\, 73728\, Deutschland
END:VEVENT
BEGIN:VEVENT
DTSTART;TZID=Europe/Berlin:20270805T190000
DTEND;TZID=Europe/Berlin:20270805T190000
DTSTAMP:20260423T111116
CREATED:20240628T160749Z
LAST-MODIFIED:20240629T175416Z
UID:10003725-1817492400-1817492400@wandelstadt-esslingen.de
SUMMARY:Fahrradwerkstatt
DESCRIPTION:Wir unterstützen Dich\, wenn Dein Fahrrad nicht mehr tut was es soll.\nFalls Ihr Interesse und Bedarf an unserer Fahrradwerkstatt habt\, meldet Euch per Mail: info@komma. \nVerantwortlich für die Werkstatt ist der Motorradclub Kuhle Wampe. Sie sind ein basisdemokratisch organisierter Motorradclub mit Sitz im Komma und sie betreiben eine Zweiradwerkstatt. Jeden Donnerstag ist die Fahrradwerkstatt geöffnet – bei gutem Wetter wird möglicherweise auch gegrillt.
URL:https://wandelstadt-esslingen.de/event/fahrrad-werkstatt/2027-08-05/
LOCATION:KOMMA\, Maille 5-9\, Esslingen\, Deutschland
END:VEVENT
END:VCALENDAR