BEGIN:VCALENDAR
VERSION:2.0
PRODID:-//Wandelstadt Esslingen - ECPv6.15.20//NONSGML v1.0//EN
CALSCALE:GREGORIAN
METHOD:PUBLISH
X-WR-CALNAME:Wandelstadt Esslingen
X-ORIGINAL-URL:https://wandelstadt-esslingen.de
X-WR-CALDESC:Veranstaltungen für Wandelstadt Esslingen
REFRESH-INTERVAL;VALUE=DURATION:PT1H
X-Robots-Tag:noindex
X-PUBLISHED-TTL:PT1H
BEGIN:VTIMEZONE
TZID:Europe/Berlin
BEGIN:DAYLIGHT
TZOFFSETFROM:+0100
TZOFFSETTO:+0200
TZNAME:CEST
DTSTART:20240331T010000
END:DAYLIGHT
BEGIN:STANDARD
TZOFFSETFROM:+0200
TZOFFSETTO:+0100
TZNAME:CET
DTSTART:20241027T010000
END:STANDARD
BEGIN:DAYLIGHT
TZOFFSETFROM:+0100
TZOFFSETTO:+0200
TZNAME:CEST
DTSTART:20250330T010000
END:DAYLIGHT
BEGIN:STANDARD
TZOFFSETFROM:+0200
TZOFFSETTO:+0100
TZNAME:CET
DTSTART:20251026T010000
END:STANDARD
BEGIN:DAYLIGHT
TZOFFSETFROM:+0100
TZOFFSETTO:+0200
TZNAME:CEST
DTSTART:20260329T010000
END:DAYLIGHT
BEGIN:STANDARD
TZOFFSETFROM:+0200
TZOFFSETTO:+0100
TZNAME:CET
DTSTART:20261025T010000
END:STANDARD
END:VTIMEZONE
BEGIN:VEVENT
DTSTART;TZID=Europe/Berlin:20250526T080000
DTEND;TZID=Europe/Berlin:20250526T170000
DTSTAMP:20260422T130740
CREATED:20250526T115914Z
LAST-MODIFIED:20250526T115914Z
UID:10005532-1748246400-1748278800@wandelstadt-esslingen.de
SUMMARY:Öffentliche Sitzung des Klimarats
DESCRIPTION:Öffentliche Sitzung des Klimarats\nam Dienstag\, den 5. Juni 2025\num 16:00 Uhr\nim Sitzungssaal des Alten Rathauses\nTagesordnung\nÖffentliche Sitzung\n1. Begrüßung durch Oberbürgermeister Matthias Klopfer\n2. Genehmigung der Tagesordnung\n3. Bericht aus der internen Arbeitssitzung des Klimarats\nInhalt: Einblick in die Themen und Aktivitäten des Klimarats im neuen Arbeitsmodus.\nGeplant ist zudem\, kurze Impulse durch externe Expert*innen einzubinden\, die wir –\nvorbehaltlich finaler Abstimmung – noch rechtzeitig namentlich melden werden. Im\nAnschluss möchten wir eine Diskussion mit den anwesenden Teilnehmer*innen führen.\nFormat: Präsentation durch Mitglieder des Gremiums.\nUnterlagen: Keine vorab zu versendenden Unterlagen erforderlich.\n4. Stellungnahme zur CO;-Bilanz und Überprüfung der Absenkpfade im Kontext des CO;-\nBudgets für das 1\,75°C-Ziel\nInhalt: Im Rahmen dieses Tagesordnungspunktes wird die Stellungnahme zur aktuelle\nCO;-Bilanz der Stadt Esslingen vorgestellt und im Hinblick auf das verbleibende\nEmissionsbudget für das 1\,75°C-Ziel überprüft. Aufbauend auf dieser Analyse diskutieren\nwir konkrete Maßnahmenempfehlungen\, mit einem besonderen Fokus auf den\nMobilitätssektor.\nWir stehen den Anwesenden während der Sitzung als Expert*innen für Rückfragen zur\nVerfügung.\nUnterlagen: Die schriftliche Stellungnahme inklusive Maßnahmenvorschlägen zur\nAufnahme in die Sitzungsunterlagen des ABMK sind im Anhang.\n5. Verschiedenes
URL:https://wandelstadt-esslingen.de/event/oeffentliche-sitzung-des-klimarats/
LOCATION:Altes Rathaus\, Esslingen am Neckar\, 73728
END:VEVENT
BEGIN:VEVENT
DTSTART;TZID=Europe/Berlin:20250527T000000
DTEND;TZID=Europe/Berlin:20250527T000000
DTSTAMP:20260422T130740
CREATED:20241225T181159Z
LAST-MODIFIED:20250830T185824Z
UID:10004518-1748304000-1748304000@wandelstadt-esslingen.de
SUMMARY:Sprechstunde für Bürgerinnen und Bürger bei Herrn Erster Bürgermeister Ingo Rust
DESCRIPTION:Herr Erster Bürgermeister Rust leitet das Dezernat für Finanzen\, Digitalisierung\, Klinikum und Öffentlichen Nahverkehr. \nWenn Sie also Anregungen\, Lob oder Kritik in den Bereichen… \n\n…städtischer Haushalt\,\n…städtische Steuern\,\n…Digitalisierung städtischer Einrichtungen\,\n…das Klinikum Esslingen\, \n…den Busverkehr in Esslingen oder \n…die städtischen Veranstaltungsstätten haben\, \n\n\nmelden Sie sich gerne zur Sprechstunde für Bürgerinnen und Bürger an. \nNeues Rathaus\n1. Stock\, Zimmer 113
URL:https://wandelstadt-esslingen.de/event/sprechstunde-fuer-buergerinnen-und-buerger-bei-herrn-erster-buergermeister-ingo-rust/2025-05-27/
LOCATION:Neues Rathaus\, Rathausplatz 2\, Esslingen am Neckar\, 73728
CATEGORIES:Beteiligung,Vernetzungsveranstaltung
END:VEVENT
BEGIN:VEVENT
DTSTART;TZID=Europe/Berlin:20250527T191500
DTEND;TZID=Europe/Berlin:20250527T201500
DTSTAMP:20260422T130740
CREATED:20240520T091234Z
LAST-MODIFIED:20260106T174409Z
UID:10005203-1748373300-1748376900@wandelstadt-esslingen.de
SUMMARY:Inklusive Lachyoga-Gruppe
DESCRIPTION:Lachen ist nicht nur gesund\, sondern auch ansteckend. Und genau darum geht es bei Lachyoga. Gemeinsam lachen und sich gut fühlen\, Stress abbauen und entspannen. Zudem stärkt Lachen die Gesundheit. \n\n\n\n\n\nWann:\nDienstags von 19:15 – 20:15 Uhr\nEinstieg jederzeit möglich!\nKeine Anmeldung erforderlich.\n\n\n\nFür wen:\nFür (fast) jeden geeignet\, da Lachyoga keine schwierigen körperlichen Übungen beinhaltet.\n(siehe Details zur Barrierefreiheit)\n\n\nKursleitung:\nSusanne Klaus (Lachyoga Master Trainerin\, Stuttgarter Lachschule)\n\n\nKosten:\nkeine (freiwillige Spendenbasis)\n\n\nMitzubringen:\netwas zum Trinken
URL:https://wandelstadt-esslingen.de/event/inklusive-lachyoga-gruppe/2025-05-27/
LOCATION:Forum Esslingen – Zentrum für Bürgerengagement\, Schelztorstraße 38\, Esslingen\, Deutschland
ATTACH;FMTTYPE=image/jpeg:https://wandelstadt-esslingen.de/wp-content/uploads/2024/05/Lachyoga-Gruppe_Forum-Esslingen_16-9-scaled.jpg
ORGANIZER;CN="InklusivES - Der Esslinger Stammtisch zum Thema Inklusion":MAILTO:c.lira@inklusives.de
END:VEVENT
BEGIN:VEVENT
DTSTART;TZID=Europe/Berlin:20250527T200000
DTEND;TZID=Europe/Berlin:20250527T200000
DTSTAMP:20260422T130740
CREATED:20250424T172357Z
LAST-MODIFIED:20250424T172607Z
UID:10005368-1748376000-1748376000@wandelstadt-esslingen.de
SUMMARY:Ein Tag ohne Frauen
DESCRIPTION:Fr | 23.05.2025 | 15.00 Uhr\n70 Minuten | FSK nicht geprüft (ab 18 Jahren freigegeben) | OmU | Specials > Kino um drei \nErmutigend\, humorvoll\, fesselnd\, inspirierend … Pünktlich zum 50. Jahrestag des großen Frauenstreiks in Island erscheint dieser Film\, von Frauen erzählt und mit witzig-spielerischen Animationen versehen. Ein einziger Tag\, der Island zum besten Land der Welt für Frauen katapultierte\, das seither Jahr für Jahr den ersten Platz auf dem Index der Geschlechterparität belegt. \nTHE DAY ICELAND STOOD STILL | 2024 | Island\, Usa | Regie& Buch: Pamela Hogan | Kamera: Helgi Felixson \n1975\, von der UN zum Internationalen Jahr der Frau ausgerufen\, verbündeten sich isländische Frauengruppen und riefen zu einem day off auf\, der über Radio- und TV-Spots beworben wurde und dem rund 90% aller isländischen Frauen folgten. Kollektiv legten sie die Arbeit in Fischfabrik\, Büro\, Schule und zu Hause nieder (nur Krankenhäuser wurden ausgeklammert). So standen große Teile der Wirtschaft still. Und die Herren der Schöpfung standen plötzlich (wenn auch für einen sehr überschaubaren Zeitrahmen) ganz allein den Niederungen des Familien- und Arbeitsalltags gegenüber und mussten die Kinder mit in die Werkstatt oder das Kontor nehmen.
URL:https://wandelstadt-esslingen.de/event/ein-tag-ohne-frauen-3/
LOCATION:Kommunales Kino\, Maille 4-9\, Esslingen\, 73728\, Deutschland
CATEGORIES:Kulturveranstaltung
END:VEVENT
BEGIN:VEVENT
DTSTART;TZID=Europe/Berlin:20250528T090000
DTEND;TZID=Europe/Berlin:20250528T160000
DTSTAMP:20260422T130740
CREATED:20250516T105654Z
LAST-MODIFIED:20250516T105654Z
UID:10005401-1748422800-1748448000@wandelstadt-esslingen.de
SUMMARY:Ausflug in die historische Altstadt von Tübingen
DESCRIPTION:Der StadtSeniorenRat lädt zu einem Ausflug in die historische Tübinger Altstadt ein. Durch den Anlagenpark geht es zunächst zum ersten Taubenhaus der Stadt\, wo wir zu einer professionellen Führung (Treppen und Anstiege\, Kosten je 5 Euro) erwartet werden. Anschließend sind Plätze im Biergarten direkt am Neckar reserviert. Gegen 16.00 Uhr ist die Heimreise geplant. Treffpunkt: 9.15 Uhr ZOB\, Regiobahn nach Tübinger\, Gleis 6\, Abfahrt 9.35 Uhr. Anmeldung: Andreas Scharschmidt 0172 68 15 317 oder scharandi@web.de
URL:https://wandelstadt-esslingen.de/event/ausflug-in-die-historische-altstadt-von-tuebingen/
LOCATION:Treffpunkt am ZOB\, Bahnhof\, Esslingen
CATEGORIES:Ausflug
ATTACH;FMTTYPE=image/jpeg:https://wandelstadt-esslingen.de/wp-content/uploads/2025/05/1227_Altstadt-Tuebingen-Neckarkulisse-2-1-von-1.jpg
END:VEVENT
BEGIN:VEVENT
DTSTART;TZID=Europe/Berlin:20250528T153000
DTEND;TZID=Europe/Berlin:20250528T153000
DTSTAMP:20260422T130740
CREATED:20250419T054249Z
LAST-MODIFIED:20250419T054249Z
UID:10005278-1748446200-1748446200@wandelstadt-esslingen.de
SUMMARY:Chor OMAS GEGEN RECHTS Esslingen
DESCRIPTION:Der Chor von OMAS GEGEN RECHTS Esslingen trifft sich jede 2. Woche im KOMMA\, Maille 5-9\, 73728 Esslingen (Hintereingang durch den Hof und die Metalltreppe hinauf) \nUnterstützt durch Percussion-Instrumente werden Lieder eingeübt\, die bei Demos oder bei Aktionen als Earcatcher vorgetragen werden.\nDer Chor freut sich über neue – auch ungeübte -Sänger*innen. Notenlesen nicht erforderlich. \nEin Beispiel zum Anhören\nKeine*r wählt hier rechts: https://www.youtube.com/watch?v=n_KnMoZ2S1k \n 
URL:https://wandelstadt-esslingen.de/event/chor-omas-gegen-rechts-esslingen-3/
LOCATION:KOMMA\, Maille 5-9\, Esslingen\, Deutschland
ORGANIZER;CN="OMAS GEGEN RECHTS Esslingen":MAILTO:ogr-esslingen@posteo.de
END:VEVENT
BEGIN:VEVENT
DTSTART;TZID=Europe/Berlin:20250528T180000
DTEND;TZID=Europe/Berlin:20250528T180000
DTSTAMP:20260422T130740
CREATED:20250424T172403Z
LAST-MODIFIED:20250424T172528Z
UID:10005369-1748455200-1748455200@wandelstadt-esslingen.de
SUMMARY:Ein Tag ohne Frauen
DESCRIPTION:Fr | 23.05.2025 | 15.00 Uhr\n70 Minuten | FSK nicht geprüft (ab 18 Jahren freigegeben) | OmU | Specials > Kino um drei \nErmutigend\, humorvoll\, fesselnd\, inspirierend … Pünktlich zum 50. Jahrestag des großen Frauenstreiks in Island erscheint dieser Film\, von Frauen erzählt und mit witzig-spielerischen Animationen versehen. Ein einziger Tag\, der Island zum besten Land der Welt für Frauen katapultierte\, das seither Jahr für Jahr den ersten Platz auf dem Index der Geschlechterparität belegt. \nTHE DAY ICELAND STOOD STILL | 2024 | Island\, Usa | Regie& Buch: Pamela Hogan | Kamera: Helgi Felixson \n1975\, von der UN zum Internationalen Jahr der Frau ausgerufen\, verbündeten sich isländische Frauengruppen und riefen zu einem day off auf\, der über Radio- und TV-Spots beworben wurde und dem rund 90% aller isländischen Frauen folgten. Kollektiv legten sie die Arbeit in Fischfabrik\, Büro\, Schule und zu Hause nieder (nur Krankenhäuser wurden ausgeklammert). So standen große Teile der Wirtschaft still. Und die Herren der Schöpfung standen plötzlich (wenn auch für einen sehr überschaubaren Zeitrahmen) ganz allein den Niederungen des Familien- und Arbeitsalltags gegenüber und mussten die Kinder mit in die Werkstatt oder das Kontor nehmen.
URL:https://wandelstadt-esslingen.de/event/ein-tag-ohne-frauen-4/
LOCATION:Kommunales Kino\, Maille 4-9\, Esslingen\, 73728\, Deutschland
CATEGORIES:Kulturveranstaltung
END:VEVENT
BEGIN:VEVENT
DTSTART;TZID=Europe/Berlin:20250528T180000
DTEND;TZID=Europe/Berlin:20250528T210000
DTSTAMP:20260422T130740
CREATED:20240628T154510Z
LAST-MODIFIED:20251125T194322Z
UID:10003102-1748455200-1748466000@wandelstadt-esslingen.de
SUMMARY:Kunststoff-Lab
DESCRIPTION:Positiv gegen Kunststoffverschmutzung \nAn einen Alltag ohne Kunststoffe ist nicht mehr zu denken. Das Material hat nach wie vor wertvolle Eigenschaften\, die wir nach dem “Precious-Plastic-Modell“ in einer kleinen Kunststoffrecycling- Manufaktur einsetzen. “Precious-Plastic“ ist ein internationales Projekt. 2012 in den Niederlanden gestartet\, besteht mittlerweile aus einem globalen Netzwerk von Workspaces. Das Komma in Esslingen ist mit dem @preciousplastic_esslingen Teil dieser Bewegung. 2021 bauten wir unsere Werkstatt mit Maschinen zur Plastikverarbeitung auf. Der Mehrwert des Projektes ist es\, die Möglichkeiten und Grenzen des „Selber-Machens“ selbst zu erfahren\, und zwar in einem für die Kreativität und Empowerment sicheren Ort. \nAus Abfall entsteht ein neuer Rohstoff\, aus dem du eigene Werkstücke wie z. B. kleine Möbel\, Lampen\, Taschen und Schmuck kreieren kannst. Schau dir hier an\, was wir 2023 in der Workshopreihe gemacht haben. \nMit und für junge Menschen: Wir können uns nicht mehr anhören\, wie schlecht die Klimakrise ist. Wir wollen was dagegen machen! Was würdest du daraus machen? \n  \nOffene Kunststoffwerkstatt \nAb Mai 2024 steht immer Mittwochs die offene Kunstwerkstatt für die Einführung in die „Precious-Plastic-Welt“\, die Kunststoffverarbeitung und Materialexperimente zur Verfügung. Plastik wird sortiert\, geschreddert und eingeschmolzen. \nHast du es zum letzten Workshop nicht geschafft und wolltest dir immer Schmuck selber machen? Oder einfach mal mehr über die Kunststoffwerkstatt wissen? Oder hast du sogar ein eigenes Projekt im Kopf\, das du mit Kunststoffplatten versuchen möchtest? Dann ist die offene Werkstatt genau richtig für dich. \nSolltest du es unter der Woche nicht schaffen\, gibt es ab Juni 2024 auch immer am  1. Samstag im Monat die offene Werkstatt. Die Nutzung der Werkstatt ist kostenlos. An den genannten Terminen kannst du ohne Anmeldung teilnehmen.  Ausnahmen aufgrund von Komma Veranstaltungen werden über die Internetseite des Mittwochs geteilt. \nMaterial falls nicht selbst gesammelt\, ist auf Spendenbasis verfügbar\, solange Vorrat reicht. Hier findest du ein How-to-collect\, damit du schauen kannst\, was wir in der Werkstatt grundsätzlich verwenden können. \nEinführungen in die Precious-Plastic-Welt sind auf Deutsch\, Englisch und Spanisch möglich. Hast du noch Fragen? Schreib uns gerne eine Nachricht an plastic@komma.info oder komm einfach vorbei! \nDie Teilnahme ist kostenlos\, wir bitten um Anmeldung per Mail an plastic@komma.info. \nKollabs und Netzwerk \nGroßes Potenzial liegt in unserer interdisziplinären Zusammenarbeit – sowohl im Komma-Team als auch in Kooperationen. Wir arbeiten mit Schulen\, Hochschulen\, Designer*innen\, Initiativen\, Werkstätten und andere Precious Plastics Gruppen auf der Welt zusammen. Hast du eine Idee zu einer Kollaboration? Schreib uns gerne an plastic@komma.info. \nFunfäct \n„The Bänk“\, unser erstes Projekt\, hat es in die Endrunde der RoGUILTLESSPLASTIC Awards geschafft und wurde bei der Mailänder Designwoche (Juni 2022) ausgestellt. Wie das gebaut wurde\, findest du im Video. \nTagesaktuelle Informationen und Workshop-Angebote finden sich auf Instagram @preciousplastic_esslingen \n 
URL:https://wandelstadt-esslingen.de/event/https-www-komma-info-precious-plastic/2025-05-28/
LOCATION:KOMMA\, Maille 5-9\, Esslingen\, Deutschland
END:VEVENT
BEGIN:VEVENT
DTSTART;TZID=Europe/Berlin:20250529T150000
DTEND;TZID=Europe/Berlin:20250529T170000
DTSTAMP:20260422T130740
CREATED:20250329T050120Z
LAST-MODIFIED:20250329T050120Z
UID:10005007-1748530800-1748538000@wandelstadt-esslingen.de
SUMMARY:Gesprächskreis Aktuelles Zeitgeschehen
DESCRIPTION:Jeden Donnerstag von 15 : 00 – 17 : 00 Uhr\nOffener Treff – Gesprächskreis Aktuelles Zeitgeschehen\n In lockerer Runde und in einer Atmosphäre der gegenseitigen Toleranz und\ndes Respekts tauschen wir unsere Meinungen und Fragen hinsichtlich aktueller\nThemen (Politik\, Gesellschaft etc.) aus\, wobei wir offen für jedes Alter und jede\nKultur sind.\nVerschiedene Referent:innen und Gastteilnehmende klären zudem in unregel\nmäßigen Abständen zu speziellen Themen auf. Ebenso fließen Haltungen und\nMeinungen verschiedenster Alters- und Bevölkerungsgruppen ein.\nDiskutieren Sie mit uns – wir freuen uns auf Sie!\n Kontakt:\n Matthias Pallmert\,  gaz@mgh-es.de\nOrt: Mehrgenerationen- und Bürgerhaus\, Weilstr. 8
URL:https://wandelstadt-esslingen.de/event/gespraechskreis-aktuelles-zeitgeschehen/2025-05-29/
LOCATION:Mehrgenerationenhaus Esslingen\, Weilstraße 8\, Esslingen
END:VEVENT
BEGIN:VEVENT
DTSTART;TZID=Europe/Berlin:20250529T180000
DTEND;TZID=Europe/Berlin:20250529T200000
DTSTAMP:20260422T130740
CREATED:20250329T050707Z
LAST-MODIFIED:20250329T050707Z
UID:10005099-1748541600-1748548800@wandelstadt-esslingen.de
SUMMARY:Orte des Zuhörens
DESCRIPTION:Donnerstags \n18 : 00 – 20 : 00 Uhr\nOrte des Zuhörens – Caritas-Zentrum Esslingen\n Geschulte haupt- und ehrenamtliche Mitarbeiter:innen nehmen sich Zeit zum\nZuhören. Sie bieten ein offenes Ohr für alle Anliegen in sozialen und finanziellen\nFragen\, Unterstützung bei Anträgen und Bewerbungen sowie Hilfe im Umgang\nmit Behörden. Vertraulich und kostenlos!\nKontakt: Caritas Fils-Neckar-Alb\, Anniko Benedek\,  0711 3969 – 5422
URL:https://wandelstadt-esslingen.de/event/orte-des-zuhoerens/2025-05-29/
LOCATION:Caritas-Zentrum Esslingen\, Mettinger Str. 123\, Esslingen am Neckar\, 73728\, Deutschland
END:VEVENT
BEGIN:VEVENT
DTSTART;TZID=Europe/Berlin:20250529T190000
DTEND;TZID=Europe/Berlin:20250529T190000
DTSTAMP:20260422T130740
CREATED:20240628T160749Z
LAST-MODIFIED:20240629T175416Z
UID:10003611-1748545200-1748545200@wandelstadt-esslingen.de
SUMMARY:Fahrradwerkstatt
DESCRIPTION:Wir unterstützen Dich\, wenn Dein Fahrrad nicht mehr tut was es soll.\nFalls Ihr Interesse und Bedarf an unserer Fahrradwerkstatt habt\, meldet Euch per Mail: info@komma. \nVerantwortlich für die Werkstatt ist der Motorradclub Kuhle Wampe. Sie sind ein basisdemokratisch organisierter Motorradclub mit Sitz im Komma und sie betreiben eine Zweiradwerkstatt. Jeden Donnerstag ist die Fahrradwerkstatt geöffnet – bei gutem Wetter wird möglicherweise auch gegrillt.
URL:https://wandelstadt-esslingen.de/event/fahrrad-werkstatt/2025-05-29/
LOCATION:KOMMA\, Maille 5-9\, Esslingen\, Deutschland
END:VEVENT
BEGIN:VEVENT
DTSTART;TZID=Europe/Berlin:20250530T090000
DTEND;TZID=Europe/Berlin:20250530T110000
DTSTAMP:20260422T130740
CREATED:20250516T101557Z
LAST-MODIFIED:20250516T101557Z
UID:10005397-1748595600-1748602800@wandelstadt-esslingen.de
SUMMARY:Freitagssprechstunde des StadtSeniorenRates Esslingen
DESCRIPTION:Vorstandsmitglieder vom Stadtseniorenrat haben von 9 bis 11 Uhr ein offenes Ohr für alle Anliegen von Seniorinnen sowie Senioren und vermitteln auch Termine bei der Esslinger Initiative zur Erstellung von Vorsorgepapieren wie Vollmachten und Patientenverfügungen: Telefon 0711 357420 
URL:https://wandelstadt-esslingen.de/event/freitagssprechstunde-des-stadtseniorenrates-esslingen/
LOCATION:Forum Esslingen in der Schelztorstraße 38\, 73728 Esslingen\, Schelztorstraße 38\, Esslingen\, 73728\, Deutschland
END:VEVENT
BEGIN:VEVENT
DTSTART;TZID=Europe/Berlin:20250530T140000
DTEND;TZID=Europe/Berlin:20250530T160000
DTSTAMP:20260422T130740
CREATED:20250424T162646Z
LAST-MODIFIED:20250424T162714Z
UID:10002527-1748613600-1748620800@wandelstadt-esslingen.de
SUMMARY:Beratung Esslinger Initiative
DESCRIPTION:Das Leben vom guten Ende her denken.\n\n\n\n\n\n\n\n\n\n\n\n\n\n\n\n\n\n\n\n\nFreitags 14 bis 16 Uhr kostenlose Beratungen der Esslinger Initiative e.V.\nAnmeldung; Fr 9-11 Uhr über Tel. 0711/357420 \nJa das ist unangenehm\, wo doch jetzt Leben dran ist. Scheint doch auch logisch zu sein es so anzugehen wie Heinz Erhardt seine Gedichte anfing „Ich fang mal mit dem Anfang an“.\n„Das Leben vom guten Ende her denken“ ist quasi das Motto der Esslinger Initiative um die es hier heute geht. Sie selbst bezeichnet sich als \n„Eine Initiative für die Wahrung von Menschenwürde und Selbstbestimmung im Alter und bei Krankheit“\, ausgehend von der Frage: „ \nWie kann das Selbstbestimmungsrecht im Alter und bei Krankheit – also in schwierigen Lebensphasen – erhalten werden?“. \nDie Esslinger Initiative … \n\nsetzt sich ein für einen menschenwürdigen Umgang mit Schwerstkranken und Sterbenden\nfördert die Verbesserung der medizinischen und pflegerischen Versorgung Schwerstkranker und Sterbender (Palliative Care)\ntritt ein für die Wahrung des Selbstbestimmungsrechts im Gesundheitswesen und in der Altenpflege\nwirbt für ihre Anliegen in öffentlichen Veranstaltungen\nbietet Beratungen zur Vorsorge an\nstellt Formulare zur Vorsorge zur Verfügung\nschult Ehrenamtliche zu kompetenten Beraterinnen und Beratern und bildet diese regelmäßig weiter\nunterstützt die Durchsetzung einer vorsorgenden Gesundheitsplanung (ACP)\n\n  \nDas besondere Angebot der Esslinger Initiative ist eine kostenlose und unabhängige Beratung zur Vorsorge\, abgestimmt auf die ganz persönliche Situation. Beratungsstellen im gesamten Landkreis Esslingen und darüber hinaus bieten diese Hilfe an.\nDas Ende geht alle an – ein Angebot an alle über 18! \nBitte vorab anmelden unter 0711/357420.
URL:https://wandelstadt-esslingen.de/event/beratung-esslinger-initiative-bitte-vorab-anmelden-2/2025-05-30/
LOCATION:Forum Esslingen – Zentrum für Bürgerengagement\, Schelztorstraße 38\, Esslingen\, Deutschland
ORGANIZER;CN="Esslinger Initiative e.V.":MAILTO:news@esslinger-initiative.de
END:VEVENT
END:VCALENDAR