BEGIN:VCALENDAR
VERSION:2.0
PRODID:-//Wandelstadt Esslingen - ECPv6.15.20//NONSGML v1.0//EN
CALSCALE:GREGORIAN
METHOD:PUBLISH
X-ORIGINAL-URL:https://wandelstadt-esslingen.de
X-WR-CALDESC:Veranstaltungen für Wandelstadt Esslingen
REFRESH-INTERVAL;VALUE=DURATION:PT1H
X-Robots-Tag:noindex
X-PUBLISHED-TTL:PT1H
BEGIN:VTIMEZONE
TZID:Europe/Berlin
BEGIN:DAYLIGHT
TZOFFSETFROM:+0100
TZOFFSETTO:+0200
TZNAME:CEST
DTSTART:20240331T010000
END:DAYLIGHT
BEGIN:STANDARD
TZOFFSETFROM:+0200
TZOFFSETTO:+0100
TZNAME:CET
DTSTART:20241027T010000
END:STANDARD
BEGIN:DAYLIGHT
TZOFFSETFROM:+0100
TZOFFSETTO:+0200
TZNAME:CEST
DTSTART:20250330T010000
END:DAYLIGHT
BEGIN:STANDARD
TZOFFSETFROM:+0200
TZOFFSETTO:+0100
TZNAME:CET
DTSTART:20251026T010000
END:STANDARD
BEGIN:DAYLIGHT
TZOFFSETFROM:+0100
TZOFFSETTO:+0200
TZNAME:CEST
DTSTART:20260329T010000
END:DAYLIGHT
BEGIN:STANDARD
TZOFFSETFROM:+0200
TZOFFSETTO:+0100
TZNAME:CET
DTSTART:20261025T010000
END:STANDARD
END:VTIMEZONE
BEGIN:VEVENT
DTSTART;VALUE=DATE:20250305
DTEND;VALUE=DATE:20250318
DTSTAMP:20260421T165254
CREATED:20250222T203655Z
LAST-MODIFIED:20250222T203655Z
UID:10004827-1741132800-1742255999@wandelstadt-esslingen.de
SUMMARY:Alles Fake? Interaktive Ausstellung
DESCRIPTION:Der Landesfilmdienst lädt herzlich zu einer einzigartigen Ausstellung ein. In unseren Räumen erwarten dich interaktive Stationen\, an denen du die Möglichkeit hast\, die neuesten KI-Tools hautnah zu erleben und selbst kreativ zuwerden!\nDie Ausstellung bietet dir die Chance\, in die Welt der Medienproduktion einzutauchen und dabei die spannenden Möglichkeiten der künstlichen Intelligenz in den Bereichen Musik\, Sprache\, Bild und Video zu entdecken. \nHier ist eine kleine Vorschau\, der geplanten Stationen: \n•Face Swapper: Tausche dein Gesicht mit eineranderen Person in einem Video.\n•Virtuelle Realität: Tauche mit einer VR-Brillein eine immersive Welt ein.\n•Color Keying: Lass dich vor einem Greenscreenfilmen und werde Teil eines Filmplakats.\n•KI-Fotobearbeitung und -Bildgenerator: Entdeckedie Möglichkeiten in der Bildbearbeitung und erschaffe neueKunstwerke.\n•KI-Musikgenerator und -Sprache: KomponiereMusik oder lasse deine Worte von einer KI-Stimme wiedergeben.\n•Datenschutz und Fake or No Fake: Setze dich mitwichtigen Themen wie Cyber-Mobbing und Fälschungen auseinanderund lerne\, wie du dich schützen kannst. \n\n\n\n\n\n\n\nPreis \nEintritt frei.
URL:https://wandelstadt-esslingen.de/event/alles-fake-interaktive-ausstellung/
LOCATION:Landesfilmdienst Baden-Württemberg e.V.\, Neckarstraße 53\, Esslingen\, 73728\, Deutschland
CATEGORIES:Kulturveranstaltung
END:VEVENT
BEGIN:VEVENT
DTSTART;TZID=Europe/Berlin:20250311T180000
DTEND;TZID=Europe/Berlin:20250311T200000
DTSTAMP:20260421T165254
CREATED:20250222T210143Z
LAST-MODIFIED:20250222T214249Z
UID:10004829-1741716000-1741723200@wandelstadt-esslingen.de
SUMMARY:Jedes Wort wirkt – wie ein bewusster Sprachgebrauch ein gutes Miteinander fördert
DESCRIPTION:im Rahmen der Esslinger Frauenwochen \nImpulsvortrag mit anschließendem Austausch \nVielfach unterschätzen wir die Wirkung unseres individuellen Sprachgebrauchs auf unsere Kommunikation mit anderen Menschen. Eine klare\, wertschätzende Sprache schafft ein Klima von Vertrauen\, gibt Halt\, ermöglicht neue Blickwinkel und macht dadurch ein wirkliches Miteinander möglich. \nIn diesem Vortag erfahren Sie\, wie Sie mit einer bewussten und wertschätzenden Sprache sich selbst und andere stärken können. Sie erleben die verblüffende Wirkung scheinbar kleiner Änderungen der gewohnten Ausdrucksweise auf die Kommunikation\, das Miteinander und auf die eigene Ausstrahlung. Ich lade Sie ein\, Ihre Sprache aus einem neuen Blickwinkel zu betrachten. Lassen Sie sich überraschen! \nReferentin Antonia Rackowski\nErzieherin\, Diplom Sozialpädagogin\, systemische Therapeutin SGG und LINGVA ETERNA®Lehrdozentin\, Trainerin und Coach\, Esslingen \n\n\n\n\n\n\n\nPreis \nTeilnahme kostenlos\nmax. 16 Teilnehmer\nAnmeldung unter: geschaeftsstelle@tev-kreis-es.de
URL:https://wandelstadt-esslingen.de/event/jedes-wort-wirkt-wie-ein-bewusster-sprachgebrauch-ein-gutes-miteinander-foerdert/
LOCATION:Tageselternverein Kreis Esslingen e.V.\, Karlstraße 6\, Denkendorf\, 73770\, Deutschland
CATEGORIES:Infoveranstaltung,Vernetzungsveranstaltung
ORGANIZER;CN="Tageselternverein Kreis Esslingen e.V.":MAILTO:geschaeftsstelle@tev-kreis-es.de
END:VEVENT
BEGIN:VEVENT
DTSTART;TZID=Europe/Berlin:20250311T191500
DTEND;TZID=Europe/Berlin:20250311T201500
DTSTAMP:20260421T165254
CREATED:20240520T091234Z
LAST-MODIFIED:20260106T174409Z
UID:10004490-1741720500-1741724100@wandelstadt-esslingen.de
SUMMARY:Inklusive Lachyoga-Gruppe
DESCRIPTION:Lachen ist nicht nur gesund\, sondern auch ansteckend. Und genau darum geht es bei Lachyoga. Gemeinsam lachen und sich gut fühlen\, Stress abbauen und entspannen. Zudem stärkt Lachen die Gesundheit. \n\n\n\n\n\nWann:\nDienstags von 19:15 – 20:15 Uhr\nEinstieg jederzeit möglich!\nKeine Anmeldung erforderlich.\n\n\n\nFür wen:\nFür (fast) jeden geeignet\, da Lachyoga keine schwierigen körperlichen Übungen beinhaltet.\n(siehe Details zur Barrierefreiheit)\n\n\nKursleitung:\nSusanne Klaus (Lachyoga Master Trainerin\, Stuttgarter Lachschule)\n\n\nKosten:\nkeine (freiwillige Spendenbasis)\n\n\nMitzubringen:\netwas zum Trinken
URL:https://wandelstadt-esslingen.de/event/inklusive-lachyoga-gruppe/2025-03-11/
LOCATION:Forum Esslingen – Zentrum für Bürgerengagement\, Schelztorstraße 38\, Esslingen\, Deutschland
ATTACH;FMTTYPE=image/jpeg:https://wandelstadt-esslingen.de/wp-content/uploads/2024/05/Lachyoga-Gruppe_Forum-Esslingen_16-9-scaled.jpg
ORGANIZER;CN="InklusivES - Der Esslinger Stammtisch zum Thema Inklusion":MAILTO:c.lira@inklusives.de
END:VEVENT
BEGIN:VEVENT
DTSTART;TZID=Europe/Berlin:20250312T173000
DTEND;TZID=Europe/Berlin:20250312T203000
DTSTAMP:20260421T165254
CREATED:20250223T073126Z
LAST-MODIFIED:20250309T182929Z
UID:10004846-1741800600-1741811400@wandelstadt-esslingen.de
SUMMARY:Klimaschutz kann Jede:r
DESCRIPTION:Wie Klimaschutz und Nachhaltigkeit leicht in den Alltag integriert werden können. \nDer Klimawandel und Maßnahmen dazu sind in aller Munde. Das Thema kann für den Einen oder die Andere auch überfordernd sein. Nachhaltigkeit sowie Ressourcenschonung „runter zu brechen“ und in Alltagssituationen konkret einzubauen\, das ist das Ziel dieser Veranstaltung. \nAuch kulinarisch wird es spannend werden! Es werden leckere „Probiererle“ serviert\, die ein Beispiel für eine nachhaltige Verpflegung für jeden Tag\, aber auch für kleine Familientreffen o.ä. darlegen sollen. \nWir gehen gemeinsam folgenden Fragen nach: \nWie können wir unser Leben ohne größeren Aufwand klimafreundlich(er) und nachhaltig(er) gestalten? \nWie vermeide ich Müll? \nWelche kleinen Änderungen in meinen Gewohnheiten helfen mir dabei? \nWie kann ich nachhaltig\, gesund und lecker essen? \nKlimaschutz und Nachhaltigkeit mit viel Spaß & Freude! Conny Mangold und Sven Teufel von ZuZule unterstützen Sie gerne dabei und führen Sie durch den Abend. \nZuZule – Zusammen Zukunft leben ist eine gemeinnützige Organisation aus Esslingen\, die es sich zur Aufgabe gemacht hat\, Projekte und Räume zu schaffen\, bei denen gemeinsam Ansätze und Lösungen für eine nachhaltige und lebenswerte Zukunft für Mensch\, Tier und Umwelt gefunden werden. \nwww.zuzule.net
URL:https://wandelstadt-esslingen.de/event/klimaschutz-kann-jeder-2/
LOCATION:Volkshochschule\, Mettinger Straße 125\, Esslingen am Neckar\, 73728\, Deutschland
ORGANIZER;CN="ZuZule":MAILTO:zuzule@mail.de
END:VEVENT
BEGIN:VEVENT
DTSTART;TZID=Europe/Berlin:20250312T180000
DTEND;TZID=Europe/Berlin:20250312T210000
DTSTAMP:20260421T165254
CREATED:20240628T154510Z
LAST-MODIFIED:20251125T194322Z
UID:10003091-1741802400-1741813200@wandelstadt-esslingen.de
SUMMARY:Kunststoff-Lab
DESCRIPTION:Positiv gegen Kunststoffverschmutzung \nAn einen Alltag ohne Kunststoffe ist nicht mehr zu denken. Das Material hat nach wie vor wertvolle Eigenschaften\, die wir nach dem “Precious-Plastic-Modell“ in einer kleinen Kunststoffrecycling- Manufaktur einsetzen. “Precious-Plastic“ ist ein internationales Projekt. 2012 in den Niederlanden gestartet\, besteht mittlerweile aus einem globalen Netzwerk von Workspaces. Das Komma in Esslingen ist mit dem @preciousplastic_esslingen Teil dieser Bewegung. 2021 bauten wir unsere Werkstatt mit Maschinen zur Plastikverarbeitung auf. Der Mehrwert des Projektes ist es\, die Möglichkeiten und Grenzen des „Selber-Machens“ selbst zu erfahren\, und zwar in einem für die Kreativität und Empowerment sicheren Ort. \nAus Abfall entsteht ein neuer Rohstoff\, aus dem du eigene Werkstücke wie z. B. kleine Möbel\, Lampen\, Taschen und Schmuck kreieren kannst. Schau dir hier an\, was wir 2023 in der Workshopreihe gemacht haben. \nMit und für junge Menschen: Wir können uns nicht mehr anhören\, wie schlecht die Klimakrise ist. Wir wollen was dagegen machen! Was würdest du daraus machen? \n  \nOffene Kunststoffwerkstatt \nAb Mai 2024 steht immer Mittwochs die offene Kunstwerkstatt für die Einführung in die „Precious-Plastic-Welt“\, die Kunststoffverarbeitung und Materialexperimente zur Verfügung. Plastik wird sortiert\, geschreddert und eingeschmolzen. \nHast du es zum letzten Workshop nicht geschafft und wolltest dir immer Schmuck selber machen? Oder einfach mal mehr über die Kunststoffwerkstatt wissen? Oder hast du sogar ein eigenes Projekt im Kopf\, das du mit Kunststoffplatten versuchen möchtest? Dann ist die offene Werkstatt genau richtig für dich. \nSolltest du es unter der Woche nicht schaffen\, gibt es ab Juni 2024 auch immer am  1. Samstag im Monat die offene Werkstatt. Die Nutzung der Werkstatt ist kostenlos. An den genannten Terminen kannst du ohne Anmeldung teilnehmen.  Ausnahmen aufgrund von Komma Veranstaltungen werden über die Internetseite des Mittwochs geteilt. \nMaterial falls nicht selbst gesammelt\, ist auf Spendenbasis verfügbar\, solange Vorrat reicht. Hier findest du ein How-to-collect\, damit du schauen kannst\, was wir in der Werkstatt grundsätzlich verwenden können. \nEinführungen in die Precious-Plastic-Welt sind auf Deutsch\, Englisch und Spanisch möglich. Hast du noch Fragen? Schreib uns gerne eine Nachricht an plastic@komma.info oder komm einfach vorbei! \nDie Teilnahme ist kostenlos\, wir bitten um Anmeldung per Mail an plastic@komma.info. \nKollabs und Netzwerk \nGroßes Potenzial liegt in unserer interdisziplinären Zusammenarbeit – sowohl im Komma-Team als auch in Kooperationen. Wir arbeiten mit Schulen\, Hochschulen\, Designer*innen\, Initiativen\, Werkstätten und andere Precious Plastics Gruppen auf der Welt zusammen. Hast du eine Idee zu einer Kollaboration? Schreib uns gerne an plastic@komma.info. \nFunfäct \n„The Bänk“\, unser erstes Projekt\, hat es in die Endrunde der RoGUILTLESSPLASTIC Awards geschafft und wurde bei der Mailänder Designwoche (Juni 2022) ausgestellt. Wie das gebaut wurde\, findest du im Video. \nTagesaktuelle Informationen und Workshop-Angebote finden sich auf Instagram @preciousplastic_esslingen \n 
URL:https://wandelstadt-esslingen.de/event/https-www-komma-info-precious-plastic/2025-03-12/
LOCATION:KOMMA\, Maille 5-9\, Esslingen\, Deutschland
END:VEVENT
BEGIN:VEVENT
DTSTART;TZID=Europe/Berlin:20250312T193000
DTEND;TZID=Europe/Berlin:20250312T210000
DTSTAMP:20260421T165254
CREATED:20240206T112222Z
LAST-MODIFIED:20240206T113330Z
UID:10001949-1741807800-1741813200@wandelstadt-esslingen.de
SUMMARY:ES GRÜNT!
DESCRIPTION:Esslingen: eine Stadt kühlt grün\nGlobal denken und regional handeln\, das ist unser Leitspruch. \nKomm gerne vorbei und schreib uns eine Mail an mitmachen@es-gruent.de\, damit wir dir den Ort mitteilen können.
URL:https://wandelstadt-esslingen.de/event/es-gruent-3/2025-03-12/
ATTACH;FMTTYPE=image/jpeg:https://wandelstadt-esslingen.de/wp-content/uploads/2022/10/giesspaten_Natalia_Rak_Girl_with_water_can_Bialystok.jpg
ORGANIZER;CN="ES gr%C3%BCnt":MAILTO:mitmachen@es-gruent.de
END:VEVENT
BEGIN:VEVENT
DTSTART;TZID=Europe/Berlin:20250313T140000
DTEND;TZID=Europe/Berlin:20250313T170000
DTSTAMP:20260421T165254
CREATED:20250222T210851Z
LAST-MODIFIED:20250222T214238Z
UID:10004830-1741874400-1741885200@wandelstadt-esslingen.de
SUMMARY:Für mehr Entlastung im Alltag
DESCRIPTION:im Rahmen der Esslinger Frauenwochen \nInfonachmittag für Alleinerziehende \nAlleinerziehend zu sein ist eine besondere Herausforderung. Der Alltag ist geprägt von endlosen Aufgaben\, wenig Zeit und der ständigen Suche nach Unterstützung. Genau hier wollen wir Ihnen helfen! \nDiese Informationsveranstaltung ist speziell für Alleinerziehende konzipiert. Unser Ziel ist es\, Ihnen Orientierung und einen Überblick über die vielfältigen Angebote und Unterstützungsmöglichkeiten in Esslingen zu geben. \nWas erwartet Sie?\n• Überblick über finanzielle Unterstützung wie Wohngeld oder Stadtpass\n• Informationen zu Betreuungsmöglichkeiten für Ihre Kinder\n• Hinweise zu Beratungsangeboten für Alleinerziehende\n• Tipps und Tricks\, um den „Dschungel der Angebote“ zu durchblicken \nBitte beachten Sie\, dass wir keine Einzelberatung anbieten. Wir vermitteln Sie dafür gern an Anlaufstellen\, die Ihnen weiterhelfen können. Bringen Sie Ihre Fragen mit – wir helfen Ihnen\, den richtigen Weg zu finden! \n\n\n\n\n\n\n\nPreis \nkostenlos\n\n\n\n\nHinweis \nohne Anmeldung\n\n\n\nPräsentiert von Beauftragte für Chancengleichheit der Stadt Esslingen am Neckar und Arbeitskreis Alleinerziehende
URL:https://wandelstadt-esslingen.de/event/fuer-mehr-entlastung-im-alltag/
LOCATION:Das Es\, Berliner Straße 2\, Esslingen\, 73728\, Deutschland
CATEGORIES:Infoveranstaltung
END:VEVENT
BEGIN:VEVENT
DTSTART;TZID=Europe/Berlin:20250313T190000
DTEND;TZID=Europe/Berlin:20250313T190000
DTSTAMP:20260421T165254
CREATED:20240628T160749Z
LAST-MODIFIED:20240629T175416Z
UID:10003600-1741892400-1741892400@wandelstadt-esslingen.de
SUMMARY:Fahrradwerkstatt
DESCRIPTION:Wir unterstützen Dich\, wenn Dein Fahrrad nicht mehr tut was es soll.\nFalls Ihr Interesse und Bedarf an unserer Fahrradwerkstatt habt\, meldet Euch per Mail: info@komma. \nVerantwortlich für die Werkstatt ist der Motorradclub Kuhle Wampe. Sie sind ein basisdemokratisch organisierter Motorradclub mit Sitz im Komma und sie betreiben eine Zweiradwerkstatt. Jeden Donnerstag ist die Fahrradwerkstatt geöffnet – bei gutem Wetter wird möglicherweise auch gegrillt.
URL:https://wandelstadt-esslingen.de/event/fahrrad-werkstatt/2025-03-13/
LOCATION:KOMMA\, Maille 5-9\, Esslingen\, Deutschland
END:VEVENT
BEGIN:VEVENT
DTSTART;TZID=Europe/Berlin:20250313T190000
DTEND;TZID=Europe/Berlin:20250313T213000
DTSTAMP:20260421T165254
CREATED:20250221T163803Z
LAST-MODIFIED:20250221T163803Z
UID:10004823-1741892400-1741901400@wandelstadt-esslingen.de
SUMMARY:Eine Million Sandkörner
DESCRIPTION:EINE MILLION SANDKÖRNCHEN begleitet die Psychotherapeutin Eva Pattis Zoja auf ihrem ungewöhnlichen Weg und zeigt eine von ihr entwickelte innovative Therapiemethode\, die den Opfern psychischer Traumata dabei hilft\, das Unsagbare ihres Erlebens auch ohne Worte auzudrücken. Eine Reflexion über Traumata und deren Tendenz\, sich über Generationen hin fortzusetzen\, durchzieht die Erzählung. In einer Parallelhandlung wird in Evas Familiengeschichte gestöbert. \n  Im Anschluss Talk mit Annagreta König\, Therapeutin für Psychotraumatologie und Traumatherapie (zptn)\, zertifizierte Trainerin (IAES)\, Monika Jankovic\, Psychologin und Kooperationspartnerin C. G Jung-Institut Stuttgart e. V. und Evelin Wacker\, Sozialpädagogin/Somatic Experiencing Practitioner\, Expressive Sandarbeit Esslingen (Trainerin i. A.) | Moderation: Chris Pohl | in Kooperation mit Expressive Sandarbeit Esslingen\, gefördert vom Integrationsfond und der Bürgerstiftung der Stadt Esslingen.\n\n64 Minuten | FSK nicht geprüft (ab 18 Jahren freigegeben)  | OmU
URL:https://wandelstadt-esslingen.de/event/eine-million-sandkoerner/
LOCATION:Kommunales Kino\, Maille 4-9\, Esslingen\, 73728\, Deutschland
CATEGORIES:Kulturveranstaltung
END:VEVENT
BEGIN:VEVENT
DTSTART;TZID=Europe/Berlin:20250313T193000
DTEND;TZID=Europe/Berlin:20250313T220000
DTSTAMP:20260421T165254
CREATED:20250222T211307Z
LAST-MODIFIED:20250222T211307Z
UID:10004831-1741894200-1741903200@wandelstadt-esslingen.de
SUMMARY:Die Welt im Umbruch
DESCRIPTION:Was bedeutet Deutschlands Außenpolitik für Esslingen? \nWie funktioniert Außenpolitik\, welche globalen Entwicklungen betreffen uns besonders und wie geht deutsche Außenpolitik damit um?\nMirko Kruppa ist Referatsleiter für Inlandskommunikation beim Auswärtigen Amt mit langjähriger Berufserfahrung u.a. zu Russland und China. Nach einem kurzen Impulsvortrag wird der Referent Ihre Fragen beantworten.
URL:https://wandelstadt-esslingen.de/event/die-welt-im-umbruch/
LOCATION:A22 coworking\, Augustinerstraße 22\, Esslingen\, Deutschland
CATEGORIES:Infoveranstaltung
ORGANIZER;CN="St%C3%A4dtepartnerschaften & Internationale Beziehungen - Stadt Esslingen":MAILTO:staedtepartnerschaften@esslingen.de
END:VEVENT
BEGIN:VEVENT
DTSTART;TZID=Europe/Berlin:20250314T140000
DTEND;TZID=Europe/Berlin:20250314T160000
DTSTAMP:20260421T165254
CREATED:20240208T160917Z
LAST-MODIFIED:20250424T162425Z
UID:10002516-1741960800-1741968000@wandelstadt-esslingen.de
SUMMARY:Beratung Esslinger Initiative
DESCRIPTION:Das Leben vom guten Ende her denken.\n\n\n\n\n\n\n\n\n\n\n\n\n\n\n\n\n\n\n\n\nFreitags 14 bis 16 Uhr kostenlose Beratungen der Esslinger Initiative e.V.\nAnmeldung; Fr 9-11 Uhr über Tel. 0711/357420 \nJa das ist unangenehm\, wo doch jetzt Leben dran ist. Scheint doch auch logisch zu sein es so anzugehen wie Heinz Erhardt seine Gedichte anfing „Ich fang mal mit dem Anfang an“.\n„Das Leben vom guten Ende her denken“ ist quasi das Motto der Esslinger Initiative um die es hier heute geht. Sie selbst bezeichnet sich als \n„Eine Initiative für die Wahrung von Menschenwürde und Selbstbestimmung im Alter und bei Krankheit“\, ausgehend von der Frage: „ \nWie kann das Selbstbestimmungsrecht im Alter und bei Krankheit – also in schwierigen Lebensphasen – erhalten werden?“. \nDie Esslinger Initiative … \n\nsetzt sich ein für einen menschenwürdigen Umgang mit Schwerstkranken und Sterbenden\nfördert die Verbesserung der medizinischen und pflegerischen Versorgung Schwerstkranker und Sterbender (Palliative Care)\ntritt ein für die Wahrung des Selbstbestimmungsrechts im Gesundheitswesen und in der Altenpflege\nwirbt für ihre Anliegen in öffentlichen Veranstaltungen\nbietet Beratungen zur Vorsorge an\nstellt Formulare zur Vorsorge zur Verfügung\nschult Ehrenamtliche zu kompetenten Beraterinnen und Beratern und bildet diese regelmäßig weiter\nunterstützt die Durchsetzung einer vorsorgenden Gesundheitsplanung (ACP)\n\n  \nDas besondere Angebot der Esslinger Initiative ist eine kostenlose und unabhängige Beratung zur Vorsorge\, abgestimmt auf die ganz persönliche Situation. Beratungsstellen im gesamten Landkreis Esslingen und darüber hinaus bieten diese Hilfe an.\nDas Ende geht alle an – ein Angebot an alle über 18!
URL:https://wandelstadt-esslingen.de/event/beratung-esslinger-initiative-bitte-vorab-anmelden/2025-03-14/
LOCATION:Forum Esslingen – Zentrum für Bürgerengagement\, Schelztorstraße 38\, Esslingen\, Deutschland
ORGANIZER;CN="Esslinger Initiative e.V.":MAILTO:news@esslinger-initiative.de
END:VEVENT
BEGIN:VEVENT
DTSTART;TZID=Europe/Berlin:20250314T193000
DTEND;TZID=Europe/Berlin:20250314T213000
DTSTAMP:20260421T165254
CREATED:20241204T050553Z
LAST-MODIFIED:20241224T100654Z
UID:10004463-1741980600-1741987800@wandelstadt-esslingen.de
SUMMARY:Lebenslust als natürliches Lebensgefühl? Fühl mal drüber nach!
DESCRIPTION:Kinder finden es von Natur aus außerordentlich fantastisch lebendig zu sein! Probleme sind für sie interessante Herausforderungen\, die sie mit viel Einfallsreichtum lösen. Mit anderen in Kontakt zu gehen\, ist ihnen eine Freude. In diesem Workshop gehen wir auf die innere Forschungsreise zu der Quelle unseres ursprünglichen Menschseins. Dahin\, wo unsere enorme Intelligenz\, unsere begeisterte Lebensfreude und unser Bedürfnis nach liebevollen Beziehungen verborgen ist. Dafür erlernen wir die Technik des Zuhör-Austauschs („Deep talk“ statt „small talk“). Das kann bewegend und berührend werden – Lebendigkeit pur! Referentin: Angelina Haug\, Coaching bei Paar- und Lebenskrisen \n  \n\n\n  \n\n\n\nAnmeldung zur Veranstaltung\n Ihr Name\n \n \n Ihre E-Mail-Adresse\n \n \nHiermit bestätige ich\, dass ich die  Datenschutzerklärung der Wandelstadt Esslingen gelesen habe und der Verarbeitung meiner persönlichen Daten zustimme.\n \nIch möchte die Wandelpost\, unseren monatlichen Newsletter\, abonnieren.
URL:https://wandelstadt-esslingen.de/event/lebenslust-als-natuerliches-lebensgefuehl-fuehl-mal-drueber-nach/
LOCATION:Forum Esslingen – Zentrum für Bürgerengagement\, Schelztorstraße 38\, Esslingen\, Deutschland
ATTACH;FMTTYPE=image/jpeg:https://wandelstadt-esslingen.de/wp-content/uploads/2024/12/Foto-fuer-Frauenwochen-VA-scaled.jpg
ORGANIZER;CN="Wandelstadt Esslingen":MAILTO:info@wandelstadt-esslingen.de
END:VEVENT
BEGIN:VEVENT
DTSTART;TZID=Europe/Berlin:20250315T110000
DTEND;TZID=Europe/Berlin:20250315T170000
DTSTAMP:20260421T165254
CREATED:20241018T110833Z
LAST-MODIFIED:20241018T111336Z
UID:10004319-1742036400-1742058000@wandelstadt-esslingen.de
SUMMARY:ReparaturCafé Esslingen
DESCRIPTION:ReparaturCafé – Gebrauchsgegenstände aller Art gemeinsam reparieren. \nDer Fön bleibt kalt? Die Hose hat ein Loch? Das Radio ist verstummt?\nDas Stuhlbein wackelt? Die CD springt? Der Mixer rührt sich nicht mehr? \nOb Kleidung\, Elektrogeräte oder andere Gebrauchsgegenstände – das ReparaturCafé bietet neben dem nötigen Werkzeug auch Materialien\, Tips und tatkräftige Hilfe um defekten Dingen aller Art ein zweites Leben einzuhauchen. Mit unseren freiwilligen Reparatur-Spezialistinnen und -Spezialisten ist die erste Hemmschwelle vor dem Ansetzen von Schraubendreher\, Lötkolben oder Schneiderschere schnell überwunden und schon bald folgt die Erkenntnis: Kaputt muss nicht das Ende sein\, und so kompliziert ist das Reparieren ja gar nicht! So lassen sich Rohstoffe\, Ressourcen und nicht zuletzt auch Geld sparen\, man hilft oder lässt sich helfen\, lernt immer etwas dazu\, trifft nette Menschen oder trinkt einfach nur einen Kaffee. Für die Leckereien an der Cafétheke kooperieren wir mit foodsharing Esslingen\, einer Freiwilligenorganisation die Lebensmittel vor dem Wegwerfen rettet. Die Teilnahme am ReparaturCafé ist übrigens kostenlos\, wir freuen uns aber selbstverständlich über Spenden.
URL:https://wandelstadt-esslingen.de/event/reparaturcafe-esslingen/2025-03-15/
LOCATION:ZAK – Zentrum für Arbeit und Kommunikation\, Franziskanergasse 7\, Esslingen\, 73728
ATTACH;FMTTYPE=image/jpeg:https://wandelstadt-esslingen.de/wp-content/uploads/2024/02/230113_RC-Esslingen_Logo_Arial.jpg
END:VEVENT
BEGIN:VEVENT
DTSTART;TZID=Europe/Berlin:20250315T200000
DTEND;TZID=Europe/Berlin:20250315T220000
DTSTAMP:20260421T165254
CREATED:20250222T211830Z
LAST-MODIFIED:20250222T214228Z
UID:10004832-1742068800-1742076000@wandelstadt-esslingen.de
SUMMARY:[F]empower im Ländle – Inspirierende Stimmen von Esslinger Frauen
DESCRIPTION:im Rahmen der Esslinger Frauenwochen \nTheatrale Collage\nWas hat eine alte Linde in Esslingen mit [F]empower zu tun? Welchen Einfluss hatte eine Gräfin aus Esslingen auf den Kaiser von Österreich? Und welche Frauen haben eigentlich die Esslinger Theaterwelt\ngeprägt? Mehr als HIStory – Wir geben der HERstory in einer bunten Collage aus Musik\, Literatur\, Politik und Wissenschaft nicht nur eine\, sondern viele Stimmen. \nSchauspieler:innen und die Dramaturgie des Theaters laden Sie ein\, gemeinsam in die aufregenden Geschichten von Frauen aus Esslingen\neinzutauchen: Von alten Märchen und mittelalterlichen Hexensagen über politische Kampfreden bis hin zu vielfältigen Stimmen von Heute – Eine Reise durch die Esslinger Vergangenheit und Gegenwart! \n\n\n\n\n\n\n\nPreis \nTeilnahme kostenlos\n\n\n\n\nHinweis \nOhne Anmeldung\n\n\n\nPräsentiert von Württembergische Landesbühne Esslingen
URL:https://wandelstadt-esslingen.de/event/fempower-im-laendle-inspirierende-stimmen-von-esslinger-frauen/
LOCATION:Württembergische Landesbühne – Schauspielhaus mit Podium 1 & 2\, Ritterstraße 11\, Esslingen\, Deutschland
CATEGORIES:Kulturveranstaltung
END:VEVENT
BEGIN:VEVENT
DTSTART;TZID=Europe/Berlin:20250316T103000
DTEND;TZID=Europe/Berlin:20250316T130000
DTSTAMP:20260421T165254
CREATED:20250228T185803Z
LAST-MODIFIED:20250228T185803Z
UID:10004914-1742121000-1742130000@wandelstadt-esslingen.de
SUMMARY:Digitaler SafeR Space: Kreativer Zeichenworkshop zu Identität und Selbst-Empowerment
DESCRIPTION:Unter der Leitung der erfahrenen Künstlerin Mayha Suaysom entdecken wir neue\nkreative Ansätze\, um uns selbst zu stärken.\nJede*r hat die Kraft zu träumen und zu verwirklichen! In diesem „SafeR Space“ lernen\nwir\, beim gemeinsamen Zeichnen über „meine Ziele mit Seele“ nachzudenken.\nEine Mischung aus Selbsterfindung\, Selbst-Empowerment und Kunsttherapie.\nEgal\, ob Anfänger*in oder erfahren – Ihr seid herzlich willkommen!\nEin SafeR Space per Definition ist ein Raum\, in dem von Diskriminierung betroffene\nPersonen „unter sich“ sein und sich austauschen können. Wir möchten einen sicheren\nRaum für alle Teilnehmenden schaffen und bitten um einen respektvollen Umgang\nmiteinander.\nAnmeldung bitte unter anmeldung@ad-es.de.\nDer Zoom-Link wird per Mail zugeschickt.
URL:https://wandelstadt-esslingen.de/event/digitaler-safer-space-kreativer-zeichenworkshop-zu-identitaet-und-selbst-empowerment/
LOCATION:online
END:VEVENT
BEGIN:VEVENT
DTSTART;TZID=Europe/Berlin:20250316T110000
DTEND;TZID=Europe/Berlin:20250316T110000
DTSTAMP:20260421T165254
CREATED:20231024T145423Z
LAST-MODIFIED:20260218T101216Z
UID:10002054-1742122800-1742122800@wandelstadt-esslingen.de
SUMMARY:Internationales Frühstück
DESCRIPTION:Das Internationale Frühstück ist mittlerweile in Esslingen zur Institution geworden. Der Verein ADG e.V. (Interkulturelles Forum Esslingen) organisiert und gestaltet jeden 3. Sonntag im Monat Begegnungen zwischen Menschen unterschiedlicher Herkunft und Kultur. In den Räumen des Kulturzentrums Dieselstrasse treffen sich monatlich bis zu hundert bzw. jährlich über tausend Menschen in gemütlicher Atmosphäre zum Austausch. Für das Wohlergehen der Gäste sorgen engagierte Ehrenamtliche\, denen diese Begegnungen schon seit vielen Jahren am Herzen liegen. Mittlerweile organisieren diese  hier nicht nur „Brot\, Brötchen\, Butter\, Marmelade\, Kaffee und Tee“ \, sondern stellen ein vielseitiges internationales Frühstück auf die Beine. Um die Quantität des Frühstücks bezuibehalten\, sowie\, um die stetig steigende Zahl der Gäste weiterhin bewältigen zu können\, bedarf es jedoch zusätzlicher Unterstützung. Ehrenamtlich engagierte Helfer/innen sind daher nicht nur herzlich willkommen. \nJeden 3. Sonntag im Monat um 11 Uhr im Kulturzentrum Dieselstrasse! \nPreise: \n\nErwachsene: 10.-€\nKinder/Ermäßigt: 5.-€\nFamilie mit  einem Kind: 22.-€\nFamilie mit zwei Kinder: 25.-€\nAufpreis für Veranstaltungen im Rahmen des Frühstücks: 5.-€
URL:https://wandelstadt-esslingen.de/event/internationales-fruehstueck/2025-03-16/
LOCATION:Kulturzentrum Dieselstraße\, Dieselstraße 26\, Esslingen\, Deutschland
END:VEVENT
BEGIN:VEVENT
DTSTART;TZID=Europe/Berlin:20250316T180000
DTEND;TZID=Europe/Berlin:20250316T200000
DTSTAMP:20260421T165254
CREATED:20250222T212327Z
LAST-MODIFIED:20250222T214135Z
UID:10004833-1742148000-1742155200@wandelstadt-esslingen.de
SUMMARY:Die Spätzünder
DESCRIPTION:im Rahmen der Esslinger Frauenwochen \nKinofilm (2010\, Deutschland/Österreich) \nDer StadtSeniorenRat ES zeigt Ihnen einen lebensfrohen und mutmachenden Film mit vielen altbekannten Darsteller:innen. Der Musiker Rocco leistet Sozialdienst im Seniorenheim. Mit seiner direkten\nArt bringt er das Leben der Bewohner und seiner Vorgesetzten gehörig durcheinander. Er erweckt zwar durch die Musik mit seiner „Oldie-Band“ die Lebensgeister der Bewohner:innen aufs Neue\, trifft dabei aber naturgemäß nicht nur auf Freudenstürme. Ob die Band wohl den Nachwuchswettbewerb gewinnt? Auf jeden Fall steht einem guten Ende nichts im Wege. \nWir wünschen Ihnen viel Vergnügen! \nDarsteller:innen Bibiane Zeller\, Ursula Strauss\, Jan Josef Liefers\nund Hans-Joachim Fuchsberger\nRegie Wolfgang Murnberger \n\n\n\n\n\n\n\nPreis \n7 €\n\n\n\n\nHinweis \nohne Anmeldung\, max. 50 Teilnehmende\n\n\n\nPräsentiert von „StadtSeniorenRat“ Esslingen\, gilt auch für Seniorinnen!
URL:https://wandelstadt-esslingen.de/event/die-spaetzuender/
LOCATION:Forum Esslingen – Zentrum für Bürgerengagement\, Schelztorstraße 38\, Esslingen\, Deutschland
CATEGORIES:Kulturveranstaltung
END:VEVENT
END:VCALENDAR