BEGIN:VCALENDAR
VERSION:2.0
PRODID:-//Wandelstadt Esslingen - ECPv6.15.20//NONSGML v1.0//EN
CALSCALE:GREGORIAN
METHOD:PUBLISH
X-ORIGINAL-URL:https://wandelstadt-esslingen.de
X-WR-CALDESC:Veranstaltungen für Wandelstadt Esslingen
REFRESH-INTERVAL;VALUE=DURATION:PT1H
X-Robots-Tag:noindex
X-PUBLISHED-TTL:PT1H
BEGIN:VTIMEZONE
TZID:Europe/Berlin
BEGIN:DAYLIGHT
TZOFFSETFROM:+0100
TZOFFSETTO:+0200
TZNAME:CEST
DTSTART:20240331T010000
END:DAYLIGHT
BEGIN:STANDARD
TZOFFSETFROM:+0200
TZOFFSETTO:+0100
TZNAME:CET
DTSTART:20241027T010000
END:STANDARD
BEGIN:DAYLIGHT
TZOFFSETFROM:+0100
TZOFFSETTO:+0200
TZNAME:CEST
DTSTART:20250330T010000
END:DAYLIGHT
BEGIN:STANDARD
TZOFFSETFROM:+0200
TZOFFSETTO:+0100
TZNAME:CET
DTSTART:20251026T010000
END:STANDARD
BEGIN:DAYLIGHT
TZOFFSETFROM:+0100
TZOFFSETTO:+0200
TZNAME:CEST
DTSTART:20260329T010000
END:DAYLIGHT
BEGIN:STANDARD
TZOFFSETFROM:+0200
TZOFFSETTO:+0100
TZNAME:CET
DTSTART:20261025T010000
END:STANDARD
END:VTIMEZONE
BEGIN:VEVENT
DTSTART;TZID=Europe/Berlin:20250225T191500
DTEND;TZID=Europe/Berlin:20250225T201500
DTSTAMP:20260421T134125
CREATED:20240520T091234Z
LAST-MODIFIED:20260106T174409Z
UID:10004488-1740510900-1740514500@wandelstadt-esslingen.de
SUMMARY:Inklusive Lachyoga-Gruppe
DESCRIPTION:Lachen ist nicht nur gesund\, sondern auch ansteckend. Und genau darum geht es bei Lachyoga. Gemeinsam lachen und sich gut fühlen\, Stress abbauen und entspannen. Zudem stärkt Lachen die Gesundheit. \n\n\n\n\n\nWann:\nDienstags von 19:15 – 20:15 Uhr\nEinstieg jederzeit möglich!\nKeine Anmeldung erforderlich.\n\n\n\nFür wen:\nFür (fast) jeden geeignet\, da Lachyoga keine schwierigen körperlichen Übungen beinhaltet.\n(siehe Details zur Barrierefreiheit)\n\n\nKursleitung:\nSusanne Klaus (Lachyoga Master Trainerin\, Stuttgarter Lachschule)\n\n\nKosten:\nkeine (freiwillige Spendenbasis)\n\n\nMitzubringen:\netwas zum Trinken
URL:https://wandelstadt-esslingen.de/event/inklusive-lachyoga-gruppe/2025-02-25/
LOCATION:Forum Esslingen – Zentrum für Bürgerengagement\, Schelztorstraße 38\, Esslingen\, Deutschland
ATTACH;FMTTYPE=image/jpeg:https://wandelstadt-esslingen.de/wp-content/uploads/2024/05/Lachyoga-Gruppe_Forum-Esslingen_16-9-scaled.jpg
ORGANIZER;CN="InklusivES - Der Esslinger Stammtisch zum Thema Inklusion":MAILTO:c.lira@inklusives.de
END:VEVENT
BEGIN:VEVENT
DTSTART;TZID=Europe/Berlin:20250226T180000
DTEND;TZID=Europe/Berlin:20250226T210000
DTSTAMP:20260421T134125
CREATED:20240628T154510Z
LAST-MODIFIED:20251125T194322Z
UID:10003089-1740592800-1740603600@wandelstadt-esslingen.de
SUMMARY:Kunststoff-Lab
DESCRIPTION:Positiv gegen Kunststoffverschmutzung \nAn einen Alltag ohne Kunststoffe ist nicht mehr zu denken. Das Material hat nach wie vor wertvolle Eigenschaften\, die wir nach dem “Precious-Plastic-Modell“ in einer kleinen Kunststoffrecycling- Manufaktur einsetzen. “Precious-Plastic“ ist ein internationales Projekt. 2012 in den Niederlanden gestartet\, besteht mittlerweile aus einem globalen Netzwerk von Workspaces. Das Komma in Esslingen ist mit dem @preciousplastic_esslingen Teil dieser Bewegung. 2021 bauten wir unsere Werkstatt mit Maschinen zur Plastikverarbeitung auf. Der Mehrwert des Projektes ist es\, die Möglichkeiten und Grenzen des „Selber-Machens“ selbst zu erfahren\, und zwar in einem für die Kreativität und Empowerment sicheren Ort. \nAus Abfall entsteht ein neuer Rohstoff\, aus dem du eigene Werkstücke wie z. B. kleine Möbel\, Lampen\, Taschen und Schmuck kreieren kannst. Schau dir hier an\, was wir 2023 in der Workshopreihe gemacht haben. \nMit und für junge Menschen: Wir können uns nicht mehr anhören\, wie schlecht die Klimakrise ist. Wir wollen was dagegen machen! Was würdest du daraus machen? \n  \nOffene Kunststoffwerkstatt \nAb Mai 2024 steht immer Mittwochs die offene Kunstwerkstatt für die Einführung in die „Precious-Plastic-Welt“\, die Kunststoffverarbeitung und Materialexperimente zur Verfügung. Plastik wird sortiert\, geschreddert und eingeschmolzen. \nHast du es zum letzten Workshop nicht geschafft und wolltest dir immer Schmuck selber machen? Oder einfach mal mehr über die Kunststoffwerkstatt wissen? Oder hast du sogar ein eigenes Projekt im Kopf\, das du mit Kunststoffplatten versuchen möchtest? Dann ist die offene Werkstatt genau richtig für dich. \nSolltest du es unter der Woche nicht schaffen\, gibt es ab Juni 2024 auch immer am  1. Samstag im Monat die offene Werkstatt. Die Nutzung der Werkstatt ist kostenlos. An den genannten Terminen kannst du ohne Anmeldung teilnehmen.  Ausnahmen aufgrund von Komma Veranstaltungen werden über die Internetseite des Mittwochs geteilt. \nMaterial falls nicht selbst gesammelt\, ist auf Spendenbasis verfügbar\, solange Vorrat reicht. Hier findest du ein How-to-collect\, damit du schauen kannst\, was wir in der Werkstatt grundsätzlich verwenden können. \nEinführungen in die Precious-Plastic-Welt sind auf Deutsch\, Englisch und Spanisch möglich. Hast du noch Fragen? Schreib uns gerne eine Nachricht an plastic@komma.info oder komm einfach vorbei! \nDie Teilnahme ist kostenlos\, wir bitten um Anmeldung per Mail an plastic@komma.info. \nKollabs und Netzwerk \nGroßes Potenzial liegt in unserer interdisziplinären Zusammenarbeit – sowohl im Komma-Team als auch in Kooperationen. Wir arbeiten mit Schulen\, Hochschulen\, Designer*innen\, Initiativen\, Werkstätten und andere Precious Plastics Gruppen auf der Welt zusammen. Hast du eine Idee zu einer Kollaboration? Schreib uns gerne an plastic@komma.info. \nFunfäct \n„The Bänk“\, unser erstes Projekt\, hat es in die Endrunde der RoGUILTLESSPLASTIC Awards geschafft und wurde bei der Mailänder Designwoche (Juni 2022) ausgestellt. Wie das gebaut wurde\, findest du im Video. \nTagesaktuelle Informationen und Workshop-Angebote finden sich auf Instagram @preciousplastic_esslingen \n 
URL:https://wandelstadt-esslingen.de/event/https-www-komma-info-precious-plastic/2025-02-26/
LOCATION:KOMMA\, Maille 5-9\, Esslingen\, Deutschland
END:VEVENT
BEGIN:VEVENT
DTSTART;TZID=Europe/Berlin:20250226T193000
DTEND;TZID=Europe/Berlin:20250226T210000
DTSTAMP:20260421T134125
CREATED:20240206T112222Z
LAST-MODIFIED:20240206T113330Z
UID:10004613-1740598200-1740603600@wandelstadt-esslingen.de
SUMMARY:ES GRÜNT!
DESCRIPTION:Esslingen: eine Stadt kühlt grün\nGlobal denken und regional handeln\, das ist unser Leitspruch. \nKomm gerne vorbei und schreib uns eine Mail an mitmachen@es-gruent.de\, damit wir dir den Ort mitteilen können.
URL:https://wandelstadt-esslingen.de/event/es-gruent-3/2025-02-26/
ATTACH;FMTTYPE=image/jpeg:https://wandelstadt-esslingen.de/wp-content/uploads/2022/10/giesspaten_Natalia_Rak_Girl_with_water_can_Bialystok.jpg
ORGANIZER;CN="ES gr%C3%BCnt":MAILTO:mitmachen@es-gruent.de
END:VEVENT
BEGIN:VEVENT
DTSTART;TZID=Europe/Berlin:20250227T140000
DTEND;TZID=Europe/Berlin:20250227T160000
DTSTAMP:20260421T134125
CREATED:20250131T124048Z
LAST-MODIFIED:20250131T124048Z
UID:10004572-1740664800-1740672000@wandelstadt-esslingen.de
SUMMARY:Papierkörbe flechten Teil 2: flechten
DESCRIPTION:Wir wollen Papierkörbe o.ä. flechten. Hierfür haben wir Papierröllchen hergestellt und in Teil 2 des Workshops werden diese verarbeitet. Du kannst auch vorbeikommen\, wenn du Teil 1 verpasst hast. Falls uns die vorhandenen Röllchen ausgehen\, haben wir Zeitungspapier und alles an Material vor Ort\, du brauchst also nichts mitbringen. Keine Vorkenntnisse nötig\, kostenfrei und du kannst flexibel innerhalb der angegebenen Zeit dazustoßen.
URL:https://wandelstadt-esslingen.de/event/papierkoerbe-flechten-teil-2-flechten/
LOCATION:eva’s Ottilie\, Ottilienplatz 3\, Esslingen\, 73728
ORGANIZER;CN="eva's Ottilie":MAILTO:evas-ottilie-es@eva-stuttgart.de
END:VEVENT
BEGIN:VEVENT
DTSTART;TZID=Europe/Berlin:20250227T190000
DTEND;TZID=Europe/Berlin:20250227T190000
DTSTAMP:20260421T134125
CREATED:20240628T160749Z
LAST-MODIFIED:20240629T175416Z
UID:10003598-1740682800-1740682800@wandelstadt-esslingen.de
SUMMARY:Fahrradwerkstatt
DESCRIPTION:Wir unterstützen Dich\, wenn Dein Fahrrad nicht mehr tut was es soll.\nFalls Ihr Interesse und Bedarf an unserer Fahrradwerkstatt habt\, meldet Euch per Mail: info@komma. \nVerantwortlich für die Werkstatt ist der Motorradclub Kuhle Wampe. Sie sind ein basisdemokratisch organisierter Motorradclub mit Sitz im Komma und sie betreiben eine Zweiradwerkstatt. Jeden Donnerstag ist die Fahrradwerkstatt geöffnet – bei gutem Wetter wird möglicherweise auch gegrillt.
URL:https://wandelstadt-esslingen.de/event/fahrrad-werkstatt/2025-02-27/
LOCATION:KOMMA\, Maille 5-9\, Esslingen\, Deutschland
END:VEVENT
BEGIN:VEVENT
DTSTART;TZID=Europe/Berlin:20250228T140000
DTEND;TZID=Europe/Berlin:20250228T160000
DTSTAMP:20260421T134125
CREATED:20240208T160917Z
LAST-MODIFIED:20250424T162425Z
UID:10002514-1740751200-1740758400@wandelstadt-esslingen.de
SUMMARY:Beratung Esslinger Initiative
DESCRIPTION:Das Leben vom guten Ende her denken.\n\n\n\n\n\n\n\n\n\n\n\n\n\n\n\n\n\n\n\n\nFreitags 14 bis 16 Uhr kostenlose Beratungen der Esslinger Initiative e.V.\nAnmeldung; Fr 9-11 Uhr über Tel. 0711/357420 \nJa das ist unangenehm\, wo doch jetzt Leben dran ist. Scheint doch auch logisch zu sein es so anzugehen wie Heinz Erhardt seine Gedichte anfing „Ich fang mal mit dem Anfang an“.\n„Das Leben vom guten Ende her denken“ ist quasi das Motto der Esslinger Initiative um die es hier heute geht. Sie selbst bezeichnet sich als \n„Eine Initiative für die Wahrung von Menschenwürde und Selbstbestimmung im Alter und bei Krankheit“\, ausgehend von der Frage: „ \nWie kann das Selbstbestimmungsrecht im Alter und bei Krankheit – also in schwierigen Lebensphasen – erhalten werden?“. \nDie Esslinger Initiative … \n\nsetzt sich ein für einen menschenwürdigen Umgang mit Schwerstkranken und Sterbenden\nfördert die Verbesserung der medizinischen und pflegerischen Versorgung Schwerstkranker und Sterbender (Palliative Care)\ntritt ein für die Wahrung des Selbstbestimmungsrechts im Gesundheitswesen und in der Altenpflege\nwirbt für ihre Anliegen in öffentlichen Veranstaltungen\nbietet Beratungen zur Vorsorge an\nstellt Formulare zur Vorsorge zur Verfügung\nschult Ehrenamtliche zu kompetenten Beraterinnen und Beratern und bildet diese regelmäßig weiter\nunterstützt die Durchsetzung einer vorsorgenden Gesundheitsplanung (ACP)\n\n  \nDas besondere Angebot der Esslinger Initiative ist eine kostenlose und unabhängige Beratung zur Vorsorge\, abgestimmt auf die ganz persönliche Situation. Beratungsstellen im gesamten Landkreis Esslingen und darüber hinaus bieten diese Hilfe an.\nDas Ende geht alle an – ein Angebot an alle über 18!
URL:https://wandelstadt-esslingen.de/event/beratung-esslinger-initiative-bitte-vorab-anmelden/2025-02-28/
LOCATION:Forum Esslingen – Zentrum für Bürgerengagement\, Schelztorstraße 38\, Esslingen\, Deutschland
ORGANIZER;CN="Esslinger Initiative e.V.":MAILTO:news@esslinger-initiative.de
END:VEVENT
BEGIN:VEVENT
DTSTART;TZID=Europe/Berlin:20250301T093000
DTEND;TZID=Europe/Berlin:20250301T123000
DTSTAMP:20260421T134125
CREATED:20241217T163659Z
LAST-MODIFIED:20241217T163659Z
UID:10004497-1740821400-1740832200@wandelstadt-esslingen.de
SUMMARY:Baumschnitt - Agendagruppe Streuobstwiesen
DESCRIPTION:Bei gutem Wetter trifft sich die Streuobstwiesengruppe am Samstag\, 1. März\, um 9:30 Uhr zum Baumschnitt. Neue Helfer sind herzlich willkommen! Für Infos zum Treffpunkt bitte eine Mail an streuobstgruppe@forum-esslingen.de.
URL:https://wandelstadt-esslingen.de/event/baumschnitt-agendagruppe-streuobstwiesen-12/
ORGANIZER;CN="Agendagruppe Streuobstwiesen":MAILTO:streuobstgruppe@forum-esslingen.de
END:VEVENT
BEGIN:VEVENT
DTSTART;TZID=Europe/Berlin:20250301T190000
DTEND;TZID=Europe/Berlin:20250301T190000
DTSTAMP:20260421T134125
CREATED:20250127T163630Z
LAST-MODIFIED:20250224T191731Z
UID:10004912-1740855600-1740855600@wandelstadt-esslingen.de
SUMMARY:Wie Rechtsextremismus wählbar wurde
DESCRIPTION:Nach der gescheiterten Ampel-Regierung ist bei vielen Menschen die Hoffnung in Neuwahlen groß. Weniger in Ostdeutschland. Denn hier hat die AfD bei den vergangenen Landtagswahlen in drei Bundesländern zirka ein Drittel der Wähler:innen von sich überzeugen können. Ihre Chancen auch überregional gut abzuschneiden\, stehen gut. \nDass es soweit gekommen ist\, ist kein Zufall. Es ist Folge einer langfristig angelegten Sprachstrategie. Deren Inhalt: demokratiefeindliche Überzeugung hinter scheinbar gemäßigten Positionen und anschlussfähigen Themen verstecken. \nIn diesem Vortrag geben wir eine kurze Einführung zu den wichtigsten Köpfen der Neuen Rechten und betrachten ihr Netzwerk. Außerdem zeigen wir anhand konkreter Beispiele\, wie Vertreter:innen der AfD extremistische Inhalte verharmlosen und in den gesellschaftlichen Diskurs einsickern lassen. \nReferent*innen: \nJohannes Giesler ist in Göppingen bei Stuttgart aufgewachsen. Er hat in Darmstadt Wissenschaftsjournalismus studiert und im Master New Media Journalism an der Leipzig School of Media. Außerdem war er an der Reportageschule in Reutlingen. Seit 2016 arbeitet er als freier Journalist. Gemeinsam mit seiner Partnerin Maria Timtschenko hat er am 9. November 2023 die erste Ausgabe des Newsletters „Wie Rechte reden“ veröffentlicht. Seitdem schreiben sie jede Woche eine Folge\, in der sie sich ein Zitat aus der neurechten Szene vorknöpfen und es mithilfe von Expert:innen auf dessen Ideologie abklopfen. \nMaria Timtschenko hat in Leipzig Soziologie\, Kulturwissenschaften und Journalistik studiert und anschließend bei den Nürnberger Nachrichten volontiert. Nach einem Jahr an der Reportageschule in Reutlingen hat sie als freie Journalistin in Leipzig für überregionale Zeitungen wie ‚Die Zeit‘ und ‚Spiegel Online‘ geschrieben. Nach ihrer Zeit als Reiseredakteurin für das Kundenmagazin der Deutschen Bahn ‚DB Mobil‘\, arbeitet sie mittlerweile als Interne Kommunikationsberaterin bei einem Leipziger IT-Unternehmen. Gemeinsam mit ihrem Partner\, dem Journalisten Johannes Giesler\, hat sie im Herbst 2023 den Newsletter „Wie Rechte reden“ gegründet.
URL:https://wandelstadt-esslingen.de/event/wie-rechtsextremismus-waehlbar-wurde/
LOCATION:Kulturzentrum Dieselstraße\, Dieselstraße 26\, Esslingen\, Deutschland
ORGANIZER;CN="Kulturzentrum Dieselstra%C3%9Fe":MAILTO:info@dieselstrasse.de
END:VEVENT
END:VCALENDAR