BEGIN:VCALENDAR
VERSION:2.0
PRODID:-//Wandelstadt Esslingen - ECPv6.15.20//NONSGML v1.0//EN
CALSCALE:GREGORIAN
METHOD:PUBLISH
X-ORIGINAL-URL:https://wandelstadt-esslingen.de
X-WR-CALDESC:Veranstaltungen für Wandelstadt Esslingen
REFRESH-INTERVAL;VALUE=DURATION:PT1H
X-Robots-Tag:noindex
X-PUBLISHED-TTL:PT1H
BEGIN:VTIMEZONE
TZID:Europe/Berlin
BEGIN:DAYLIGHT
TZOFFSETFROM:+0100
TZOFFSETTO:+0200
TZNAME:CEST
DTSTART:20240331T010000
END:DAYLIGHT
BEGIN:STANDARD
TZOFFSETFROM:+0200
TZOFFSETTO:+0100
TZNAME:CET
DTSTART:20241027T010000
END:STANDARD
BEGIN:DAYLIGHT
TZOFFSETFROM:+0100
TZOFFSETTO:+0200
TZNAME:CEST
DTSTART:20250330T010000
END:DAYLIGHT
BEGIN:STANDARD
TZOFFSETFROM:+0200
TZOFFSETTO:+0100
TZNAME:CET
DTSTART:20251026T010000
END:STANDARD
BEGIN:DAYLIGHT
TZOFFSETFROM:+0100
TZOFFSETTO:+0200
TZNAME:CEST
DTSTART:20260329T010000
END:DAYLIGHT
BEGIN:STANDARD
TZOFFSETFROM:+0200
TZOFFSETTO:+0100
TZNAME:CET
DTSTART:20261025T010000
END:STANDARD
END:VTIMEZONE
BEGIN:VEVENT
DTSTART;TZID=Europe/Berlin:20250210T130000
DTEND;TZID=Europe/Berlin:20250210T140000
DTSTAMP:20260421T103957
CREATED:20250124T220120Z
LAST-MODIFIED:20250124T220120Z
UID:10004559-1739192400-1739196000@wandelstadt-esslingen.de
SUMMARY:Im Gespräch mit Bürgermeister Yalcin Bayraktar
DESCRIPTION:Haben Sie Vorschläge\, Anregungen\, Fragen\, Lob oder auch Kritik und Beschwerden zu den Themengebieten Ordnung\, Soziales\, Bildung\, Kultur und Sport? \nDann nutzen Sie die Bürgersprechstunden von Bürgermeister Yalcin Bayraktar. \nAnmeldung erforderlich!
URL:https://wandelstadt-esslingen.de/event/im-gespraech-mit-buergermeister-yalcin-bayraktar/
LOCATION:Neues Rathaus\, Rathausplatz 2\, Esslingen am Neckar\, 73728
CATEGORIES:Beteiligung
END:VEVENT
BEGIN:VEVENT
DTSTART;TZID=Europe/Berlin:20250211T150000
DTEND;TZID=Europe/Berlin:20250211T160000
DTSTAMP:20260421T103957
CREATED:20250124T220254Z
LAST-MODIFIED:20250124T220254Z
UID:10004560-1739286000-1739289600@wandelstadt-esslingen.de
SUMMARY:Im Gespräch mit Bürgermeister Hans-Georg Sigel
DESCRIPTION:Haben Sie Vorschläge\, Anregungen\, Fragen\, Lob oder auch Kritik und Beschwerden zu den Themengebieten Bauen\, Stadtplanung\, Grünflächen und Mobilität? \nDann nutzen Sie die Bürgersprechstunden von Bürgermeister Hans-Georg Sigel. \nAnmeldung erforderlich!
URL:https://wandelstadt-esslingen.de/event/im-gespraech-mit-buergermeister-hans-georg-sigel/
LOCATION:Neues Rathaus\, Rathausplatz 2\, Esslingen am Neckar\, 73728
CATEGORIES:Beteiligung
END:VEVENT
BEGIN:VEVENT
DTSTART;TZID=Europe/Berlin:20250211T191500
DTEND;TZID=Europe/Berlin:20250211T201500
DTSTAMP:20260421T103957
CREATED:20240520T091234Z
LAST-MODIFIED:20260106T174409Z
UID:10004486-1739301300-1739304900@wandelstadt-esslingen.de
SUMMARY:Inklusive Lachyoga-Gruppe
DESCRIPTION:Lachen ist nicht nur gesund\, sondern auch ansteckend. Und genau darum geht es bei Lachyoga. Gemeinsam lachen und sich gut fühlen\, Stress abbauen und entspannen. Zudem stärkt Lachen die Gesundheit. \n\n\n\n\n\nWann:\nDienstags von 19:15 – 20:15 Uhr\nEinstieg jederzeit möglich!\nKeine Anmeldung erforderlich.\n\n\n\nFür wen:\nFür (fast) jeden geeignet\, da Lachyoga keine schwierigen körperlichen Übungen beinhaltet.\n(siehe Details zur Barrierefreiheit)\n\n\nKursleitung:\nSusanne Klaus (Lachyoga Master Trainerin\, Stuttgarter Lachschule)\n\n\nKosten:\nkeine (freiwillige Spendenbasis)\n\n\nMitzubringen:\netwas zum Trinken
URL:https://wandelstadt-esslingen.de/event/inklusive-lachyoga-gruppe/2025-02-11/
LOCATION:Forum Esslingen – Zentrum für Bürgerengagement\, Schelztorstraße 38\, Esslingen\, Deutschland
ATTACH;FMTTYPE=image/jpeg:https://wandelstadt-esslingen.de/wp-content/uploads/2024/05/Lachyoga-Gruppe_Forum-Esslingen_16-9-scaled.jpg
ORGANIZER;CN="InklusivES - Der Esslinger Stammtisch zum Thema Inklusion":MAILTO:c.lira@inklusives.de
END:VEVENT
BEGIN:VEVENT
DTSTART;TZID=Europe/Berlin:20250212T180000
DTEND;TZID=Europe/Berlin:20250212T210000
DTSTAMP:20260421T103957
CREATED:20240628T154510Z
LAST-MODIFIED:20251125T194322Z
UID:10003087-1739383200-1739394000@wandelstadt-esslingen.de
SUMMARY:Kunststoff-Lab
DESCRIPTION:Positiv gegen Kunststoffverschmutzung \nAn einen Alltag ohne Kunststoffe ist nicht mehr zu denken. Das Material hat nach wie vor wertvolle Eigenschaften\, die wir nach dem “Precious-Plastic-Modell“ in einer kleinen Kunststoffrecycling- Manufaktur einsetzen. “Precious-Plastic“ ist ein internationales Projekt. 2012 in den Niederlanden gestartet\, besteht mittlerweile aus einem globalen Netzwerk von Workspaces. Das Komma in Esslingen ist mit dem @preciousplastic_esslingen Teil dieser Bewegung. 2021 bauten wir unsere Werkstatt mit Maschinen zur Plastikverarbeitung auf. Der Mehrwert des Projektes ist es\, die Möglichkeiten und Grenzen des „Selber-Machens“ selbst zu erfahren\, und zwar in einem für die Kreativität und Empowerment sicheren Ort. \nAus Abfall entsteht ein neuer Rohstoff\, aus dem du eigene Werkstücke wie z. B. kleine Möbel\, Lampen\, Taschen und Schmuck kreieren kannst. Schau dir hier an\, was wir 2023 in der Workshopreihe gemacht haben. \nMit und für junge Menschen: Wir können uns nicht mehr anhören\, wie schlecht die Klimakrise ist. Wir wollen was dagegen machen! Was würdest du daraus machen? \n  \nOffene Kunststoffwerkstatt \nAb Mai 2024 steht immer Mittwochs die offene Kunstwerkstatt für die Einführung in die „Precious-Plastic-Welt“\, die Kunststoffverarbeitung und Materialexperimente zur Verfügung. Plastik wird sortiert\, geschreddert und eingeschmolzen. \nHast du es zum letzten Workshop nicht geschafft und wolltest dir immer Schmuck selber machen? Oder einfach mal mehr über die Kunststoffwerkstatt wissen? Oder hast du sogar ein eigenes Projekt im Kopf\, das du mit Kunststoffplatten versuchen möchtest? Dann ist die offene Werkstatt genau richtig für dich. \nSolltest du es unter der Woche nicht schaffen\, gibt es ab Juni 2024 auch immer am  1. Samstag im Monat die offene Werkstatt. Die Nutzung der Werkstatt ist kostenlos. An den genannten Terminen kannst du ohne Anmeldung teilnehmen.  Ausnahmen aufgrund von Komma Veranstaltungen werden über die Internetseite des Mittwochs geteilt. \nMaterial falls nicht selbst gesammelt\, ist auf Spendenbasis verfügbar\, solange Vorrat reicht. Hier findest du ein How-to-collect\, damit du schauen kannst\, was wir in der Werkstatt grundsätzlich verwenden können. \nEinführungen in die Precious-Plastic-Welt sind auf Deutsch\, Englisch und Spanisch möglich. Hast du noch Fragen? Schreib uns gerne eine Nachricht an plastic@komma.info oder komm einfach vorbei! \nDie Teilnahme ist kostenlos\, wir bitten um Anmeldung per Mail an plastic@komma.info. \nKollabs und Netzwerk \nGroßes Potenzial liegt in unserer interdisziplinären Zusammenarbeit – sowohl im Komma-Team als auch in Kooperationen. Wir arbeiten mit Schulen\, Hochschulen\, Designer*innen\, Initiativen\, Werkstätten und andere Precious Plastics Gruppen auf der Welt zusammen. Hast du eine Idee zu einer Kollaboration? Schreib uns gerne an plastic@komma.info. \nFunfäct \n„The Bänk“\, unser erstes Projekt\, hat es in die Endrunde der RoGUILTLESSPLASTIC Awards geschafft und wurde bei der Mailänder Designwoche (Juni 2022) ausgestellt. Wie das gebaut wurde\, findest du im Video. \nTagesaktuelle Informationen und Workshop-Angebote finden sich auf Instagram @preciousplastic_esslingen \n 
URL:https://wandelstadt-esslingen.de/event/https-www-komma-info-precious-plastic/2025-02-12/
LOCATION:KOMMA\, Maille 5-9\, Esslingen\, Deutschland
END:VEVENT
BEGIN:VEVENT
DTSTART;TZID=Europe/Berlin:20250212T190000
DTEND;TZID=Europe/Berlin:20250212T210000
DTSTAMP:20260421T103957
CREATED:20250127T165026Z
LAST-MODIFIED:20250127T165026Z
UID:10004567-1739386800-1739394000@wandelstadt-esslingen.de
SUMMARY:Wahlopoly Esslingen zur Bundestagswahl 2025
DESCRIPTION:Es ist Bundestagswahl\, und die Kandidaten müssen sich in Acht nehmen: Ein falscher Schritt\, und statt ihr Wahlprogramm vorzustellen\, geht es direkt ins Gefängnis – ohne über Los zu gehen. Das Wahlopoly ist an das Monopoly-Spiel angelehnt: die Teilnehmerinnen und Teilnehmer bewegen sich auf einem Spielfeld und beantworten Fragen zu verschiedenen Politikfeldern. Und auch das Publikum soll Fragen stellen; zumindest\, wenn die Kandidatin auf das entsprechende Feld kommt. Im Vorfeld der Bundestagswahl will Wahlopoly den Kandidatinnen und Kandidaten der demokratischen Parteien auf spielerische und erfrischende Art ermöglichen\, ihre Standpunkte zu den unterschiedlichsten Themen zu erläutern. Gleichzeitig ist eine Interaktion zwischen den Kandidaten und den Wählerinnen und Wählern nicht nur möglich\, sondern ausdrücklich erwünscht. Das beliebte Spiel wird gemeinsam veranstaltet vom DGB Esslingen-Göppingen und dem KOMMA Esslingen\, es wird moderiert von Gesa von Leesen. \nBereits zugesagt haben: \n\nArgyri Paraschaki-Schauer (SPD)\nDr. David Preisedanz (CDU)\nMartin Auerbach (DIE LINKE)\n\nWeitere Kandidat*innen sind angefragt.
URL:https://wandelstadt-esslingen.de/event/wahlopoly-esslingen-zur-bundestagswahl-2025/
LOCATION:KOMMA\, Maille 5-9\, Esslingen\, Deutschland
ORGANIZER;CN="DGB":MAILTO:Peter.Schadt@dgb.de
END:VEVENT
BEGIN:VEVENT
DTSTART;TZID=Europe/Berlin:20250212T193000
DTEND;TZID=Europe/Berlin:20250212T210000
DTSTAMP:20260421T103957
CREATED:20240206T112222Z
LAST-MODIFIED:20240206T113330Z
UID:10001948-1739388600-1739394000@wandelstadt-esslingen.de
SUMMARY:ES GRÜNT!
DESCRIPTION:Esslingen: eine Stadt kühlt grün\nGlobal denken und regional handeln\, das ist unser Leitspruch. \nKomm gerne vorbei und schreib uns eine Mail an mitmachen@es-gruent.de\, damit wir dir den Ort mitteilen können.
URL:https://wandelstadt-esslingen.de/event/es-gruent-3/2025-02-12/
ATTACH;FMTTYPE=image/jpeg:https://wandelstadt-esslingen.de/wp-content/uploads/2022/10/giesspaten_Natalia_Rak_Girl_with_water_can_Bialystok.jpg
ORGANIZER;CN="ES gr%C3%BCnt":MAILTO:mitmachen@es-gruent.de
END:VEVENT
BEGIN:VEVENT
DTSTART;TZID=Europe/Berlin:20250213T190000
DTEND;TZID=Europe/Berlin:20250213T190000
DTSTAMP:20260421T103957
CREATED:20240628T160749Z
LAST-MODIFIED:20240629T175416Z
UID:10003596-1739473200-1739473200@wandelstadt-esslingen.de
SUMMARY:Fahrradwerkstatt
DESCRIPTION:Wir unterstützen Dich\, wenn Dein Fahrrad nicht mehr tut was es soll.\nFalls Ihr Interesse und Bedarf an unserer Fahrradwerkstatt habt\, meldet Euch per Mail: info@komma. \nVerantwortlich für die Werkstatt ist der Motorradclub Kuhle Wampe. Sie sind ein basisdemokratisch organisierter Motorradclub mit Sitz im Komma und sie betreiben eine Zweiradwerkstatt. Jeden Donnerstag ist die Fahrradwerkstatt geöffnet – bei gutem Wetter wird möglicherweise auch gegrillt.
URL:https://wandelstadt-esslingen.de/event/fahrrad-werkstatt/2025-02-13/
LOCATION:KOMMA\, Maille 5-9\, Esslingen\, Deutschland
END:VEVENT
BEGIN:VEVENT
DTSTART;TZID=Europe/Berlin:20250213T190000
DTEND;TZID=Europe/Berlin:20250213T213000
DTSTAMP:20260421T103957
CREATED:20250123T204102Z
LAST-MODIFIED:20260418T102930Z
UID:10004545-1739473200-1739482200@wandelstadt-esslingen.de
SUMMARY:Tu was - Transition Town Esslingen
DESCRIPTION:Die AG Tu was trifft sich regulär einmal pro Monat donnerstags und einmal im Monat am Wochenende um gemeinsam Möglichkeiten eines nachhaltigeren Lebensstils auszuprobieren. Dabei gibt es Aktionen für Kopf\, Herz und Hand. Interessierte können sich gerne über unsere Webseite www.transition-town-es.de anmelden.
URL:https://wandelstadt-esslingen.de/event/tu-was-transition-town-esslingen/2025-02-13/
END:VEVENT
BEGIN:VEVENT
DTSTART;TZID=Europe/Berlin:20250214T140000
DTEND;TZID=Europe/Berlin:20250214T160000
DTSTAMP:20260421T103957
CREATED:20240208T160917Z
LAST-MODIFIED:20250424T162425Z
UID:10002512-1739541600-1739548800@wandelstadt-esslingen.de
SUMMARY:Beratung Esslinger Initiative
DESCRIPTION:Das Leben vom guten Ende her denken.\n\n\n\n\n\n\n\n\n\n\n\n\n\n\n\n\n\n\n\n\nFreitags 14 bis 16 Uhr kostenlose Beratungen der Esslinger Initiative e.V.\nAnmeldung; Fr 9-11 Uhr über Tel. 0711/357420 \nJa das ist unangenehm\, wo doch jetzt Leben dran ist. Scheint doch auch logisch zu sein es so anzugehen wie Heinz Erhardt seine Gedichte anfing „Ich fang mal mit dem Anfang an“.\n„Das Leben vom guten Ende her denken“ ist quasi das Motto der Esslinger Initiative um die es hier heute geht. Sie selbst bezeichnet sich als \n„Eine Initiative für die Wahrung von Menschenwürde und Selbstbestimmung im Alter und bei Krankheit“\, ausgehend von der Frage: „ \nWie kann das Selbstbestimmungsrecht im Alter und bei Krankheit – also in schwierigen Lebensphasen – erhalten werden?“. \nDie Esslinger Initiative … \n\nsetzt sich ein für einen menschenwürdigen Umgang mit Schwerstkranken und Sterbenden\nfördert die Verbesserung der medizinischen und pflegerischen Versorgung Schwerstkranker und Sterbender (Palliative Care)\ntritt ein für die Wahrung des Selbstbestimmungsrechts im Gesundheitswesen und in der Altenpflege\nwirbt für ihre Anliegen in öffentlichen Veranstaltungen\nbietet Beratungen zur Vorsorge an\nstellt Formulare zur Vorsorge zur Verfügung\nschult Ehrenamtliche zu kompetenten Beraterinnen und Beratern und bildet diese regelmäßig weiter\nunterstützt die Durchsetzung einer vorsorgenden Gesundheitsplanung (ACP)\n\n  \nDas besondere Angebot der Esslinger Initiative ist eine kostenlose und unabhängige Beratung zur Vorsorge\, abgestimmt auf die ganz persönliche Situation. Beratungsstellen im gesamten Landkreis Esslingen und darüber hinaus bieten diese Hilfe an.\nDas Ende geht alle an – ein Angebot an alle über 18!
URL:https://wandelstadt-esslingen.de/event/beratung-esslinger-initiative-bitte-vorab-anmelden/2025-02-14/
LOCATION:Forum Esslingen – Zentrum für Bürgerengagement\, Schelztorstraße 38\, Esslingen\, Deutschland
ORGANIZER;CN="Esslinger Initiative e.V.":MAILTO:news@esslinger-initiative.de
END:VEVENT
BEGIN:VEVENT
DTSTART;TZID=Europe/Berlin:20250214T153000
DTEND;TZID=Europe/Berlin:20250214T173000
DTSTAMP:20260421T103957
CREATED:20250127T165837Z
LAST-MODIFIED:20250127T170000Z
UID:10004569-1739547000-1739554200@wandelstadt-esslingen.de
SUMMARY:Klimastreik am 14. Februar!
DESCRIPTION:Liebe Klimabewegte Menschen in Esslingen\,\nein #RechtAufZukunft fordern die Fridays for Future und wir mit ihnen!\nDie Wahl am 23. Februar ist entscheidend für die zukünftige Klimapolitik in Deutschland. Die nächste Bundesregierung steht vor einer Mammutaufgabe: Sie muss das Land durch umfangreiche Klimaschutz-Investitionen modernisieren – um Wohlstand und Freiheit künftiger Generationen zu schützen.Nur wenn wir in Deutschland die Erneuerbaren weiter ausbauen\, die Elektromobilität fördern\, den Bahnverkehr für alle Menschen attraktiv machen und eine echte Wärmewende vollziehen\, können wir das Klima schützen. Nur so können wir die Wirtschaft stärken\, Arbeitsplätze sichern und den gesellschaftlichen Zusammenhalt festigen. Die Bundestagswahl ist die große Chance zu zeigen\, wie wichtig Klimaschutz und soziale Gerechtigkeit für unser Land sind – und sie wieder voranzubringen!\nWeil es Fortschritte beim Klimaschutz nur gab\, wenn wir als Bewegung deutschlandweit laut und bunt protestiert haben\, gehen wir am\nFreitag\, den 14. Februar um 15:30 Uhr auf die Straße. Start ist am Bahnhof Esslingen.\nUnd wer möchte\, kann um 16:30 Uhr dann gleich weiter zum „Lichtermeer für Demokratie“\, Demo für Demokratie und Menschenrechte in Esslingen (veranstaltet vom gleichnamigen Esslinger Bündnis). Praktischerweise startet diese Demo genau dort\, wo unsere endet: am Alten Rathaus. Beide Aktionen sind gut aufeinander abgestimmt: verschiedene Strecken\, verschieden Aktionen – ein großer Impuls für Esslingen vor der Bundestagswahl 2025.\nSicher ist: Jede Stimme zählt! Klimaschutz wie auch Menschenrechte und Demokratie verlangen in diesem Jahr mehr denn je eine aktive und lebendige Zivilgesellschaft\, die sich gegen Antidemokraten und das Verhindern notwendiger Transformationen stellt und demokratische Parteien mit ambitionierten Klimaschutzzielen in die Parlamente wählt. \nBitte Termine vormerken und am 14. Februar das Date mit Klimaschutz und Demokratie genießen – auf der Straße und im Lichtermeer!\nHerzliche Grüße\,\nEure Parents For Future Esslingen \nWICHTIG!\nWir suchen dringend Ordner:innen für die Demo (und gerne auch gleich anschließend für das Lichtermeer für die Demokratie). Eine kleine Aufgabe mit großer Wirkung! Wer kann helfen? Bitte meldet Euch baldmöglichst per Mail an esslingen@parentsforfuture.de. Falls Ihr auch bei der Lichtermeer-Demo des Esslinger Bündnisses für Demokratie und Menschenrechte mithelfen wollt\, gebt dies bitte ebenfalls an. Wir stehen in gutem Kontakt zueinander und versorgen Euch dann mit allen Informationen.
URL:https://wandelstadt-esslingen.de/event/klimastreik-am-14-februar/
LOCATION:Bahnhofsvorplatz\, Esslingen
END:VEVENT
BEGIN:VEVENT
DTSTART;TZID=Europe/Berlin:20250215T170000
DTEND;TZID=Europe/Berlin:20250215T220000
DTSTAMP:20260421T103957
CREATED:20250124T220826Z
LAST-MODIFIED:20250124T220826Z
UID:10004561-1739638800-1739656800@wandelstadt-esslingen.de
SUMMARY:Mosaiken - Klangbilder Jiddischer Musik
DESCRIPTION:„Schlamassel“\, „zocken“\, „Tacheles“ oder „Schmutz“ – Was haben alle diese Worte gemeinsam? Zwei Dinge: Wir benutzen sie oft in unserem Alltag UND es sind jiddische Worte! Ohne es zu wissen tragen wir Spuren der Jiddischen Kultur weiter. Aber was war diese überhaupt und gibt es sie heute immer noch?\nBei „Mosaiken“ setzen wir das Bild dieser vergessenen Welt Stück für Stück zusammen. Sie lernen Jiddische Lieder kennen\, von Tango bis Romanze\, vom Wiegen- bis zum Hochzeitslied\, und erfahren\, wie Jiddisch uns alle immer noch begleitet und wo es heute weiterlebt.\nWir nehmen Sie gerne auf diese Reise mit\, am 15.02.2025 um 17 Uhr in der Scala Esslingen.\nWir freuen uns auf Sie!
URL:https://wandelstadt-esslingen.de/event/mosaiken-klangbilder-jiddischer-musik/
LOCATION:Scala Esslingen\, Blumenstraße 15\, Esslingen\, 73728\, Deutschland
CATEGORIES:Kulturveranstaltung
END:VEVENT
BEGIN:VEVENT
DTSTART;TZID=Europe/Berlin:20250216T110000
DTEND;TZID=Europe/Berlin:20250216T110000
DTSTAMP:20260421T103957
CREATED:20231024T145423Z
LAST-MODIFIED:20260218T101216Z
UID:10002053-1739703600-1739703600@wandelstadt-esslingen.de
SUMMARY:Internationales Frühstück
DESCRIPTION:Das Internationale Frühstück ist mittlerweile in Esslingen zur Institution geworden. Der Verein ADG e.V. (Interkulturelles Forum Esslingen) organisiert und gestaltet jeden 3. Sonntag im Monat Begegnungen zwischen Menschen unterschiedlicher Herkunft und Kultur. In den Räumen des Kulturzentrums Dieselstrasse treffen sich monatlich bis zu hundert bzw. jährlich über tausend Menschen in gemütlicher Atmosphäre zum Austausch. Für das Wohlergehen der Gäste sorgen engagierte Ehrenamtliche\, denen diese Begegnungen schon seit vielen Jahren am Herzen liegen. Mittlerweile organisieren diese  hier nicht nur „Brot\, Brötchen\, Butter\, Marmelade\, Kaffee und Tee“ \, sondern stellen ein vielseitiges internationales Frühstück auf die Beine. Um die Quantität des Frühstücks bezuibehalten\, sowie\, um die stetig steigende Zahl der Gäste weiterhin bewältigen zu können\, bedarf es jedoch zusätzlicher Unterstützung. Ehrenamtlich engagierte Helfer/innen sind daher nicht nur herzlich willkommen. \nJeden 3. Sonntag im Monat um 11 Uhr im Kulturzentrum Dieselstrasse! \nPreise: \n\nErwachsene: 10.-€\nKinder/Ermäßigt: 5.-€\nFamilie mit  einem Kind: 22.-€\nFamilie mit zwei Kinder: 25.-€\nAufpreis für Veranstaltungen im Rahmen des Frühstücks: 5.-€
URL:https://wandelstadt-esslingen.de/event/internationales-fruehstueck/2025-02-16/
LOCATION:Kulturzentrum Dieselstraße\, Dieselstraße 26\, Esslingen\, Deutschland
END:VEVENT
END:VCALENDAR