BEGIN:VCALENDAR
VERSION:2.0
PRODID:-//Wandelstadt Esslingen - ECPv6.15.20//NONSGML v1.0//EN
CALSCALE:GREGORIAN
METHOD:PUBLISH
X-ORIGINAL-URL:https://wandelstadt-esslingen.de
X-WR-CALDESC:Veranstaltungen für Wandelstadt Esslingen
REFRESH-INTERVAL;VALUE=DURATION:PT1H
X-Robots-Tag:noindex
X-PUBLISHED-TTL:PT1H
BEGIN:VTIMEZONE
TZID:Europe/Berlin
BEGIN:DAYLIGHT
TZOFFSETFROM:+0100
TZOFFSETTO:+0200
TZNAME:CEST
DTSTART:20240331T010000
END:DAYLIGHT
BEGIN:STANDARD
TZOFFSETFROM:+0200
TZOFFSETTO:+0100
TZNAME:CET
DTSTART:20241027T010000
END:STANDARD
BEGIN:DAYLIGHT
TZOFFSETFROM:+0100
TZOFFSETTO:+0200
TZNAME:CEST
DTSTART:20250330T010000
END:DAYLIGHT
BEGIN:STANDARD
TZOFFSETFROM:+0200
TZOFFSETTO:+0100
TZNAME:CET
DTSTART:20251026T010000
END:STANDARD
BEGIN:DAYLIGHT
TZOFFSETFROM:+0100
TZOFFSETTO:+0200
TZNAME:CEST
DTSTART:20260329T010000
END:DAYLIGHT
BEGIN:STANDARD
TZOFFSETFROM:+0200
TZOFFSETTO:+0100
TZNAME:CET
DTSTART:20261025T010000
END:STANDARD
END:VTIMEZONE
BEGIN:VEVENT
DTSTART;TZID=Europe/Berlin:20250120T190000
DTEND;TZID=Europe/Berlin:20250120T210000
DTSTAMP:20260421T152030
CREATED:20241114T091015Z
LAST-MODIFIED:20241114T091015Z
UID:10004430-1737399600-1737406800@wandelstadt-esslingen.de
SUMMARY:Treffen des Bündnis für Klimagerechtigkeit
DESCRIPTION:Herzliche Einladung mit uns aktiv zu sein \nJa\, wir wollen noch mehr bewegen in Esslingen und laden Sie herzlich ein\, sich gemeinsam mit uns für den nötigen ökologischen\, ökonomischen\, sozialen und kulturellen Wandel zu engagieren. Wir freuen uns sowohl auf neue Gruppen wie auch auf Einzelpersonen\, die sich gerne einbringen möchten! \nHier vor Ort können wir in Esslingen die Veränderung leben\, die wir uns für unsere Welt wünschen. Wir treffen uns als gesamtes Bündnis in der Regel jeden zweiten Montagabend im Monat um 19 Uhr online\, um zu planen\, zu organisieren\, zu berichten und unsere Erfolge zu teilen. Herzliche Einladung an neue Mitmacher:innen uns ganz unverbindlich kennenzulernen! \n  \nIhr Kontakt zu uns: \nThomas Albrecht \ninfo@klimagerechtigkeit-esslingen.de \nwww.klimagerechtigkeit-esslingen.de
URL:https://wandelstadt-esslingen.de/event/treffen-des-buendnis-fuer-klimagerechtigkeit-6/2025-01-20/
LOCATION:Forum Esslingen – Zentrum für Bürgerengagement\, Schelztorstraße 38\, Esslingen\, Deutschland
ATTACH;FMTTYPE=image/jpeg:https://wandelstadt-esslingen.de/wp-content/uploads/2022/07/klimagerechtig-esslingen.jpg
ORGANIZER;CN="B%C3%BCndnis f%C3%BCr Klimagerechtigkeit Esslingen":MAILTO:info@klimagerechtigkeit-esslingen.de
END:VEVENT
BEGIN:VEVENT
DTSTART;TZID=Europe/Berlin:20250121T100000
DTEND;TZID=Europe/Berlin:20250121T100000
DTSTAMP:20260421T152030
CREATED:20241230T091901Z
LAST-MODIFIED:20241230T091959Z
UID:10004528-1737453600-1737453600@wandelstadt-esslingen.de
SUMMARY:Halt die Wärme fest - nachträgliche Wärmedämmung!
DESCRIPTION:Auch im Winter 2025 geben wir alles\, um die Energiewende voran zu treiben.\nIn unseren kostenfreien Online-Vorträgen bietet die Energieberatung der Verbraucherzentrale Baden-Württemberg einen Rundumblick über interessante Themen. Die Anmeldung und weitere Informationen finden Sie unter: https://www.verbraucherzentrale-bawue.de/energie/onlineseminare-der-energieberatung-59522 \n\nNeben den Online-Vorträgen bieten die Energieberatung der Verbraucherzentrale und die Kimaschutzagentur des Landkreises Esslingen individuelle Beratungen an. Sie findet zurzeit hauptsächlich online und telefonisch statt. Mehr Informationen gibt es auf verbraucherzentrale-energieberatung.de oder kostenfrei unter 0800 – 809 802 400 oder unter 0711 20 70 30 70
URL:https://wandelstadt-esslingen.de/event/kle-onlineseminare2025-3/
LOCATION:online
CATEGORIES:Infoveranstaltung
ORGANIZER;CN="Klimaschutzagentur des Landkreises Esslingen gGmbH":MAILTO:info@ksa-es.de
END:VEVENT
BEGIN:VEVENT
DTSTART;TZID=Europe/Berlin:20250121T190000
DTEND;TZID=Europe/Berlin:20250121T210000
DTSTAMP:20260421T152030
CREATED:20241229T163048Z
LAST-MODIFIED:20241229T163137Z
UID:10004522-1737486000-1737493200@wandelstadt-esslingen.de
SUMMARY:Treffen der Regionalgruppe Esslingen der Teckwerke Bürgerenergie
DESCRIPTION:
URL:https://wandelstadt-esslingen.de/event/treffen-der-regionalgruppe-esslingen-der-teckwerke-buergerenergie/
LOCATION:Mehrgenerationen- und Bürgerhaus Pliensauvorstadt\, Weilstr. 8\, Esslingen am Neckar\, Baden Württemberg\, 73734\, Deutschland
ORGANIZER;CN="Regionalgruppe Esslingen der Teckwerke B%C3%BCrgerenergie":MAILTO:esslingen@teckwerke.de
END:VEVENT
BEGIN:VEVENT
DTSTART;TZID=Europe/Berlin:20250121T191500
DTEND;TZID=Europe/Berlin:20250121T201500
DTSTAMP:20260421T152030
CREATED:20240520T091234Z
LAST-MODIFIED:20260106T174409Z
UID:10004483-1737486900-1737490500@wandelstadt-esslingen.de
SUMMARY:Inklusive Lachyoga-Gruppe
DESCRIPTION:Lachen ist nicht nur gesund\, sondern auch ansteckend. Und genau darum geht es bei Lachyoga. Gemeinsam lachen und sich gut fühlen\, Stress abbauen und entspannen. Zudem stärkt Lachen die Gesundheit. \n\n\n\n\n\nWann:\nDienstags von 19:15 – 20:15 Uhr\nEinstieg jederzeit möglich!\nKeine Anmeldung erforderlich.\n\n\n\nFür wen:\nFür (fast) jeden geeignet\, da Lachyoga keine schwierigen körperlichen Übungen beinhaltet.\n(siehe Details zur Barrierefreiheit)\n\n\nKursleitung:\nSusanne Klaus (Lachyoga Master Trainerin\, Stuttgarter Lachschule)\n\n\nKosten:\nkeine (freiwillige Spendenbasis)\n\n\nMitzubringen:\netwas zum Trinken
URL:https://wandelstadt-esslingen.de/event/inklusive-lachyoga-gruppe/2025-01-21/
LOCATION:Forum Esslingen – Zentrum für Bürgerengagement\, Schelztorstraße 38\, Esslingen\, Deutschland
ATTACH;FMTTYPE=image/jpeg:https://wandelstadt-esslingen.de/wp-content/uploads/2024/05/Lachyoga-Gruppe_Forum-Esslingen_16-9-scaled.jpg
ORGANIZER;CN="InklusivES - Der Esslinger Stammtisch zum Thema Inklusion":MAILTO:c.lira@inklusives.de
END:VEVENT
BEGIN:VEVENT
DTSTART;TZID=Europe/Berlin:20250122T100000
DTEND;TZID=Europe/Berlin:20250122T100000
DTSTAMP:20260421T152030
CREATED:20241230T091915Z
LAST-MODIFIED:20241230T092235Z
UID:10004529-1737540000-1737540000@wandelstadt-esslingen.de
SUMMARY:Wie gelingt der Heizungstausch?
DESCRIPTION:Auch im Winter 2025 geben wir alles\, um die Energiewende voran zu treiben.\nIn unseren kostenfreien Online-Vorträgen bietet die Energieberatung der Verbraucherzentrale Baden-Württemberg einen Rundumblick über interessante Themen. Die Anmeldung und weitere Informationen finden Sie unter: https://www.verbraucherzentrale-bawue.de/energie/onlineseminare-der-energieberatung-59522 \n\nNeben den Online-Vorträgen bieten die Energieberatung der Verbraucherzentrale und die Kimaschutzagentur des Landkreises Esslingen individuelle Beratungen an. Sie findet zurzeit hauptsächlich online und telefonisch statt. Mehr Informationen gibt es auf verbraucherzentrale-energieberatung.de oder kostenfrei unter 0800 – 809 802 400 oder unter 0711 20 70 30 70
URL:https://wandelstadt-esslingen.de/event/geg-2024-informationen-zum-heizungstausch-2/
LOCATION:online
CATEGORIES:Infoveranstaltung
ORGANIZER;CN="Klimaschutzagentur des Landkreises Esslingen gGmbH":MAILTO:info@ksa-es.de
END:VEVENT
BEGIN:VEVENT
DTSTART;TZID=Europe/Berlin:20250122T100000
DTEND;TZID=Europe/Berlin:20250122T100000
DTSTAMP:20260421T152030
CREATED:20241230T092205Z
LAST-MODIFIED:20241230T092312Z
UID:10004533-1737540000-1737540000@wandelstadt-esslingen.de
SUMMARY:Sie geben Gas\, aber Ihre Räume bleiben kalt? - Heizlastberechnung\, hydraulischer Abgleich\, Förderung und Sanierungsfahrplan
DESCRIPTION:Auch im Winter 2025 geben wir alles\, um die Energiewende voran zu treiben.\nIn unseren kostenfreien Online-Vorträgen bietet die Energieberatung der Verbraucherzentrale Baden-Württemberg einen Rundumblick über interessante Themen. Die Anmeldung und weitere Informationen finden Sie unter: https://www.verbraucherzentrale-bawue.de/energie/onlineseminare-der-energieberatung-59522 \n\nNeben den Online-Vorträgen bieten die Energieberatung der Verbraucherzentrale und die Kimaschutzagentur des Landkreises Esslingen individuelle Beratungen an. Sie findet zurzeit hauptsächlich online und telefonisch statt. Mehr Informationen gibt es auf verbraucherzentrale-energieberatung.de oder kostenfrei unter 0800 – 809 802 400 oder unter 0711 20 70 30 70
URL:https://wandelstadt-esslingen.de/event/geg-2024-informationen-zum-heizungstausch-5/
LOCATION:online
CATEGORIES:Infoveranstaltung
ORGANIZER;CN="Klimaschutzagentur des Landkreises Esslingen gGmbH":MAILTO:info@ksa-es.de
END:VEVENT
BEGIN:VEVENT
DTSTART;TZID=Europe/Berlin:20250122T180000
DTEND;TZID=Europe/Berlin:20250122T210000
DTSTAMP:20260421T152030
CREATED:20240628T154510Z
LAST-MODIFIED:20251125T194322Z
UID:10003084-1737568800-1737579600@wandelstadt-esslingen.de
SUMMARY:Kunststoff-Lab
DESCRIPTION:Positiv gegen Kunststoffverschmutzung \nAn einen Alltag ohne Kunststoffe ist nicht mehr zu denken. Das Material hat nach wie vor wertvolle Eigenschaften\, die wir nach dem “Precious-Plastic-Modell“ in einer kleinen Kunststoffrecycling- Manufaktur einsetzen. “Precious-Plastic“ ist ein internationales Projekt. 2012 in den Niederlanden gestartet\, besteht mittlerweile aus einem globalen Netzwerk von Workspaces. Das Komma in Esslingen ist mit dem @preciousplastic_esslingen Teil dieser Bewegung. 2021 bauten wir unsere Werkstatt mit Maschinen zur Plastikverarbeitung auf. Der Mehrwert des Projektes ist es\, die Möglichkeiten und Grenzen des „Selber-Machens“ selbst zu erfahren\, und zwar in einem für die Kreativität und Empowerment sicheren Ort. \nAus Abfall entsteht ein neuer Rohstoff\, aus dem du eigene Werkstücke wie z. B. kleine Möbel\, Lampen\, Taschen und Schmuck kreieren kannst. Schau dir hier an\, was wir 2023 in der Workshopreihe gemacht haben. \nMit und für junge Menschen: Wir können uns nicht mehr anhören\, wie schlecht die Klimakrise ist. Wir wollen was dagegen machen! Was würdest du daraus machen? \n  \nOffene Kunststoffwerkstatt \nAb Mai 2024 steht immer Mittwochs die offene Kunstwerkstatt für die Einführung in die „Precious-Plastic-Welt“\, die Kunststoffverarbeitung und Materialexperimente zur Verfügung. Plastik wird sortiert\, geschreddert und eingeschmolzen. \nHast du es zum letzten Workshop nicht geschafft und wolltest dir immer Schmuck selber machen? Oder einfach mal mehr über die Kunststoffwerkstatt wissen? Oder hast du sogar ein eigenes Projekt im Kopf\, das du mit Kunststoffplatten versuchen möchtest? Dann ist die offene Werkstatt genau richtig für dich. \nSolltest du es unter der Woche nicht schaffen\, gibt es ab Juni 2024 auch immer am  1. Samstag im Monat die offene Werkstatt. Die Nutzung der Werkstatt ist kostenlos. An den genannten Terminen kannst du ohne Anmeldung teilnehmen.  Ausnahmen aufgrund von Komma Veranstaltungen werden über die Internetseite des Mittwochs geteilt. \nMaterial falls nicht selbst gesammelt\, ist auf Spendenbasis verfügbar\, solange Vorrat reicht. Hier findest du ein How-to-collect\, damit du schauen kannst\, was wir in der Werkstatt grundsätzlich verwenden können. \nEinführungen in die Precious-Plastic-Welt sind auf Deutsch\, Englisch und Spanisch möglich. Hast du noch Fragen? Schreib uns gerne eine Nachricht an plastic@komma.info oder komm einfach vorbei! \nDie Teilnahme ist kostenlos\, wir bitten um Anmeldung per Mail an plastic@komma.info. \nKollabs und Netzwerk \nGroßes Potenzial liegt in unserer interdisziplinären Zusammenarbeit – sowohl im Komma-Team als auch in Kooperationen. Wir arbeiten mit Schulen\, Hochschulen\, Designer*innen\, Initiativen\, Werkstätten und andere Precious Plastics Gruppen auf der Welt zusammen. Hast du eine Idee zu einer Kollaboration? Schreib uns gerne an plastic@komma.info. \nFunfäct \n„The Bänk“\, unser erstes Projekt\, hat es in die Endrunde der RoGUILTLESSPLASTIC Awards geschafft und wurde bei der Mailänder Designwoche (Juni 2022) ausgestellt. Wie das gebaut wurde\, findest du im Video. \nTagesaktuelle Informationen und Workshop-Angebote finden sich auf Instagram @preciousplastic_esslingen \n 
URL:https://wandelstadt-esslingen.de/event/https-www-komma-info-precious-plastic/2025-01-22/
LOCATION:KOMMA\, Maille 5-9\, Esslingen\, Deutschland
END:VEVENT
BEGIN:VEVENT
DTSTART;TZID=Europe/Berlin:20250122T193000
DTEND;TZID=Europe/Berlin:20250122T210000
DTSTAMP:20260421T152030
CREATED:20240206T112222Z
LAST-MODIFIED:20240206T113330Z
UID:10004609-1737574200-1737579600@wandelstadt-esslingen.de
SUMMARY:ES GRÜNT!
DESCRIPTION:Esslingen: eine Stadt kühlt grün\nGlobal denken und regional handeln\, das ist unser Leitspruch. \nKomm gerne vorbei und schreib uns eine Mail an mitmachen@es-gruent.de\, damit wir dir den Ort mitteilen können.
URL:https://wandelstadt-esslingen.de/event/es-gruent-3/2025-01-22/
ATTACH;FMTTYPE=image/jpeg:https://wandelstadt-esslingen.de/wp-content/uploads/2022/10/giesspaten_Natalia_Rak_Girl_with_water_can_Bialystok.jpg
ORGANIZER;CN="ES gr%C3%BCnt":MAILTO:mitmachen@es-gruent.de
END:VEVENT
BEGIN:VEVENT
DTSTART;TZID=Europe/Berlin:20250122T193000
DTEND;TZID=Europe/Berlin:20250122T210000
DTSTAMP:20260421T152030
CREATED:20241224T102121Z
LAST-MODIFIED:20241224T102226Z
UID:10004510-1737574200-1737579600@wandelstadt-esslingen.de
SUMMARY:vhs.wissen live: Klimahandel – Wie unsere Zukunft verkauft wird
DESCRIPTION:Seit über einem halben Jahrhundert wissen wir um die erschreckenden Auswirkungen von Umweltzerstörung und Klimawandel. Zwar häufen sich internationale Umwelt- und Klimakonferenzen\, doch warum handeln wir nicht konsequent gegen die verheerenden Bedrohungen? \n  \nMojib Latif wendet sich in diesem Vortrag der Frage zu\, warum unsere Welt trotz besseren Wissens weiterhin auf gefährliche Weise den Ast absägt\, auf dem sie sitzt. \nEr stellt die unbequemen Fragen nach dem Versagen der Politik und den Interessen weniger mächtiger Konzerne\, die von dieser fatalen Entwicklung profitieren und zeigt Wege auf\, wie dennoch durch globale Zusammenarbeit die Zukunft nachfolgender Generationen gerettet werden kann. \n  \nMojib Latif ist Professor am GEOMAR Helmholtz-Zentrum für Ozeanforschung Kiel. Seit Januar 2022 ist er Präsident der Akademie der Wissenschaften in Hamburg.
URL:https://wandelstadt-esslingen.de/event/vhs-wissen-live-klimahandel-wie-unsere-zukunft-verkauft-wird/
LOCATION:Volkshochschule\, Mettinger Straße 125\, Esslingen am Neckar\, 73728\, Deutschland
ORGANIZER;CN="Volkshochschule Esslingen":MAILTO:info@vhs-esslingen.de
END:VEVENT
BEGIN:VEVENT
DTSTART;TZID=Europe/Berlin:20250123T150000
DTEND;TZID=Europe/Berlin:20250123T170000
DTSTAMP:20260421T152030
CREATED:20241230T153008Z
LAST-MODIFIED:20241230T153008Z
UID:10004535-1737644400-1737651600@wandelstadt-esslingen.de
SUMMARY:Papierkörbe flechten Teil 1 -Papierröllchen anfertigen-
DESCRIPTION:Wir wollen Papierkörbe o.ä. flechten\, doch hierfür benötigen wir erst einmal Papierröllchen\, die in Teil 2 des Workshops verarbeitet werden können. Sei von Grund auf dabei und lerne wie du die Röllchen herstellen kannst. Wir haben Zeitungspapier und alles an Material vor Ort\, du brauchst also nichts mitbringen. Keine Vorkenntnisse nötig\, kostenfrei und du kannst flexibel innerhalb der angegebenen Zeit dazustoßen. \n 
URL:https://wandelstadt-esslingen.de/event/papierkoerbe-flechten-teil-1-papierroellchen-anfertigen/2025-01-23/
LOCATION:eva’s Ottilie\, Ottilienplatz 3\, Esslingen\, 73728
ORGANIZER;CN="eva's Ottilie":MAILTO:evas-ottilie-es@eva-stuttgart.de
END:VEVENT
BEGIN:VEVENT
DTSTART;TZID=Europe/Berlin:20250123T190000
DTEND;TZID=Europe/Berlin:20250123T190000
DTSTAMP:20260421T152030
CREATED:20240628T160749Z
LAST-MODIFIED:20240629T175416Z
UID:10003593-1737658800-1737658800@wandelstadt-esslingen.de
SUMMARY:Fahrradwerkstatt
DESCRIPTION:Wir unterstützen Dich\, wenn Dein Fahrrad nicht mehr tut was es soll.\nFalls Ihr Interesse und Bedarf an unserer Fahrradwerkstatt habt\, meldet Euch per Mail: info@komma. \nVerantwortlich für die Werkstatt ist der Motorradclub Kuhle Wampe. Sie sind ein basisdemokratisch organisierter Motorradclub mit Sitz im Komma und sie betreiben eine Zweiradwerkstatt. Jeden Donnerstag ist die Fahrradwerkstatt geöffnet – bei gutem Wetter wird möglicherweise auch gegrillt.
URL:https://wandelstadt-esslingen.de/event/fahrrad-werkstatt/2025-01-23/
LOCATION:KOMMA\, Maille 5-9\, Esslingen\, Deutschland
END:VEVENT
BEGIN:VEVENT
DTSTART;TZID=Europe/Berlin:20250124T140000
DTEND;TZID=Europe/Berlin:20250124T160000
DTSTAMP:20260421T152030
CREATED:20240208T160917Z
LAST-MODIFIED:20250424T162425Z
UID:10002509-1737727200-1737734400@wandelstadt-esslingen.de
SUMMARY:Beratung Esslinger Initiative
DESCRIPTION:Das Leben vom guten Ende her denken.\n\n\n\n\n\n\n\n\n\n\n\n\n\n\n\n\n\n\n\n\nFreitags 14 bis 16 Uhr kostenlose Beratungen der Esslinger Initiative e.V.\nAnmeldung; Fr 9-11 Uhr über Tel. 0711/357420 \nJa das ist unangenehm\, wo doch jetzt Leben dran ist. Scheint doch auch logisch zu sein es so anzugehen wie Heinz Erhardt seine Gedichte anfing „Ich fang mal mit dem Anfang an“.\n„Das Leben vom guten Ende her denken“ ist quasi das Motto der Esslinger Initiative um die es hier heute geht. Sie selbst bezeichnet sich als \n„Eine Initiative für die Wahrung von Menschenwürde und Selbstbestimmung im Alter und bei Krankheit“\, ausgehend von der Frage: „ \nWie kann das Selbstbestimmungsrecht im Alter und bei Krankheit – also in schwierigen Lebensphasen – erhalten werden?“. \nDie Esslinger Initiative … \n\nsetzt sich ein für einen menschenwürdigen Umgang mit Schwerstkranken und Sterbenden\nfördert die Verbesserung der medizinischen und pflegerischen Versorgung Schwerstkranker und Sterbender (Palliative Care)\ntritt ein für die Wahrung des Selbstbestimmungsrechts im Gesundheitswesen und in der Altenpflege\nwirbt für ihre Anliegen in öffentlichen Veranstaltungen\nbietet Beratungen zur Vorsorge an\nstellt Formulare zur Vorsorge zur Verfügung\nschult Ehrenamtliche zu kompetenten Beraterinnen und Beratern und bildet diese regelmäßig weiter\nunterstützt die Durchsetzung einer vorsorgenden Gesundheitsplanung (ACP)\n\n  \nDas besondere Angebot der Esslinger Initiative ist eine kostenlose und unabhängige Beratung zur Vorsorge\, abgestimmt auf die ganz persönliche Situation. Beratungsstellen im gesamten Landkreis Esslingen und darüber hinaus bieten diese Hilfe an.\nDas Ende geht alle an – ein Angebot an alle über 18!
URL:https://wandelstadt-esslingen.de/event/beratung-esslinger-initiative-bitte-vorab-anmelden/2025-01-24/
LOCATION:Forum Esslingen – Zentrum für Bürgerengagement\, Schelztorstraße 38\, Esslingen\, Deutschland
ORGANIZER;CN="Esslinger Initiative e.V.":MAILTO:news@esslinger-initiative.de
END:VEVENT
BEGIN:VEVENT
DTSTART;TZID=Europe/Berlin:20250125T093000
DTEND;TZID=Europe/Berlin:20250125T123000
DTSTAMP:20260421T152030
CREATED:20241217T163021Z
LAST-MODIFIED:20241217T163021Z
UID:10004494-1737797400-1737808200@wandelstadt-esslingen.de
SUMMARY:Baumschnitt - Agendagruppe Streuobstwiesen
DESCRIPTION:Bei gutem Wetter trifft sich die Streuobstwiesengruppe am Samstag\, 25. Januar\, um 9:30 Uhr zum Baumschnitt. Neue Helfer sind herzlich willkommen! Für Infos zum Treffpunkt bitte eine Mail an streuobstgruppe@forum-esslingen.de.
URL:https://wandelstadt-esslingen.de/event/baumschnitt-agendagruppe-streuobstwiesen-9/
ORGANIZER;CN="Agendagruppe Streuobstwiesen":MAILTO:streuobstgruppe@forum-esslingen.de
END:VEVENT
BEGIN:VEVENT
DTSTART;TZID=Europe/Berlin:20250126T140000
DTEND;TZID=Europe/Berlin:20250126T140000
DTSTAMP:20260421T152030
CREATED:20240505T114927Z
LAST-MODIFIED:20240505T114927Z
UID:10002864-1737900000-1737900000@wandelstadt-esslingen.de
SUMMARY:Queeres Treffen im Park
DESCRIPTION:Willkommen beim Queeren Treff im Maille Park! ☀️ \nJeden 4. Sonntag im Monat ab 14 Uhr kommen wir zusammen\, um in entspannter Atmosphäre zu plaudern\, Spiele zu spielen und vieles mehr zu erleben. \nAlle sind herzlich willkommen! 🫶 \nBitte beachtet\, dass bei regnerischem Wetter 🌧 der Treff wahrscheinlich abgesagt wird. Aktuelle Informationen dazu findet ihr auf unserem Instagram-Account QueerES e.V. \nFalls du Fragen hast oder dich nicht alleine hintraust\, kannst du dich gerne im Voraus melden. Wir freuen uns darauf\, gemeinsam Zeit zu verbringen und uns auszutauschen! 😊
URL:https://wandelstadt-esslingen.de/event/queeres-treffen-im-park/2025-01-26/
LOCATION:Maillepark\, Wehrneckarstraße\, Esslingen\, 73728
CATEGORIES:Gemütliches Treffen,Vernetzungsveranstaltung
ATTACH;FMTTYPE=image/jpeg:https://wandelstadt-esslingen.de/wp-content/uploads/2024/05/IMG-20240505-WA0001-scaled.jpg
END:VEVENT
END:VCALENDAR