BEGIN:VCALENDAR
VERSION:2.0
PRODID:-//Wandelstadt Esslingen - ECPv6.15.20//NONSGML v1.0//EN
CALSCALE:GREGORIAN
METHOD:PUBLISH
X-WR-CALNAME:Wandelstadt Esslingen
X-ORIGINAL-URL:https://wandelstadt-esslingen.de
X-WR-CALDESC:Veranstaltungen für Wandelstadt Esslingen
REFRESH-INTERVAL;VALUE=DURATION:PT1H
X-Robots-Tag:noindex
X-PUBLISHED-TTL:PT1H
BEGIN:VTIMEZONE
TZID:Europe/Berlin
BEGIN:DAYLIGHT
TZOFFSETFROM:+0100
TZOFFSETTO:+0200
TZNAME:CEST
DTSTART:20230326T010000
END:DAYLIGHT
BEGIN:STANDARD
TZOFFSETFROM:+0200
TZOFFSETTO:+0100
TZNAME:CET
DTSTART:20231029T010000
END:STANDARD
BEGIN:DAYLIGHT
TZOFFSETFROM:+0100
TZOFFSETTO:+0200
TZNAME:CEST
DTSTART:20240331T010000
END:DAYLIGHT
BEGIN:STANDARD
TZOFFSETFROM:+0200
TZOFFSETTO:+0100
TZNAME:CET
DTSTART:20241027T010000
END:STANDARD
BEGIN:DAYLIGHT
TZOFFSETFROM:+0100
TZOFFSETTO:+0200
TZNAME:CEST
DTSTART:20250330T010000
END:DAYLIGHT
BEGIN:STANDARD
TZOFFSETFROM:+0200
TZOFFSETTO:+0100
TZNAME:CET
DTSTART:20251026T010000
END:STANDARD
END:VTIMEZONE
BEGIN:VEVENT
DTSTART;TZID=Europe/Berlin:20241216T180000
DTEND;TZID=Europe/Berlin:20241216T210000
DTSTAMP:20260421T233948
CREATED:20240106T070748Z
LAST-MODIFIED:20241208T193307Z
UID:10004198-1734372000-1734382800@wandelstadt-esslingen.de
SUMMARY:Teamtreffen Wandelstadt Esslingen
DESCRIPTION:Möchtest Du mit uns den Wandel in Esslingen fördern? Hiermit bist Du herzlich zu unseren Teamtreffen eingeladen! Hier bieten sich vielfältige Möglichkeiten\, dich einzubringen und wir freuen uns immer über neue Perspektiven. Im Bereich „Über uns“ (Link einfügen) kannst Du uns noch besser kennenlernen. \nDer Kern des Zusammenwirkens findet in den Teamtreffen statt. Diese finden etwa zwei Mal pro Monat und meistens im Forum für Bürgerengagement in der Schelztorstraße 38 statt.\nWer möchte kommt um 18:00 Uhr um beim gemeinsamen Abendessen oder um 18:30 Uhr um gleich ins Wirken zu starten. Um 21 Uhr gehen wir meistens zufriedener und beschwingter als wir ankamen nach Hause. \nHast du noch Fragen oder magst bei uns Hereinschnuppern? Dann schreib uns gerne eine Mail an info@wandelstadt-esslingen.de. \nWir freuen uns darauf\, Dich kennenzulernen! \nUnsere Termine für 2025 findest Du hier.
URL:https://wandelstadt-esslingen.de/event/teamtreffen-wandelstadt-esslingen-3/2024-12-16/
LOCATION:Forum Esslingen – Zentrum für Bürgerengagement\, Schelztorstraße 38\, Esslingen\, Deutschland
ORGANIZER;CN="Wandelstadt Esslingen":MAILTO:info@wandelstadt-esslingen.de
END:VEVENT
BEGIN:VEVENT
DTSTART;TZID=Europe/Berlin:20241216T180000
DTEND;TZID=Europe/Berlin:20241216T210000
DTSTAMP:20260421T233948
CREATED:20241011T153633Z
LAST-MODIFIED:20241011T153633Z
UID:10004189-1734372000-1734382800@wandelstadt-esslingen.de
SUMMARY:Freifunk - Workshop
DESCRIPTION:Wolltest Du schon immer Dein eigenes freies WLAN haben?\nOb privat\, fürs Deinen Laden oder andere soziale Zwecke. Hier bekommst du gezeigt wie einfach das ist mit allen Infos zur Umsetzung\, Funktion und rechtlichen Lage.\nFreifunk geht ganz einfach ohne Login\, Anmeldebildschirm oder sonstige Hürden.\nEinfach einmalig das Netzwerk mit der Freifunk SSID auswählen und wenn immer Freifunk erreichbar ist wirst Du automatisch verbunden. \n.
URL:https://wandelstadt-esslingen.de/event/freifunk-workshop-3/
LOCATION:Makers Inn\, Küferstraße 46\, Esslingen
END:VEVENT
BEGIN:VEVENT
DTSTART;TZID=Europe/Berlin:20241216T180000
DTEND;TZID=Europe/Berlin:20241216T210000
DTSTAMP:20260421T233948
CREATED:20241208T193126Z
LAST-MODIFIED:20241208T193126Z
UID:10004480-1734372000-1734382800@wandelstadt-esslingen.de
SUMMARY:Teamtreffen Wandelstadt Esslingen
DESCRIPTION:Möchtest Du mit uns den Wandel in Esslingen fördern? Hiermit bist Du herzlich zu unseren Teamtreffen eingeladen! Hier bieten sich vielfältige Möglichkeiten\, dich einzubringen und wir freuen uns immer über neue Perspektiven. Im Bereich „Über uns“ (Link einfügen) kannst Du uns noch besser kennenlernen. \nDer Kern des Zusammenwirkens findet in den Teamtreffen statt. Diese finden etwa zwei Mal pro Monat und meistens im Forum für Bürgerengagement in der Schelztorstraße 38 statt.\nWer möchte kommt um 18:00 Uhr um beim gemeinsamen Abendessen oder um 18:30 Uhr um gleich ins Wirken zu starten. Um 21 Uhr gehen wir meistens zufriedener und beschwingter als wir ankamen nach Hause. \nHast du noch Fragen oder magst bei uns Hereinschnuppern? Dann schreib uns gerne eine Mail an info@wandelstadt-esslingen.de. \nWir freuen uns darauf\, Dich kennenzulernen!
URL:https://wandelstadt-esslingen.de/event/teamtreffen-wandelstadt-esslingen-4/2024-12-16/
LOCATION:Forum Esslingen – Zentrum für Bürgerengagement\, Schelztorstraße 38\, Esslingen\, Deutschland
ORGANIZER;CN="Wandelstadt Esslingen":MAILTO:info@wandelstadt-esslingen.de
END:VEVENT
BEGIN:VEVENT
DTSTART;TZID=Europe/Berlin:20241216T193000
DTEND;TZID=Europe/Berlin:20241216T193000
DTSTAMP:20260421T233948
CREATED:20241130T113240Z
LAST-MODIFIED:20241130T113240Z
UID:10004448-1734377400-1734377400@wandelstadt-esslingen.de
SUMMARY:Esslingen aufs Rad
DESCRIPTION:Gehörst Du auch zu denen\, die in Esslingen täglich mit dem Rad unterwegs sind?\nKennst Du hier auch viele Stellen\, wo man sich eine bessere Radinfrastruktur vorstellen könnte? \nDann komm‘  doch zum Treffen von Esslingen aufs Rad am Montag\, 16.12. um 19:30 Uhr im Forum Esslingen\, Schelztorstraße 38. \nWir haben wieder einiges zu Diskutieren über das Esslinger „Radnetz“.
URL:https://wandelstadt-esslingen.de/event/esslingen-aufs-rad-2/
LOCATION:Forum Esslingen – Zentrum für Bürgerengagement\, Schelztorstraße 38\, Esslingen\, Deutschland
END:VEVENT
BEGIN:VEVENT
DTSTART;TZID=Europe/Berlin:20241217T180000
DTEND;TZID=Europe/Berlin:20241217T190000
DTSTAMP:20260421T233948
CREATED:20241130T114745Z
LAST-MODIFIED:20241130T114745Z
UID:10004453-1734458400-1734462000@wandelstadt-esslingen.de
SUMMARY:Online-Infoveranstaltung Laden am Wohnort
DESCRIPTION:Die Elektrifizierung unserer Fahrzeugflotte schreitet voran. Im Landkreis Esslingen haben 6\,6 % der Fahrzeuge einen Elektro-Antrieb und es stehen mindestens 943 (halb)öffentliche Ladepunkte. Der Landkreis Esslingen veranstaltet den Online-Vortrag Laden am Wohnort mit Maik Hanken\, Ökonom und Manager für Bund-Länder-Kommunen Koordinierung in der Nationalen Leitstelle Ladeinfrastruktur in Berlin. \nWie kann ich eigenerzeugten Strom für mein E-Fahrzeug nutzen? Wie kann ich Ladeinfrastruktur an Mehrparteienhäusern finanzieren? Diese und weitere Fragen werden im Online-Vortrag zu Elektromobilität und privater Ladeinfrastruktur praxisnah beantwortet. Folgende Themenpunkte werden behandelt: \n\nVorstellung der Nationalen Leitstelle Ladeinfrastruktur und ihrer Angebote für Privatpersonen\nAktuelle Entwicklungen\, Zahlen\, Daten und Fakten zur Elektromobilität und Ladeinfrastruktur in Deutschland\nLadeinfrastruktur am Eigenheim: Nutzung von eigenerzeugtem Strom\, Bidirektionales Laden und „Vehicle-to-Home“\nLadeinfrastruktur an Mehrparteienhäusern: Umsetzungsmöglichkeiten\, Finanzierung und rechtliche Rahmenbedingungen\n\nBürgerinnen und Bürger\, die bereits Erfahrung in diesem Bereich haben\, sind zum gegenseitigen Erfahrungsaustausch herzlich willkommen. \nDatum: 17.12.2024\, 18:00 – ca. 19:00 Uhr\nOrt: online via Microsoft Teams\nAnmeldung unter: https://klimaschutzagentur-landkreis-esslingen.de/online-veranstaltung-laden-am-wohnort/ \n Die Anmeldung ist bis 15.12.2024 20:00 Uhr möglich.\nWir bitten um Ihr Verständnis. \nDie Zugangsdaten erhalten Sie kurz vor der Veranstaltung. Wir freuen uns über\, Ihre Teilnahme und Sie in der Onlineveranstaltung begrüßen zu dürfen.\nBei weiteren Fragen melden Sie sich bei nachfolgender Ansprechperson beim Sachgebiet Nachhaltige Mobilität im Landratsamt Esslingen: \nFrau Carolin Heer\nAmt 46 – ÖPNV und Mobilität\nSG 461 – Nachhaltige Mobilität\nTelefon: 0711 3902 – 41139\nFax: 0711 3902 – 51139\nHeer.Carolin@LRA-ES.de\nwww.landkreis-esslingen.de
URL:https://wandelstadt-esslingen.de/event/online-infoveranstaltung-laden-am-wohnort/
LOCATION:online
CATEGORIES:Infoveranstaltung
END:VEVENT
BEGIN:VEVENT
DTSTART;TZID=Europe/Berlin:20241217T191500
DTEND;TZID=Europe/Berlin:20241217T201500
DTSTAMP:20260421T233948
CREATED:20240520T091234Z
LAST-MODIFIED:20260106T174409Z
UID:10004020-1734462900-1734466500@wandelstadt-esslingen.de
SUMMARY:Inklusive Lachyoga-Gruppe
DESCRIPTION:Lachen ist nicht nur gesund\, sondern auch ansteckend. Und genau darum geht es bei Lachyoga. Gemeinsam lachen und sich gut fühlen\, Stress abbauen und entspannen. Zudem stärkt Lachen die Gesundheit. \n\n\n\n\n\nWann:\nDienstags von 19:15 – 20:15 Uhr\nEinstieg jederzeit möglich!\nKeine Anmeldung erforderlich.\n\n\n\nFür wen:\nFür (fast) jeden geeignet\, da Lachyoga keine schwierigen körperlichen Übungen beinhaltet.\n(siehe Details zur Barrierefreiheit)\n\n\nKursleitung:\nSusanne Klaus (Lachyoga Master Trainerin\, Stuttgarter Lachschule)\n\n\nKosten:\nkeine (freiwillige Spendenbasis)\n\n\nMitzubringen:\netwas zum Trinken
URL:https://wandelstadt-esslingen.de/event/inklusive-lachyoga-gruppe/2024-12-17/
LOCATION:Forum Esslingen – Zentrum für Bürgerengagement\, Schelztorstraße 38\, Esslingen\, Deutschland
ATTACH;FMTTYPE=image/jpeg:https://wandelstadt-esslingen.de/wp-content/uploads/2024/05/Lachyoga-Gruppe_Forum-Esslingen_16-9-scaled.jpg
ORGANIZER;CN="InklusivES - Der Esslinger Stammtisch zum Thema Inklusion":MAILTO:c.lira@inklusives.de
END:VEVENT
BEGIN:VEVENT
DTSTART;TZID=Europe/Berlin:20241218T180000
DTEND;TZID=Europe/Berlin:20241218T210000
DTSTAMP:20260421T233948
CREATED:20240628T154510Z
LAST-MODIFIED:20251125T194322Z
UID:10003079-1734544800-1734555600@wandelstadt-esslingen.de
SUMMARY:Kunststoff-Lab
DESCRIPTION:Positiv gegen Kunststoffverschmutzung \nAn einen Alltag ohne Kunststoffe ist nicht mehr zu denken. Das Material hat nach wie vor wertvolle Eigenschaften\, die wir nach dem “Precious-Plastic-Modell“ in einer kleinen Kunststoffrecycling- Manufaktur einsetzen. “Precious-Plastic“ ist ein internationales Projekt. 2012 in den Niederlanden gestartet\, besteht mittlerweile aus einem globalen Netzwerk von Workspaces. Das Komma in Esslingen ist mit dem @preciousplastic_esslingen Teil dieser Bewegung. 2021 bauten wir unsere Werkstatt mit Maschinen zur Plastikverarbeitung auf. Der Mehrwert des Projektes ist es\, die Möglichkeiten und Grenzen des „Selber-Machens“ selbst zu erfahren\, und zwar in einem für die Kreativität und Empowerment sicheren Ort. \nAus Abfall entsteht ein neuer Rohstoff\, aus dem du eigene Werkstücke wie z. B. kleine Möbel\, Lampen\, Taschen und Schmuck kreieren kannst. Schau dir hier an\, was wir 2023 in der Workshopreihe gemacht haben. \nMit und für junge Menschen: Wir können uns nicht mehr anhören\, wie schlecht die Klimakrise ist. Wir wollen was dagegen machen! Was würdest du daraus machen? \n  \nOffene Kunststoffwerkstatt \nAb Mai 2024 steht immer Mittwochs die offene Kunstwerkstatt für die Einführung in die „Precious-Plastic-Welt“\, die Kunststoffverarbeitung und Materialexperimente zur Verfügung. Plastik wird sortiert\, geschreddert und eingeschmolzen. \nHast du es zum letzten Workshop nicht geschafft und wolltest dir immer Schmuck selber machen? Oder einfach mal mehr über die Kunststoffwerkstatt wissen? Oder hast du sogar ein eigenes Projekt im Kopf\, das du mit Kunststoffplatten versuchen möchtest? Dann ist die offene Werkstatt genau richtig für dich. \nSolltest du es unter der Woche nicht schaffen\, gibt es ab Juni 2024 auch immer am  1. Samstag im Monat die offene Werkstatt. Die Nutzung der Werkstatt ist kostenlos. An den genannten Terminen kannst du ohne Anmeldung teilnehmen.  Ausnahmen aufgrund von Komma Veranstaltungen werden über die Internetseite des Mittwochs geteilt. \nMaterial falls nicht selbst gesammelt\, ist auf Spendenbasis verfügbar\, solange Vorrat reicht. Hier findest du ein How-to-collect\, damit du schauen kannst\, was wir in der Werkstatt grundsätzlich verwenden können. \nEinführungen in die Precious-Plastic-Welt sind auf Deutsch\, Englisch und Spanisch möglich. Hast du noch Fragen? Schreib uns gerne eine Nachricht an plastic@komma.info oder komm einfach vorbei! \nDie Teilnahme ist kostenlos\, wir bitten um Anmeldung per Mail an plastic@komma.info. \nKollabs und Netzwerk \nGroßes Potenzial liegt in unserer interdisziplinären Zusammenarbeit – sowohl im Komma-Team als auch in Kooperationen. Wir arbeiten mit Schulen\, Hochschulen\, Designer*innen\, Initiativen\, Werkstätten und andere Precious Plastics Gruppen auf der Welt zusammen. Hast du eine Idee zu einer Kollaboration? Schreib uns gerne an plastic@komma.info. \nFunfäct \n„The Bänk“\, unser erstes Projekt\, hat es in die Endrunde der RoGUILTLESSPLASTIC Awards geschafft und wurde bei der Mailänder Designwoche (Juni 2022) ausgestellt. Wie das gebaut wurde\, findest du im Video. \nTagesaktuelle Informationen und Workshop-Angebote finden sich auf Instagram @preciousplastic_esslingen \n 
URL:https://wandelstadt-esslingen.de/event/https-www-komma-info-precious-plastic/2024-12-18/
LOCATION:KOMMA\, Maille 5-9\, Esslingen\, Deutschland
END:VEVENT
BEGIN:VEVENT
DTSTART;TZID=Europe/Berlin:20241218T193000
DTEND;TZID=Europe/Berlin:20241218T210000
DTSTAMP:20260421T233948
CREATED:20240206T112222Z
LAST-MODIFIED:20240206T113330Z
UID:10001946-1734550200-1734555600@wandelstadt-esslingen.de
SUMMARY:ES GRÜNT!
DESCRIPTION:Esslingen: eine Stadt kühlt grün\nGlobal denken und regional handeln\, das ist unser Leitspruch. \nKomm gerne vorbei und schreib uns eine Mail an mitmachen@es-gruent.de\, damit wir dir den Ort mitteilen können.
URL:https://wandelstadt-esslingen.de/event/es-gruent-3/2024-12-18/
ATTACH;FMTTYPE=image/jpeg:https://wandelstadt-esslingen.de/wp-content/uploads/2022/10/giesspaten_Natalia_Rak_Girl_with_water_can_Bialystok.jpg
ORGANIZER;CN="ES gr%C3%BCnt":MAILTO:mitmachen@es-gruent.de
END:VEVENT
BEGIN:VEVENT
DTSTART;TZID=Europe/Berlin:20241219T140000
DTEND;TZID=Europe/Berlin:20241219T160000
DTSTAMP:20260421T233948
CREATED:20241129T123102Z
LAST-MODIFIED:20241129T123102Z
UID:10004444-1734616800-1734624000@wandelstadt-esslingen.de
SUMMARY:Wollwerkstatt
DESCRIPTION:Egal ob du Lust auf häkeln\, stricken\, knüpfen\, weben o.ä. hast. Komm vorbei\, lerne etwas neues oder bring deine angefangenen Projekte mit. \nHäkel- und Stricknadeln sowie Wolle sind vor Ort. \nVorbeikommen jederzeit möglich.
URL:https://wandelstadt-esslingen.de/event/wollwerkstatt/
LOCATION:eva’s Ottilie\, Ottilienplatz 3\, Esslingen\, 73728
ORGANIZER;CN="eva's Ottilie":MAILTO:evas-ottilie-es@eva-stuttgart.de
END:VEVENT
BEGIN:VEVENT
DTSTART;TZID=Europe/Berlin:20241219T190000
DTEND;TZID=Europe/Berlin:20241219T190000
DTSTAMP:20260421T233948
CREATED:20240628T160749Z
LAST-MODIFIED:20240629T175416Z
UID:10003588-1734634800-1734634800@wandelstadt-esslingen.de
SUMMARY:Fahrradwerkstatt
DESCRIPTION:Wir unterstützen Dich\, wenn Dein Fahrrad nicht mehr tut was es soll.\nFalls Ihr Interesse und Bedarf an unserer Fahrradwerkstatt habt\, meldet Euch per Mail: info@komma. \nVerantwortlich für die Werkstatt ist der Motorradclub Kuhle Wampe. Sie sind ein basisdemokratisch organisierter Motorradclub mit Sitz im Komma und sie betreiben eine Zweiradwerkstatt. Jeden Donnerstag ist die Fahrradwerkstatt geöffnet – bei gutem Wetter wird möglicherweise auch gegrillt.
URL:https://wandelstadt-esslingen.de/event/fahrrad-werkstatt/2024-12-19/
LOCATION:KOMMA\, Maille 5-9\, Esslingen\, Deutschland
END:VEVENT
BEGIN:VEVENT
DTSTART;TZID=Europe/Berlin:20241220T140000
DTEND;TZID=Europe/Berlin:20241220T160000
DTSTAMP:20260421T233948
CREATED:20240208T160917Z
LAST-MODIFIED:20250424T162425Z
UID:10002504-1734703200-1734710400@wandelstadt-esslingen.de
SUMMARY:Beratung Esslinger Initiative
DESCRIPTION:Das Leben vom guten Ende her denken.\n\n\n\n\n\n\n\n\n\n\n\n\n\n\n\n\n\n\n\n\nFreitags 14 bis 16 Uhr kostenlose Beratungen der Esslinger Initiative e.V.\nAnmeldung; Fr 9-11 Uhr über Tel. 0711/357420 \nJa das ist unangenehm\, wo doch jetzt Leben dran ist. Scheint doch auch logisch zu sein es so anzugehen wie Heinz Erhardt seine Gedichte anfing „Ich fang mal mit dem Anfang an“.\n„Das Leben vom guten Ende her denken“ ist quasi das Motto der Esslinger Initiative um die es hier heute geht. Sie selbst bezeichnet sich als \n„Eine Initiative für die Wahrung von Menschenwürde und Selbstbestimmung im Alter und bei Krankheit“\, ausgehend von der Frage: „ \nWie kann das Selbstbestimmungsrecht im Alter und bei Krankheit – also in schwierigen Lebensphasen – erhalten werden?“. \nDie Esslinger Initiative … \n\nsetzt sich ein für einen menschenwürdigen Umgang mit Schwerstkranken und Sterbenden\nfördert die Verbesserung der medizinischen und pflegerischen Versorgung Schwerstkranker und Sterbender (Palliative Care)\ntritt ein für die Wahrung des Selbstbestimmungsrechts im Gesundheitswesen und in der Altenpflege\nwirbt für ihre Anliegen in öffentlichen Veranstaltungen\nbietet Beratungen zur Vorsorge an\nstellt Formulare zur Vorsorge zur Verfügung\nschult Ehrenamtliche zu kompetenten Beraterinnen und Beratern und bildet diese regelmäßig weiter\nunterstützt die Durchsetzung einer vorsorgenden Gesundheitsplanung (ACP)\n\n  \nDas besondere Angebot der Esslinger Initiative ist eine kostenlose und unabhängige Beratung zur Vorsorge\, abgestimmt auf die ganz persönliche Situation. Beratungsstellen im gesamten Landkreis Esslingen und darüber hinaus bieten diese Hilfe an.\nDas Ende geht alle an – ein Angebot an alle über 18!
URL:https://wandelstadt-esslingen.de/event/beratung-esslinger-initiative-bitte-vorab-anmelden/2024-12-20/
LOCATION:Forum Esslingen – Zentrum für Bürgerengagement\, Schelztorstraße 38\, Esslingen\, Deutschland
ORGANIZER;CN="Esslinger Initiative e.V.":MAILTO:news@esslinger-initiative.de
END:VEVENT
BEGIN:VEVENT
DTSTART;TZID=Europe/Berlin:20241220T180000
DTEND;TZID=Europe/Berlin:20241220T180000
DTSTAMP:20260421T233948
CREATED:20221010T204011Z
LAST-MODIFIED:20221010T204011Z
UID:10005576-1734717600-1734717600@wandelstadt-esslingen.de
SUMMARY:Critical Mass
DESCRIPTION:Critical Mass ist eine weltweite Fahrrad­bewegung\, um eine Alternative zum motorisi­erten Individual­verkehr aufzu­zeigen. Grundlage bildet Paragraph 27 der Straßenverkehrs-Ordnung. \nBei der Critical Mass Esslingen treffen sich jeden 3. Freitag im Monat Radfahrerinnen und Radfahrer zur gemeinsamen Fahrrad­ausfahrt durch Esslingen. Treffpunkt ist um 18:00 Uhr auf dem Bahnhofsvorplatz. Im Anschluss findet oft noch ein Erfahrungsaustausch beim „Radlerstammtisch“ statt.
URL:https://wandelstadt-esslingen.de/event/critical-mass-2/2024-12-20/
LOCATION:Bahnhofsvorplatz\, Esslingen
ORGANIZER;CN="Critical Mass":MAILTO:schugra@posteo.de
END:VEVENT
BEGIN:VEVENT
DTSTART;TZID=Europe/Berlin:20241222T140000
DTEND;TZID=Europe/Berlin:20241222T140000
DTSTAMP:20260421T233948
CREATED:20240505T114927Z
LAST-MODIFIED:20240505T114927Z
UID:10002863-1734876000-1734876000@wandelstadt-esslingen.de
SUMMARY:Queeres Treffen im Park
DESCRIPTION:Willkommen beim Queeren Treff im Maille Park! ☀️ \nJeden 4. Sonntag im Monat ab 14 Uhr kommen wir zusammen\, um in entspannter Atmosphäre zu plaudern\, Spiele zu spielen und vieles mehr zu erleben. \nAlle sind herzlich willkommen! 🫶 \nBitte beachtet\, dass bei regnerischem Wetter 🌧 der Treff wahrscheinlich abgesagt wird. Aktuelle Informationen dazu findet ihr auf unserem Instagram-Account QueerES e.V. \nFalls du Fragen hast oder dich nicht alleine hintraust\, kannst du dich gerne im Voraus melden. Wir freuen uns darauf\, gemeinsam Zeit zu verbringen und uns auszutauschen! 😊
URL:https://wandelstadt-esslingen.de/event/queeres-treffen-im-park/2024-12-22/
LOCATION:Maillepark\, Wehrneckarstraße\, Esslingen\, 73728
CATEGORIES:Gemütliches Treffen,Vernetzungsveranstaltung
ATTACH;FMTTYPE=image/jpeg:https://wandelstadt-esslingen.de/wp-content/uploads/2024/05/IMG-20240505-WA0001-scaled.jpg
END:VEVENT
END:VCALENDAR