BEGIN:VCALENDAR
VERSION:2.0
PRODID:-//Wandelstadt Esslingen - ECPv6.15.20//NONSGML v1.0//EN
CALSCALE:GREGORIAN
METHOD:PUBLISH
X-WR-CALNAME:Wandelstadt Esslingen
X-ORIGINAL-URL:https://wandelstadt-esslingen.de
X-WR-CALDESC:Veranstaltungen für Wandelstadt Esslingen
REFRESH-INTERVAL;VALUE=DURATION:PT1H
X-Robots-Tag:noindex
X-PUBLISHED-TTL:PT1H
BEGIN:VTIMEZONE
TZID:Europe/Berlin
BEGIN:DAYLIGHT
TZOFFSETFROM:+0100
TZOFFSETTO:+0200
TZNAME:CEST
DTSTART:20230326T010000
END:DAYLIGHT
BEGIN:STANDARD
TZOFFSETFROM:+0200
TZOFFSETTO:+0100
TZNAME:CET
DTSTART:20231029T010000
END:STANDARD
BEGIN:DAYLIGHT
TZOFFSETFROM:+0100
TZOFFSETTO:+0200
TZNAME:CEST
DTSTART:20240331T010000
END:DAYLIGHT
BEGIN:STANDARD
TZOFFSETFROM:+0200
TZOFFSETTO:+0100
TZNAME:CET
DTSTART:20241027T010000
END:STANDARD
BEGIN:DAYLIGHT
TZOFFSETFROM:+0100
TZOFFSETTO:+0200
TZNAME:CEST
DTSTART:20250330T010000
END:DAYLIGHT
BEGIN:STANDARD
TZOFFSETFROM:+0200
TZOFFSETTO:+0100
TZNAME:CET
DTSTART:20251026T010000
END:STANDARD
END:VTIMEZONE
BEGIN:VEVENT
DTSTART;TZID=Europe/Berlin:20241118T180000
DTEND;TZID=Europe/Berlin:20241118T210000
DTSTAMP:20260422T065344
CREATED:20241011T153552Z
LAST-MODIFIED:20241011T153552Z
UID:10004188-1731952800-1731963600@wandelstadt-esslingen.de
SUMMARY:Freifunk - Workshop
DESCRIPTION:Wolltest Du schon immer Dein eigenes freies WLAN haben?\nOb privat\, fürs Deinen Laden oder andere soziale Zwecke. Hier bekommst du gezeigt wie einfach das ist mit allen Infos zur Umsetzung\, Funktion und rechtlichen Lage.\nFreifunk geht ganz einfach ohne Login\, Anmeldebildschirm oder sonstige Hürden.\nEinfach einmalig das Netzwerk mit der Freifunk SSID auswählen und wenn immer Freifunk erreichbar ist wirst Du automatisch verbunden. \n.
URL:https://wandelstadt-esslingen.de/event/freifunk-workshop-2/
LOCATION:Makers Inn\, Küferstraße 46\, Esslingen
END:VEVENT
BEGIN:VEVENT
DTSTART;TZID=Europe/Berlin:20241118T180000
DTEND;TZID=Europe/Berlin:20241118T210000
DTSTAMP:20260422T065344
CREATED:20241023T194753Z
LAST-MODIFIED:20241023T203451Z
UID:10004396-1731952800-1731963600@wandelstadt-esslingen.de
SUMMARY:Keine Demokratie ohne Pressefreiheit! Zur Lage der Pressefreiheit weltweit
DESCRIPTION:Online und vor Ort Hochschule Esslingen\, Campus Stadtmitte\, Kanalstr. 33\, Gebäude 1\, Senatssaal\, Raum S 01.021\nDie Basis der Demokratie sind die Menschenrechte! Warum ist Pressefreiheit weltweit so ein spitzfindiger Gradmesser für die Menschenrechte? Und was sagt die Situation von Reporter:innen in Deutschland über die großen Herausforderungen unserer Zeit aus? Mit diesen Fragen und möglichen Lösungen beschäftigt sich Katharina Viktoria Weiß von „Reporter ohne Grenzen (RSF)“. RSF unterstützt Journalist:innen weltweit\, alarmiert die Öffentlichkeit\, wenn Medienschaffende in Gefahr sind. Denn wenn keine freie Berichterstattung mehr stattfindet\, ist die gesamte Gesellschaft betroffen: Es bedeutet\, dass wichtige Informationen über Machtmissbrauch\, Korruption oder Minderheiten nicht ans Licht der Öffentlichkeit gelangen. Eine pluralistische Gesellschaft braucht aber diese Informationen\, um reflektiert zu handeln und Einfluss auf politische Entscheidungen nehmen zu können. \n\n\n\nReferentin: Katharina Viktoria Weiß \nInnerhalb der internationalen NGO „Reporter ohne Grenzen“ (RSF) überwacht die Journalistin und Pressereferentin Katharina Viktoria Weiß die Übergriffe auf Medienschaffende in Deutschland. Zudem betreut sie für die deutsche Sektion von RSF weite Teile des europäischen Kontinents und überwacht die Situation der Pressefreiheit in der Türkei. Die ausgebildete Redakteurin mit Masterabschluss in Kulturanthropologie arbeitete in der Vergangenheit unter anderem für den Stern\, den Schwarzkopf & Schwarzkopf Verlag oder das RBB Fernsehen und ist aktuell als freie Autorin für Tagesspiegel\, t-online und den RND tätig. \n\nAnmeldung unter: https://www.hs-esslingen.de/studium/studienangebot/studium-generale/oeffentliche-vortragsreihe/anmeldung-studium-generale
URL:https://wandelstadt-esslingen.de/event/keine-demokratie-ohne-pressefreiheit-zur-lage-der-pressefreiheit-weltweit/
LOCATION:Campus Stadtmitte / Hochschule Eslingen\, Kanalstraße 33\, Esslingen\, Deutschland
CATEGORIES:Infoveranstaltung
END:VEVENT
BEGIN:VEVENT
DTSTART;TZID=Europe/Berlin:20241118T190000
DTEND;TZID=Europe/Berlin:20241118T210000
DTSTAMP:20260422T065344
CREATED:20231024T144027Z
LAST-MODIFIED:20241001T173452Z
UID:10002036-1731956400-1731963600@wandelstadt-esslingen.de
SUMMARY:Treffen des Bündnis für Klimagerechtigkeit
DESCRIPTION:Herzliche Einladung mit uns aktiv zu sein \nJa\, wir wollen noch mehr bewegen in Esslingen und laden Sie herzlich ein\, sich gemeinsam mit uns für den nötigen ökologischen\, ökonomischen\, sozialen und kulturellen Wandel zu engagieren. Wir freuen uns sowohl auf neue Gruppen wie auch auf Einzelpersonen\, die sich gerne einbringen möchten! \nHier vor Ort können wir in Esslingen die Veränderung leben\, die wir uns für unsere Welt wünschen. Wir treffen uns als gesamtes Bündnis in der Regel jeden zweiten Montagabend im Monat um 19 Uhr online\, um zu planen\, zu organisieren\, zu berichten und unsere Erfolge zu teilen. Herzliche Einladung an neue Mitmacher:innen uns ganz unverbindlich kennenzulernen! \n  \nIhr Kontakt zu uns: \nThomas Albrecht \ninfo@klimagerechtigkeit-esslingen.de \nwww.klimagerechtigkeit-esslingen.de
URL:https://wandelstadt-esslingen.de/event/treffen-des-buendnis-fuer-klimagerechtigkeit-5/2024-11-18/
LOCATION:Forum Esslingen – Zentrum für Bürgerengagement\, Schelztorstraße 38\, Esslingen\, Deutschland
ATTACH;FMTTYPE=image/jpeg:https://wandelstadt-esslingen.de/wp-content/uploads/2022/07/klimagerechtig-esslingen.jpg
ORGANIZER;CN="B%C3%BCndnis f%C3%BCr Klimagerechtigkeit Esslingen":MAILTO:info@klimagerechtigkeit-esslingen.de
END:VEVENT
BEGIN:VEVENT
DTSTART;TZID=Europe/Berlin:20241119T170000
DTEND;TZID=Europe/Berlin:20241119T190000
DTSTAMP:20260422T065344
CREATED:20240819T152750Z
LAST-MODIFIED:20260201T184829Z
UID:10003969-1732035600-1732042800@wandelstadt-esslingen.de
SUMMARY:Öffnung der Nutzpflanzenbibliothek - Transition Town Esslingen
DESCRIPTION:Die Esslinger Nutzpflanzenbibliothek öffnet ihre Schatzkiste zur Ausleihe und Rückgabe als offenes Angebot in der Esslinger Stadtbücherei. Ihr findet uns im 1.OG in der Mitte. Jede*r kann Nutzer*in unserer Tomatenvielfalt werden und mithelfen die über 150 samenfesten Sorten zu erhalten. Eine Mitgliedschaft in der Stadtbücherei ist nicht erforderlich. Mehr Infos unter www.transition-town-es.de
URL:https://wandelstadt-esslingen.de/event/oeffnung-der-nutzpflanzenbibliothek/2024-11-19/
LOCATION:Stadtbibliothek\, Heugasse 9\, Esslingen\, Deutschland
ORGANIZER;CN="Transition Town Esslingen - Stadt im Wandel":MAILTO:kontakt@transition-town-es.de
END:VEVENT
BEGIN:VEVENT
DTSTART;TZID=Europe/Berlin:20241119T190000
DTEND;TZID=Europe/Berlin:20241119T210000
DTSTAMP:20260422T065344
CREATED:20241101T080753Z
LAST-MODIFIED:20241101T150656Z
UID:10004407-1732042800-1732050000@wandelstadt-esslingen.de
SUMMARY:Energieabend: Ist Ihr Haus fit für die Zulunft?
DESCRIPTION:Die Regionalgruppe Esslingen der Teckwerke Bürgerenergie lädt Sie \nherzlich ein zu unserem nächsten Energieabend am 19. November um 19 Uhr\nim Mehrgenerationenhaus in Esslingen-Pliensauvorstadt.\nBis 2040 soll klimaneutral erzeugte Wärme für alle Wohngebäude zur\nVerfügung stehen – über Wärmenetze\, die mit Umweltwärme gespeist werden\,\noder durch Wärmepumpen\, die mit Ökostrom betrieben werden. Lohnt es sich\nda überhaupt noch\, das eigene Haus energetisch zu sanieren? Und macht es\nökologisch Sinn? Immerhin müssen Dämmstoffe und neue Fenster ja auch\nerst einmal mit Energieeinsatz produziert werden. Prof. Markus Binder\nzeigt\, wie wirtschaftliche und im Hinblick auf den Klimaschutz sinnvolle\nLösungen aussehen können – und welche Vorteile über die reine\nEnergieeinsparung hinaus es hat\, das eigene Haus fit für die Zukunft zu\nmachen.\nIm zweiten Teil der Veranstaltung zeigt und erklärt uns Dr. Petra\nKnupfer wie ihr Haus aus den 30er Jahren energetisch saniert und zum\nNiedrigenergiehaus umgebaut wurde. Sie erläutert uns die Maßnahmen\, die\nim Rahmen der Sanierung erfolgten\, wie Dämmung von Hauswänden\,\nKellerdecke\, Fußbodenheizung bzw. Wandheizung. Es wurden neue Fenster\nmit 3fach-Verglasung eingebaut sowie Solarthermie für\nHeisswasser/Heizung kombiniert mit Gas-Brennwert-Heizung. Das Fazit bzw.\ndie Vorteile der energetischen Sanierung zum Niedrigenergiehaus erfahren\nSie an unserem Energieabend. \nWir freuen uns auf Ihr Kommen und bitten um Anmeldung unter:\nenergie@klimagerechtigkeit-esslingen.de
URL:https://wandelstadt-esslingen.de/event/energieabend-ist-ihr-haus-fit-fuer-die-zulunft/
LOCATION:Mehrgenerationen- und Bürgerhaus Pliensauvorstadt\, Weilstr. 8\, Esslingen am Neckar\, Baden Württemberg\, 73734\, Deutschland
CATEGORIES:Infoveranstaltung
ORGANIZER;CN="Regionalgruppe Esslingen der Teckwerke B%C3%BCrgerenergie":MAILTO:esslingen@teckwerke.de
END:VEVENT
BEGIN:VEVENT
DTSTART;TZID=Europe/Berlin:20241119T191500
DTEND;TZID=Europe/Berlin:20241119T201500
DTSTAMP:20260422T065344
CREATED:20240520T091234Z
LAST-MODIFIED:20260106T174409Z
UID:10004016-1732043700-1732047300@wandelstadt-esslingen.de
SUMMARY:Inklusive Lachyoga-Gruppe
DESCRIPTION:Lachen ist nicht nur gesund\, sondern auch ansteckend. Und genau darum geht es bei Lachyoga. Gemeinsam lachen und sich gut fühlen\, Stress abbauen und entspannen. Zudem stärkt Lachen die Gesundheit. \n\n\n\n\n\nWann:\nDienstags von 19:15 – 20:15 Uhr\nEinstieg jederzeit möglich!\nKeine Anmeldung erforderlich.\n\n\n\nFür wen:\nFür (fast) jeden geeignet\, da Lachyoga keine schwierigen körperlichen Übungen beinhaltet.\n(siehe Details zur Barrierefreiheit)\n\n\nKursleitung:\nSusanne Klaus (Lachyoga Master Trainerin\, Stuttgarter Lachschule)\n\n\nKosten:\nkeine (freiwillige Spendenbasis)\n\n\nMitzubringen:\netwas zum Trinken
URL:https://wandelstadt-esslingen.de/event/inklusive-lachyoga-gruppe/2024-11-19/
LOCATION:Forum Esslingen – Zentrum für Bürgerengagement\, Schelztorstraße 38\, Esslingen\, Deutschland
ATTACH;FMTTYPE=image/jpeg:https://wandelstadt-esslingen.de/wp-content/uploads/2024/05/Lachyoga-Gruppe_Forum-Esslingen_16-9-scaled.jpg
ORGANIZER;CN="InklusivES - Der Esslinger Stammtisch zum Thema Inklusion":MAILTO:c.lira@inklusives.de
END:VEVENT
BEGIN:VEVENT
DTSTART;TZID=Europe/Berlin:20241120T180000
DTEND;TZID=Europe/Berlin:20241120T210000
DTSTAMP:20260422T065344
CREATED:20240628T154510Z
LAST-MODIFIED:20251125T194322Z
UID:10003074-1732125600-1732136400@wandelstadt-esslingen.de
SUMMARY:Kunststoff-Lab
DESCRIPTION:Positiv gegen Kunststoffverschmutzung \nAn einen Alltag ohne Kunststoffe ist nicht mehr zu denken. Das Material hat nach wie vor wertvolle Eigenschaften\, die wir nach dem “Precious-Plastic-Modell“ in einer kleinen Kunststoffrecycling- Manufaktur einsetzen. “Precious-Plastic“ ist ein internationales Projekt. 2012 in den Niederlanden gestartet\, besteht mittlerweile aus einem globalen Netzwerk von Workspaces. Das Komma in Esslingen ist mit dem @preciousplastic_esslingen Teil dieser Bewegung. 2021 bauten wir unsere Werkstatt mit Maschinen zur Plastikverarbeitung auf. Der Mehrwert des Projektes ist es\, die Möglichkeiten und Grenzen des „Selber-Machens“ selbst zu erfahren\, und zwar in einem für die Kreativität und Empowerment sicheren Ort. \nAus Abfall entsteht ein neuer Rohstoff\, aus dem du eigene Werkstücke wie z. B. kleine Möbel\, Lampen\, Taschen und Schmuck kreieren kannst. Schau dir hier an\, was wir 2023 in der Workshopreihe gemacht haben. \nMit und für junge Menschen: Wir können uns nicht mehr anhören\, wie schlecht die Klimakrise ist. Wir wollen was dagegen machen! Was würdest du daraus machen? \n  \nOffene Kunststoffwerkstatt \nAb Mai 2024 steht immer Mittwochs die offene Kunstwerkstatt für die Einführung in die „Precious-Plastic-Welt“\, die Kunststoffverarbeitung und Materialexperimente zur Verfügung. Plastik wird sortiert\, geschreddert und eingeschmolzen. \nHast du es zum letzten Workshop nicht geschafft und wolltest dir immer Schmuck selber machen? Oder einfach mal mehr über die Kunststoffwerkstatt wissen? Oder hast du sogar ein eigenes Projekt im Kopf\, das du mit Kunststoffplatten versuchen möchtest? Dann ist die offene Werkstatt genau richtig für dich. \nSolltest du es unter der Woche nicht schaffen\, gibt es ab Juni 2024 auch immer am  1. Samstag im Monat die offene Werkstatt. Die Nutzung der Werkstatt ist kostenlos. An den genannten Terminen kannst du ohne Anmeldung teilnehmen.  Ausnahmen aufgrund von Komma Veranstaltungen werden über die Internetseite des Mittwochs geteilt. \nMaterial falls nicht selbst gesammelt\, ist auf Spendenbasis verfügbar\, solange Vorrat reicht. Hier findest du ein How-to-collect\, damit du schauen kannst\, was wir in der Werkstatt grundsätzlich verwenden können. \nEinführungen in die Precious-Plastic-Welt sind auf Deutsch\, Englisch und Spanisch möglich. Hast du noch Fragen? Schreib uns gerne eine Nachricht an plastic@komma.info oder komm einfach vorbei! \nDie Teilnahme ist kostenlos\, wir bitten um Anmeldung per Mail an plastic@komma.info. \nKollabs und Netzwerk \nGroßes Potenzial liegt in unserer interdisziplinären Zusammenarbeit – sowohl im Komma-Team als auch in Kooperationen. Wir arbeiten mit Schulen\, Hochschulen\, Designer*innen\, Initiativen\, Werkstätten und andere Precious Plastics Gruppen auf der Welt zusammen. Hast du eine Idee zu einer Kollaboration? Schreib uns gerne an plastic@komma.info. \nFunfäct \n„The Bänk“\, unser erstes Projekt\, hat es in die Endrunde der RoGUILTLESSPLASTIC Awards geschafft und wurde bei der Mailänder Designwoche (Juni 2022) ausgestellt. Wie das gebaut wurde\, findest du im Video. \nTagesaktuelle Informationen und Workshop-Angebote finden sich auf Instagram @preciousplastic_esslingen \n 
URL:https://wandelstadt-esslingen.de/event/https-www-komma-info-precious-plastic/2024-11-20/
LOCATION:KOMMA\, Maille 5-9\, Esslingen\, Deutschland
END:VEVENT
BEGIN:VEVENT
DTSTART;TZID=Europe/Berlin:20241120T193000
DTEND;TZID=Europe/Berlin:20241120T210000
DTSTAMP:20260422T065344
CREATED:20240206T112222Z
LAST-MODIFIED:20240206T113330Z
UID:10001945-1732131000-1732136400@wandelstadt-esslingen.de
SUMMARY:ES GRÜNT!
DESCRIPTION:Esslingen: eine Stadt kühlt grün\nGlobal denken und regional handeln\, das ist unser Leitspruch. \nKomm gerne vorbei und schreib uns eine Mail an mitmachen@es-gruent.de\, damit wir dir den Ort mitteilen können.
URL:https://wandelstadt-esslingen.de/event/es-gruent-3/2024-11-20/
ATTACH;FMTTYPE=image/jpeg:https://wandelstadt-esslingen.de/wp-content/uploads/2022/10/giesspaten_Natalia_Rak_Girl_with_water_can_Bialystok.jpg
ORGANIZER;CN="ES gr%C3%BCnt":MAILTO:mitmachen@es-gruent.de
END:VEVENT
BEGIN:VEVENT
DTSTART;TZID=Europe/Berlin:20241121T140000
DTEND;TZID=Europe/Berlin:20241121T160000
DTSTAMP:20260422T065344
CREATED:20241103T115329Z
LAST-MODIFIED:20241103T115359Z
UID:10004411-1732197600-1732204800@wandelstadt-esslingen.de
SUMMARY:Wollwerkstatt
DESCRIPTION:Egal ob du Lust auf häkeln\, stricken\, knüpfen\, weben o.ä. hast. Komm vorbei\, lerne etwas neues oder bring deine angefangenen Projekte mit. \nHäkel- und Stricknadeln sowie Wolle sind vor Ort. \nVorbeikommen jederzeit möglich.
URL:https://wandelstadt-esslingen.de/event/wollwerkstat/
LOCATION:eva’s Ottilie\, Ottilienplatz 3\, Esslingen\, 73728
ORGANIZER;CN="eva's Ottilie":MAILTO:evas-ottilie-es@eva-stuttgart.de
END:VEVENT
BEGIN:VEVENT
DTSTART;TZID=Europe/Berlin:20241121T180000
DTEND;TZID=Europe/Berlin:20241121T184500
DTSTAMP:20260422T065344
CREATED:20240926T191649Z
LAST-MODIFIED:20240926T192257Z
UID:10004033-1732212000-1732214700@wandelstadt-esslingen.de
SUMMARY:Wahl Bürgerausschuss Pliensauvorstadt
DESCRIPTION:Die Einwohnerversammlungen wurden 2023 neu konzipiert und modernisiert. Über eine Beteiligungsplattform können Sie \n\n\nThemenvorschläge für die Einwohnerversammlungen bereits im Vorfeld einreichen\nüber die eingereichten\, thematisch zusammengefassten Vorschläge online abstimmen\nIhre Kandidatur für den Bürgerausschuss einreichen\nonline für Ihre Kandidatin\, Ihren Kandidaten abstimmen\n\n\n\n\n\n\n\n\n\n\n\n\n\n\nDie Beteiligungsplatform findet sich hier. \n\n\n\n\nKandidieren\n11. bis 25. Oktober\njeweils 12 Uhr \n\n\n\n\nOnline wählen\n7. November\, 12 Uhr bis\n17. November\, 18 Uhr \n\n\n\n\nWahl vor Ort\nVon 18 Uhr bis 18:45 Uhr können Sie vor der Veranstaltung noch wählen! Bringen Sie dazu einen gültigen Ausweis mit. \n\n\nBekanntgabe dann auf der Einwohnerversammlung ab 19 Uhr\, zu der auch zuvor Themen eingereicht werden können.
URL:https://wandelstadt-esslingen.de/event/wahl-buergerausschuss-pliensauvorstadt/
LOCATION:Saal der katholischen Kirchgemeinde St. Elisabeth\, Häuserhaldenweg 38\, Esslingen am Neckar\, 73734\, Deutschland
CATEGORIES:Beteiligung
END:VEVENT
BEGIN:VEVENT
DTSTART;TZID=Europe/Berlin:20241121T180000
DTEND;TZID=Europe/Berlin:20241121T220000
DTSTAMP:20260422T065344
CREATED:20241113T175750Z
LAST-MODIFIED:20241113T175750Z
UID:10004413-1732212000-1732226400@wandelstadt-esslingen.de
SUMMARY:langes ZuZule-Second-Hand-Wochenende Donnerstag bis Sonntag 21.-24. November 2024
DESCRIPTION:Bring Dein eigenes Mehrweg Geschirr mit – DANKE! \n\nSecondhand-Artikel aller Art\nWeihnachts-Deko\nDIY Fr + So für Erw. & Kids\nFernanda Tarrech spielt live Freitag 18:30-19:30 Uhr >>> https://www.youtube.com/@fernandatarrech?app=desktop\nChill-Ecke + Interaktives\nEssen + Getränke + Musik\nFr + Sa pflanzlich lecker: Leberkäse & Pancakes\nWinter-Mützen\nu.v.m.\n\n \n 
URL:https://wandelstadt-esslingen.de/event/langes-zuzule-second-hand-wochenende-donnerstag-bis-sonntag-21-24-november-2024/
LOCATION:Langheck\, Ulmerstrasse 34\, Esslingen\, Baden Württemberg\, 73728
ORGANIZER;CN="ZuZule":MAILTO:zuzule@mail.de
END:VEVENT
BEGIN:VEVENT
DTSTART;TZID=Europe/Berlin:20241121T190000
DTEND;TZID=Europe/Berlin:20241121T190000
DTSTAMP:20260422T065344
CREATED:20240628T160749Z
LAST-MODIFIED:20240629T175416Z
UID:10003584-1732215600-1732215600@wandelstadt-esslingen.de
SUMMARY:Fahrradwerkstatt
DESCRIPTION:Wir unterstützen Dich\, wenn Dein Fahrrad nicht mehr tut was es soll.\nFalls Ihr Interesse und Bedarf an unserer Fahrradwerkstatt habt\, meldet Euch per Mail: info@komma. \nVerantwortlich für die Werkstatt ist der Motorradclub Kuhle Wampe. Sie sind ein basisdemokratisch organisierter Motorradclub mit Sitz im Komma und sie betreiben eine Zweiradwerkstatt. Jeden Donnerstag ist die Fahrradwerkstatt geöffnet – bei gutem Wetter wird möglicherweise auch gegrillt.
URL:https://wandelstadt-esslingen.de/event/fahrrad-werkstatt/2024-11-21/
LOCATION:KOMMA\, Maille 5-9\, Esslingen\, Deutschland
END:VEVENT
BEGIN:VEVENT
DTSTART;TZID=Europe/Berlin:20241121T190000
DTEND;TZID=Europe/Berlin:20241121T190000
DTSTAMP:20260422T065344
CREATED:20240926T192102Z
LAST-MODIFIED:20240926T192249Z
UID:10004035-1732215600-1732215600@wandelstadt-esslingen.de
SUMMARY:Einwohnerversammlung Pliensauvorstadt
DESCRIPTION:Die Einwohnerversammlungen wurden 2023 neu konzipiert und modernisiert. Über eine Beteiligungsplattform können Sie \n\n\nThemenvorschläge für die Einwohnerversammlungen bereits im Vorfeld einreichen\nüber die eingereichten\, thematisch zusammengefassten Vorschläge online abstimmen\nIhre Kandidatur für den Bürgerausschuss einreichen\nonline für Ihre Kandidatin\, Ihren Kandidaten abstimmen\n\n\n\n\n\n\n\n\n\n\n\n\n\n\nDie Beteiligungsplatform findet sich hier. \n\n\nThemen vorschlagen und wählen\nAuf die Tagesordnung kommen die drei Themen\, die dort die meisten Stimmen erhalten. \n\n\n\n\nThemen vorschlagen\n2. bis 10. Oktober\njeweils 12 Uhr \n\n\n\n\nThemen abstimmen\n11. bis 18. Oktober\njeweils 12 Uhr
URL:https://wandelstadt-esslingen.de/event/einwohnerversammlung-pliensauvorstadt/
LOCATION:Saal der katholischen Kirchgemeinde St. Elisabeth\, Häuserhaldenweg 38\, Esslingen am Neckar\, 73734\, Deutschland
CATEGORIES:Beteiligung
END:VEVENT
BEGIN:VEVENT
DTSTART;TZID=Europe/Berlin:20241122T140000
DTEND;TZID=Europe/Berlin:20241122T160000
DTSTAMP:20260422T065344
CREATED:20240208T160917Z
LAST-MODIFIED:20250424T162425Z
UID:10002500-1732284000-1732291200@wandelstadt-esslingen.de
SUMMARY:Beratung Esslinger Initiative
DESCRIPTION:Das Leben vom guten Ende her denken.\n\n\n\n\n\n\n\n\n\n\n\n\n\n\n\n\n\n\n\n\nFreitags 14 bis 16 Uhr kostenlose Beratungen der Esslinger Initiative e.V.\nAnmeldung; Fr 9-11 Uhr über Tel. 0711/357420 \nJa das ist unangenehm\, wo doch jetzt Leben dran ist. Scheint doch auch logisch zu sein es so anzugehen wie Heinz Erhardt seine Gedichte anfing „Ich fang mal mit dem Anfang an“.\n„Das Leben vom guten Ende her denken“ ist quasi das Motto der Esslinger Initiative um die es hier heute geht. Sie selbst bezeichnet sich als \n„Eine Initiative für die Wahrung von Menschenwürde und Selbstbestimmung im Alter und bei Krankheit“\, ausgehend von der Frage: „ \nWie kann das Selbstbestimmungsrecht im Alter und bei Krankheit – also in schwierigen Lebensphasen – erhalten werden?“. \nDie Esslinger Initiative … \n\nsetzt sich ein für einen menschenwürdigen Umgang mit Schwerstkranken und Sterbenden\nfördert die Verbesserung der medizinischen und pflegerischen Versorgung Schwerstkranker und Sterbender (Palliative Care)\ntritt ein für die Wahrung des Selbstbestimmungsrechts im Gesundheitswesen und in der Altenpflege\nwirbt für ihre Anliegen in öffentlichen Veranstaltungen\nbietet Beratungen zur Vorsorge an\nstellt Formulare zur Vorsorge zur Verfügung\nschult Ehrenamtliche zu kompetenten Beraterinnen und Beratern und bildet diese regelmäßig weiter\nunterstützt die Durchsetzung einer vorsorgenden Gesundheitsplanung (ACP)\n\n  \nDas besondere Angebot der Esslinger Initiative ist eine kostenlose und unabhängige Beratung zur Vorsorge\, abgestimmt auf die ganz persönliche Situation. Beratungsstellen im gesamten Landkreis Esslingen und darüber hinaus bieten diese Hilfe an.\nDas Ende geht alle an – ein Angebot an alle über 18!
URL:https://wandelstadt-esslingen.de/event/beratung-esslinger-initiative-bitte-vorab-anmelden/2024-11-22/
LOCATION:Forum Esslingen – Zentrum für Bürgerengagement\, Schelztorstraße 38\, Esslingen\, Deutschland
ORGANIZER;CN="Esslinger Initiative e.V.":MAILTO:news@esslinger-initiative.de
END:VEVENT
BEGIN:VEVENT
DTSTART;TZID=Europe/Berlin:20241122T150000
DTEND;TZID=Europe/Berlin:20241122T210000
DTSTAMP:20260422T065344
CREATED:20241113T180228Z
LAST-MODIFIED:20241113T180228Z
UID:10004414-1732287600-1732309200@wandelstadt-esslingen.de
SUMMARY:langes ZuZule-Second-Hand-Wochenende Donnerstag bis Sonntag 21.-24. November 2024
DESCRIPTION:Bring Dein eigenes Mehrweg Geschirr mit – DANKE! \n\nSecondhand-Artikel aller Art\nWeihnachts-Deko\nDIY Fr + So für Erw. & Kids\nFernanda Tarrech spielt live Freitag 18:30-19:30 Uhr >>> https://www.youtube.com/@fernandatarrech?app=desktop\nChill-Ecke + Interaktives\nEssen + Getränke + Musik\nFr + Sa pflanzlich lecker: Leberkäse & Pancakes\nWinter-Mützen\nu.v.m.\n\n \n 
URL:https://wandelstadt-esslingen.de/event/langes-zuzule-second-hand-wochenende-donnerstag-bis-sonntag-21-24-november-2024-2/
LOCATION:Langheck\, Ulmerstrasse 34\, Esslingen\, Baden Württemberg\, 73728
ORGANIZER;CN="ZuZule":MAILTO:zuzule@mail.de
END:VEVENT
BEGIN:VEVENT
DTSTART;TZID=Europe/Berlin:20241123T100000
DTEND;TZID=Europe/Berlin:20241123T150000
DTSTAMP:20260422T065344
CREATED:20241021T205220Z
LAST-MODIFIED:20241021T205220Z
UID:10004392-1732356000-1732374000@wandelstadt-esslingen.de
SUMMARY:Umnutzung von PV-Altmodulen zu Steckersolargeräten
DESCRIPTION:Vortrag zur Einführung in Steckersolargeräte \nUmnutzung von PV-Altmodulen unter Anleitung des Repair Cafés Esslingen\, des Klimagerechtigkeitsbündnisses Esslingen und des Repair Cafés Beuren \nFragen & Diskussion \nAlle Infos und Anmeldung: https://forms.office.com/Pages/ResponsePage.aspx?id=SlqM9qy-HEuBkEf_WMJbB6rHWlGjj9tCuw7PFiAw07tUNlVDMzBBREpZVFNUN0hQRTBNMzZJVkxQRyQlQCN0PWcu
URL:https://wandelstadt-esslingen.de/event/umnutzung-von-pv-altmodulen-zu-steckersolargeraeten/
LOCATION:Kulturzentrum Dieselstraße\, Dieselstraße 26\, Esslingen\, Deutschland
END:VEVENT
BEGIN:VEVENT
DTSTART;TZID=Europe/Berlin:20241123T140000
DTEND;TZID=Europe/Berlin:20241123T220000
DTSTAMP:20260422T065344
CREATED:20241113T180539Z
LAST-MODIFIED:20241113T180539Z
UID:10004415-1732370400-1732399200@wandelstadt-esslingen.de
SUMMARY:langes ZuZule-Second-Hand-Wochenende Donnerstag bis Sonntag 21.-24. November 2024
DESCRIPTION:Bring Dein eigenes Mehrweg Geschirr mit – DANKE! \n\nSecondhand-Artikel aller Art\nWeihnachts-Deko\nDIY Fr + So für Erw. & Kids\nFernanda Tarrech spielt live Freitag 18:30-19:30 Uhr >>> https://www.youtube.com/@fernandatarrech?app=desktop\nChill-Ecke + Interaktives\nEssen + Getränke + Musik\nFr + Sa pflanzlich lecker: Leberkäse & Pancakes\nWinter-Mützen\nu.v.m.\n\n \n 
URL:https://wandelstadt-esslingen.de/event/langes-zuzule-second-hand-wochenende-donnerstag-bis-sonntag-21-24-november-2024-3/
LOCATION:Langheck\, Ulmerstrasse 34\, Esslingen\, Baden Württemberg\, 73728
ORGANIZER;CN="ZuZule":MAILTO:zuzule@mail.de
END:VEVENT
BEGIN:VEVENT
DTSTART;TZID=Europe/Berlin:20241124T120000
DTEND;TZID=Europe/Berlin:20241124T160000
DTSTAMP:20260422T065344
CREATED:20241113T181315Z
LAST-MODIFIED:20241113T181315Z
UID:10004417-1732449600-1732464000@wandelstadt-esslingen.de
SUMMARY:langes ZuZule-Second-Hand-Wochenende Donnerstag bis Sonntag 21.-24. November 2024
DESCRIPTION:Bring Dein eigenes Mehrweg Geschirr mit – DANKE! \n\nSecondhand-Artikel aller Art\nWeihnachts-Deko\nDIY Fr + So für Erw. & Kids\nFernanda Tarrech spielt live Freitag 18:30-19:30 Uhr >>> https://www.youtube.com/@fernandatarrech?app=desktop\nChill-Ecke + Interaktives\nEssen + Getränke + Musik\nFr + Sa pflanzlich lecker: Leberkäse & Pancakes\nWinter-Mützen\nu.v.m.\n\n 
URL:https://wandelstadt-esslingen.de/event/langes-zuzule-second-hand-wochenende-donnerstag-bis-sonntag-21-24-november-2024-4/
LOCATION:Langheck\, Ulmerstrasse 34\, Esslingen\, Baden Württemberg\, 73728
ORGANIZER;CN="ZuZule":MAILTO:zuzule@mail.de
END:VEVENT
BEGIN:VEVENT
DTSTART;TZID=Europe/Berlin:20241124T140000
DTEND;TZID=Europe/Berlin:20241124T140000
DTSTAMP:20260422T065344
CREATED:20240505T114927Z
LAST-MODIFIED:20240505T114927Z
UID:10002862-1732456800-1732456800@wandelstadt-esslingen.de
SUMMARY:Queeres Treffen im Park
DESCRIPTION:Willkommen beim Queeren Treff im Maille Park! ☀️ \nJeden 4. Sonntag im Monat ab 14 Uhr kommen wir zusammen\, um in entspannter Atmosphäre zu plaudern\, Spiele zu spielen und vieles mehr zu erleben. \nAlle sind herzlich willkommen! 🫶 \nBitte beachtet\, dass bei regnerischem Wetter 🌧 der Treff wahrscheinlich abgesagt wird. Aktuelle Informationen dazu findet ihr auf unserem Instagram-Account QueerES e.V. \nFalls du Fragen hast oder dich nicht alleine hintraust\, kannst du dich gerne im Voraus melden. Wir freuen uns darauf\, gemeinsam Zeit zu verbringen und uns auszutauschen! 😊
URL:https://wandelstadt-esslingen.de/event/queeres-treffen-im-park/2024-11-24/
LOCATION:Maillepark\, Wehrneckarstraße\, Esslingen\, 73728
CATEGORIES:Gemütliches Treffen,Vernetzungsveranstaltung
ATTACH;FMTTYPE=image/jpeg:https://wandelstadt-esslingen.de/wp-content/uploads/2024/05/IMG-20240505-WA0001-scaled.jpg
END:VEVENT
END:VCALENDAR