BEGIN:VCALENDAR
VERSION:2.0
PRODID:-//Wandelstadt Esslingen - ECPv6.15.20//NONSGML v1.0//EN
CALSCALE:GREGORIAN
METHOD:PUBLISH
X-WR-CALNAME:Wandelstadt Esslingen
X-ORIGINAL-URL:https://wandelstadt-esslingen.de
X-WR-CALDESC:Veranstaltungen für Wandelstadt Esslingen
REFRESH-INTERVAL;VALUE=DURATION:PT1H
X-Robots-Tag:noindex
X-PUBLISHED-TTL:PT1H
BEGIN:VTIMEZONE
TZID:Europe/Berlin
BEGIN:DAYLIGHT
TZOFFSETFROM:+0100
TZOFFSETTO:+0200
TZNAME:CEST
DTSTART:20230326T010000
END:DAYLIGHT
BEGIN:STANDARD
TZOFFSETFROM:+0200
TZOFFSETTO:+0100
TZNAME:CET
DTSTART:20231029T010000
END:STANDARD
BEGIN:DAYLIGHT
TZOFFSETFROM:+0100
TZOFFSETTO:+0200
TZNAME:CEST
DTSTART:20240331T010000
END:DAYLIGHT
BEGIN:STANDARD
TZOFFSETFROM:+0200
TZOFFSETTO:+0100
TZNAME:CET
DTSTART:20241027T010000
END:STANDARD
BEGIN:DAYLIGHT
TZOFFSETFROM:+0100
TZOFFSETTO:+0200
TZNAME:CEST
DTSTART:20250330T010000
END:DAYLIGHT
BEGIN:STANDARD
TZOFFSETFROM:+0200
TZOFFSETTO:+0100
TZNAME:CET
DTSTART:20251026T010000
END:STANDARD
END:VTIMEZONE
BEGIN:VEVENT
DTSTART;TZID=Europe/Berlin:20241014T183000
DTEND;TZID=Europe/Berlin:20241014T183000
DTSTAMP:20260422T143822
CREATED:20240922T073027Z
LAST-MODIFIED:20240922T073027Z
UID:10004021-1728930600-1728930600@wandelstadt-esslingen.de
SUMMARY:Energietour der Teckwerke Bürgerenergie Genossenschaft
DESCRIPTION:Energietour der Teckwerke Bürgerenergie Genossenschaft – Menschen für erneuerbare Energien in Bürgerhand begeistern \nDie Teckwerke Bürgerenergie eG startet am 8. Oktober mit einer neuen Veranstaltungsreihe\, die sich der Förderung von erneuerbaren Energien in Bürgerhand widmet. Unter dem Motto „Energiewende in Bürgerhand“\nmöchten sie Menschen dazu ermutigen\, aktiv an der Umsetzung der Energiewende teilzunehmen und sich an nachhaltigen Energieprojekten zu beteiligen. \nEine der sechs Stationen der Energietour ist in Esslingen \nam 14. Oktober um 18:30 Uhr \nin der Schickhardt-Halle\, Altes Rathaus. \nDazu lädt die Regionalgruppe Esslingen herzlich ein. Alle Interessierten sind herzlich eingeladen\, an einem der Infoabende teilzunehmen\, um sich über die Möglichkeiten einer nachhaltigen Energiezukunft in Bürgerhand zu informieren. Der Eintritt ist Frei. \nIm Rahmen der Energietour bieten die Teckwerke Interessierten die Möglichkeit\, sich umfassend über aktuelle und geplante Projekte der Teckwerke Bürgerenergie eG zu informieren. Eines der Highlights ist der Windpark Länge\, der sechs Windkraftanlagen umfassen und ab 2025 etwa\n20.000 Haushalte mit sauberem Strom versorgen soll. Ebenso wird über spannende Photovoltaikprojekte gesprochen\, die bereits im Jahr 2024 in Betrieb genommen werden.
URL:https://wandelstadt-esslingen.de/event/energietour-der-teckwerke-buergerenergie-genossenschaft/
LOCATION:Altes Rathaus Schickhardthalle\, Rathausplatz 1\, Esslingen\, 73728
CATEGORIES:Infoveranstaltung
ATTACH;FMTTYPE=image/jpeg:https://wandelstadt-esslingen.de/wp-content/uploads/2024/09/signal-2024-09-20-173148.jpeg
END:VEVENT
BEGIN:VEVENT
DTSTART;TZID=Europe/Berlin:20241015T170000
DTEND;TZID=Europe/Berlin:20241015T210000
DTSTAMP:20260422T143822
CREATED:20240529T111852Z
LAST-MODIFIED:20240603T153704Z
UID:10003020-1729011600-1729026000@wandelstadt-esslingen.de
SUMMARY:Sicher. Stark. Nein heißt Nein! - Kurs für Frauen ab 16 Jahren
DESCRIPTION:Lerne im geschützten Raum\, wie du gefährliche Situationen rechtzeitig erkennst und dich erfolgreich schützen kannst! \nEine Polizeibeamtin und ein Anti-Gewalt-Trainer geben dir Tipps für selbstbewusste Körpersprache\, klare Kommunikation sowie Strategien zur Deeskalation und Zivilcourage. \nDer Kurs ist für die Teilnehmerinnen kostenlos. \nVerbindliche Anmeldung bis 8. Oktober 2024 unter: https://apps.esslingen.de/Veranstaltungen/Anmeldung?Nr=39 \n©Fotini Tikkou – stock.adobe.com \nNoch Fragen? Schreib uns an:
URL:https://wandelstadt-esslingen.de/event/sicher-stark-nein-heisst-nein-kurs-fuer-frauen-ab-16-jahren-2/
LOCATION:Stiftung Jugendhilfe aktiv\, Mülbergerstr. 146\, Esslingen am Neckar\, 73728\, Deutschland
END:VEVENT
BEGIN:VEVENT
DTSTART;TZID=Europe/Berlin:20241015T190000
DTEND;TZID=Europe/Berlin:20241015T210000
DTSTAMP:20260422T143822
CREATED:20241011T155448Z
LAST-MODIFIED:20241011T155448Z
UID:10004190-1729018800-1729026000@wandelstadt-esslingen.de
SUMMARY:Treffen Regionalgruppe Esslingen
DESCRIPTION:
URL:https://wandelstadt-esslingen.de/event/treffen-regionalgruppe-esslingen/
LOCATION:Mehrgenerationen- und Bürgerhaus Pliensauvorstadt\, Weilstr. 8\, Esslingen am Neckar\, Baden Württemberg\, 73734\, Deutschland
ORGANIZER;CN="Regionalgruppe Esslingen der Teckwerke B%C3%BCrgerenergie":MAILTO:esslingen@teckwerke.de
END:VEVENT
BEGIN:VEVENT
DTSTART;TZID=Europe/Berlin:20241015T191500
DTEND;TZID=Europe/Berlin:20241015T201500
DTSTAMP:20260422T143822
CREATED:20240520T091234Z
LAST-MODIFIED:20260106T174409Z
UID:10004012-1729019700-1729023300@wandelstadt-esslingen.de
SUMMARY:Inklusive Lachyoga-Gruppe
DESCRIPTION:Lachen ist nicht nur gesund\, sondern auch ansteckend. Und genau darum geht es bei Lachyoga. Gemeinsam lachen und sich gut fühlen\, Stress abbauen und entspannen. Zudem stärkt Lachen die Gesundheit. \n\n\n\n\n\nWann:\nDienstags von 19:15 – 20:15 Uhr\nEinstieg jederzeit möglich!\nKeine Anmeldung erforderlich.\n\n\n\nFür wen:\nFür (fast) jeden geeignet\, da Lachyoga keine schwierigen körperlichen Übungen beinhaltet.\n(siehe Details zur Barrierefreiheit)\n\n\nKursleitung:\nSusanne Klaus (Lachyoga Master Trainerin\, Stuttgarter Lachschule)\n\n\nKosten:\nkeine (freiwillige Spendenbasis)\n\n\nMitzubringen:\netwas zum Trinken
URL:https://wandelstadt-esslingen.de/event/inklusive-lachyoga-gruppe/2024-10-15/
LOCATION:Forum Esslingen – Zentrum für Bürgerengagement\, Schelztorstraße 38\, Esslingen\, Deutschland
ATTACH;FMTTYPE=image/jpeg:https://wandelstadt-esslingen.de/wp-content/uploads/2024/05/Lachyoga-Gruppe_Forum-Esslingen_16-9-scaled.jpg
ORGANIZER;CN="InklusivES - Der Esslinger Stammtisch zum Thema Inklusion":MAILTO:c.lira@inklusives.de
END:VEVENT
BEGIN:VEVENT
DTSTART;TZID=Europe/Berlin:20241016T180000
DTEND;TZID=Europe/Berlin:20241016T210000
DTSTAMP:20260422T143822
CREATED:20240628T154510Z
LAST-MODIFIED:20251125T194322Z
UID:10003068-1729101600-1729112400@wandelstadt-esslingen.de
SUMMARY:Kunststoff-Lab
DESCRIPTION:Positiv gegen Kunststoffverschmutzung \nAn einen Alltag ohne Kunststoffe ist nicht mehr zu denken. Das Material hat nach wie vor wertvolle Eigenschaften\, die wir nach dem “Precious-Plastic-Modell“ in einer kleinen Kunststoffrecycling- Manufaktur einsetzen. “Precious-Plastic“ ist ein internationales Projekt. 2012 in den Niederlanden gestartet\, besteht mittlerweile aus einem globalen Netzwerk von Workspaces. Das Komma in Esslingen ist mit dem @preciousplastic_esslingen Teil dieser Bewegung. 2021 bauten wir unsere Werkstatt mit Maschinen zur Plastikverarbeitung auf. Der Mehrwert des Projektes ist es\, die Möglichkeiten und Grenzen des „Selber-Machens“ selbst zu erfahren\, und zwar in einem für die Kreativität und Empowerment sicheren Ort. \nAus Abfall entsteht ein neuer Rohstoff\, aus dem du eigene Werkstücke wie z. B. kleine Möbel\, Lampen\, Taschen und Schmuck kreieren kannst. Schau dir hier an\, was wir 2023 in der Workshopreihe gemacht haben. \nMit und für junge Menschen: Wir können uns nicht mehr anhören\, wie schlecht die Klimakrise ist. Wir wollen was dagegen machen! Was würdest du daraus machen? \n  \nOffene Kunststoffwerkstatt \nAb Mai 2024 steht immer Mittwochs die offene Kunstwerkstatt für die Einführung in die „Precious-Plastic-Welt“\, die Kunststoffverarbeitung und Materialexperimente zur Verfügung. Plastik wird sortiert\, geschreddert und eingeschmolzen. \nHast du es zum letzten Workshop nicht geschafft und wolltest dir immer Schmuck selber machen? Oder einfach mal mehr über die Kunststoffwerkstatt wissen? Oder hast du sogar ein eigenes Projekt im Kopf\, das du mit Kunststoffplatten versuchen möchtest? Dann ist die offene Werkstatt genau richtig für dich. \nSolltest du es unter der Woche nicht schaffen\, gibt es ab Juni 2024 auch immer am  1. Samstag im Monat die offene Werkstatt. Die Nutzung der Werkstatt ist kostenlos. An den genannten Terminen kannst du ohne Anmeldung teilnehmen.  Ausnahmen aufgrund von Komma Veranstaltungen werden über die Internetseite des Mittwochs geteilt. \nMaterial falls nicht selbst gesammelt\, ist auf Spendenbasis verfügbar\, solange Vorrat reicht. Hier findest du ein How-to-collect\, damit du schauen kannst\, was wir in der Werkstatt grundsätzlich verwenden können. \nEinführungen in die Precious-Plastic-Welt sind auf Deutsch\, Englisch und Spanisch möglich. Hast du noch Fragen? Schreib uns gerne eine Nachricht an plastic@komma.info oder komm einfach vorbei! \nDie Teilnahme ist kostenlos\, wir bitten um Anmeldung per Mail an plastic@komma.info. \nKollabs und Netzwerk \nGroßes Potenzial liegt in unserer interdisziplinären Zusammenarbeit – sowohl im Komma-Team als auch in Kooperationen. Wir arbeiten mit Schulen\, Hochschulen\, Designer*innen\, Initiativen\, Werkstätten und andere Precious Plastics Gruppen auf der Welt zusammen. Hast du eine Idee zu einer Kollaboration? Schreib uns gerne an plastic@komma.info. \nFunfäct \n„The Bänk“\, unser erstes Projekt\, hat es in die Endrunde der RoGUILTLESSPLASTIC Awards geschafft und wurde bei der Mailänder Designwoche (Juni 2022) ausgestellt. Wie das gebaut wurde\, findest du im Video. \nTagesaktuelle Informationen und Workshop-Angebote finden sich auf Instagram @preciousplastic_esslingen \n 
URL:https://wandelstadt-esslingen.de/event/https-www-komma-info-precious-plastic/2024-10-16/
LOCATION:KOMMA\, Maille 5-9\, Esslingen\, Deutschland
END:VEVENT
BEGIN:VEVENT
DTSTART;TZID=Europe/Berlin:20241016T193000
DTEND;TZID=Europe/Berlin:20241016T210000
DTSTAMP:20260422T143822
CREATED:20240206T112222Z
LAST-MODIFIED:20240206T113330Z
UID:10004599-1729107000-1729112400@wandelstadt-esslingen.de
SUMMARY:ES GRÜNT!
DESCRIPTION:Esslingen: eine Stadt kühlt grün\nGlobal denken und regional handeln\, das ist unser Leitspruch. \nKomm gerne vorbei und schreib uns eine Mail an mitmachen@es-gruent.de\, damit wir dir den Ort mitteilen können.
URL:https://wandelstadt-esslingen.de/event/es-gruent-3/2024-10-16/
ATTACH;FMTTYPE=image/jpeg:https://wandelstadt-esslingen.de/wp-content/uploads/2022/10/giesspaten_Natalia_Rak_Girl_with_water_can_Bialystok.jpg
ORGANIZER;CN="ES gr%C3%BCnt":MAILTO:mitmachen@es-gruent.de
END:VEVENT
BEGIN:VEVENT
DTSTART;TZID=Europe/Berlin:20241017T150000
DTEND;TZID=Europe/Berlin:20241017T170000
DTSTAMP:20260422T143822
CREATED:20240927T100718Z
LAST-MODIFIED:20240927T100718Z
UID:10004049-1729177200-1729184400@wandelstadt-esslingen.de
SUMMARY:Häkelwerkstatt
DESCRIPTION:Materialien (wie Wolle & Häkelnadeln) sind vor Ort und keine Vorkenntnisse notwendig. \nEinfach innerhalb des angegeben Zeitraumes vorbeikommen.
URL:https://wandelstadt-esslingen.de/event/haekelwerkstatt/2024-10-17/
END:VEVENT
BEGIN:VEVENT
DTSTART;TZID=Europe/Berlin:20241017T190000
DTEND;TZID=Europe/Berlin:20241017T190000
DTSTAMP:20260422T143822
CREATED:20240628T160749Z
LAST-MODIFIED:20240629T175416Z
UID:10003579-1729191600-1729191600@wandelstadt-esslingen.de
SUMMARY:Fahrradwerkstatt
DESCRIPTION:Wir unterstützen Dich\, wenn Dein Fahrrad nicht mehr tut was es soll.\nFalls Ihr Interesse und Bedarf an unserer Fahrradwerkstatt habt\, meldet Euch per Mail: info@komma. \nVerantwortlich für die Werkstatt ist der Motorradclub Kuhle Wampe. Sie sind ein basisdemokratisch organisierter Motorradclub mit Sitz im Komma und sie betreiben eine Zweiradwerkstatt. Jeden Donnerstag ist die Fahrradwerkstatt geöffnet – bei gutem Wetter wird möglicherweise auch gegrillt.
URL:https://wandelstadt-esslingen.de/event/fahrrad-werkstatt/2024-10-17/
LOCATION:KOMMA\, Maille 5-9\, Esslingen\, Deutschland
END:VEVENT
BEGIN:VEVENT
DTSTART;TZID=Europe/Berlin:20241018T140000
DTEND;TZID=Europe/Berlin:20241018T160000
DTSTAMP:20260422T143822
CREATED:20240208T160917Z
LAST-MODIFIED:20250424T162425Z
UID:10002495-1729260000-1729267200@wandelstadt-esslingen.de
SUMMARY:Beratung Esslinger Initiative
DESCRIPTION:Das Leben vom guten Ende her denken.\n\n\n\n\n\n\n\n\n\n\n\n\n\n\n\n\n\n\n\n\nFreitags 14 bis 16 Uhr kostenlose Beratungen der Esslinger Initiative e.V.\nAnmeldung; Fr 9-11 Uhr über Tel. 0711/357420 \nJa das ist unangenehm\, wo doch jetzt Leben dran ist. Scheint doch auch logisch zu sein es so anzugehen wie Heinz Erhardt seine Gedichte anfing „Ich fang mal mit dem Anfang an“.\n„Das Leben vom guten Ende her denken“ ist quasi das Motto der Esslinger Initiative um die es hier heute geht. Sie selbst bezeichnet sich als \n„Eine Initiative für die Wahrung von Menschenwürde und Selbstbestimmung im Alter und bei Krankheit“\, ausgehend von der Frage: „ \nWie kann das Selbstbestimmungsrecht im Alter und bei Krankheit – also in schwierigen Lebensphasen – erhalten werden?“. \nDie Esslinger Initiative … \n\nsetzt sich ein für einen menschenwürdigen Umgang mit Schwerstkranken und Sterbenden\nfördert die Verbesserung der medizinischen und pflegerischen Versorgung Schwerstkranker und Sterbender (Palliative Care)\ntritt ein für die Wahrung des Selbstbestimmungsrechts im Gesundheitswesen und in der Altenpflege\nwirbt für ihre Anliegen in öffentlichen Veranstaltungen\nbietet Beratungen zur Vorsorge an\nstellt Formulare zur Vorsorge zur Verfügung\nschult Ehrenamtliche zu kompetenten Beraterinnen und Beratern und bildet diese regelmäßig weiter\nunterstützt die Durchsetzung einer vorsorgenden Gesundheitsplanung (ACP)\n\n  \nDas besondere Angebot der Esslinger Initiative ist eine kostenlose und unabhängige Beratung zur Vorsorge\, abgestimmt auf die ganz persönliche Situation. Beratungsstellen im gesamten Landkreis Esslingen und darüber hinaus bieten diese Hilfe an.\nDas Ende geht alle an – ein Angebot an alle über 18!
URL:https://wandelstadt-esslingen.de/event/beratung-esslinger-initiative-bitte-vorab-anmelden/2024-10-18/
LOCATION:Forum Esslingen – Zentrum für Bürgerengagement\, Schelztorstraße 38\, Esslingen\, Deutschland
ORGANIZER;CN="Esslinger Initiative e.V.":MAILTO:news@esslinger-initiative.de
END:VEVENT
BEGIN:VEVENT
DTSTART;TZID=Europe/Berlin:20241018T153000
DTEND;TZID=Europe/Berlin:20241018T153000
DTSTAMP:20260422T143822
CREATED:20240828T172450Z
LAST-MODIFIED:20240828T172450Z
UID:10003985-1729265400-1729265400@wandelstadt-esslingen.de
SUMMARY:Drum Circle
DESCRIPTION:in der Seniorenresidenz Charlottenhof\n– Rhythmus verbindet – Ein Trommelerlebnis zum Mitmachen \nTermine: \n\n6. September\n18. Oktober\n8. November\n6. Dezember\n\nJeweils 15.30 Uhr im Festsaal \nWir machen Musik mit Trommeln und Percussion-Instrumenten.\nGanz spontan und ohne Leistungsanspruch.\nJeder kann mitmachen\, denn es werden keine Vorerfahrungen benötigt. Von Jung bis Alt sind alle herzlich willkommen. \nEin Ort für Begegnungen und musikalisches Miteinander!
URL:https://wandelstadt-esslingen.de/event/drum-circle/2024-10-18/
LOCATION:Seniorenresidenz Charlottenhof\, Plochinger Straße 21-27\, Esslingen\, 73730
CATEGORIES:Gemütliches Treffen,Kulturveranstaltung
END:VEVENT
BEGIN:VEVENT
DTSTART;TZID=Europe/Berlin:20241018T160000
DTEND;TZID=Europe/Berlin:20241018T173000
DTSTAMP:20260422T143822
CREATED:20240926T200235Z
LAST-MODIFIED:20240926T200235Z
UID:10004041-1729267200-1729272600@wandelstadt-esslingen.de
SUMMARY:Bio-Landwirtschaft in unserer Region: Besichtigung der Solawi Esslingen mit Hofladen
DESCRIPTION:2020 gründete Jonas Kienel mit einigen Mitstreitern die Solidarische Landwirtschaft für Esslingen. Solidarische Landwirtschaft (kurz Solawi) ist ein alternatives Vermarktungskonzept\, bei dem die Verbraucher vom Bauern nicht einzelne Produkte kaufen\, sondern mit einem Monatsbeitrag den landwirtschaftlichen Betrieb als Ganzes finanzieren. Im Gegenzug erhalten die Solawi-Mitglieder die Ernte des Betriebs in wöchentlichen Ernteteilen. \nSeit 2020 konnte die Solawi Esslingen stetig erweitert werden und letztes Jahr kam noch ein Hofladen hinzu. Die Äcker und Wiesen sowie auch der Laden befinden sich alle in Aichwald auf dem Vorderen Schurwald\, ca. 15 km von der Esslinger Kernstadt entfernt. In dieser idyllischen Lage baut der Betrieb verschiedene Gemüsearten an\, sowie Getreide\, Kartoffeln und Obst und hält Legehennen sowie eine kleine Schafherde. Alles nach den Richtlinien des ökologischen Landbaus. \nTreffpunkt/Ende: vor dem Laden (SOLAWI): Schurwaldstr. 48\, 73773 Aichwald-Aichelberg \nBitte mitbringen: Gutes Schuhwerk\, da die Felder zu Fuß besucht werden
URL:https://wandelstadt-esslingen.de/event/bio-landwirtschaft-in-unserer-region-besichtigung-der-solawi-esslingen-mit-hofladen/
LOCATION:Solawi\, Schurwaldstr. 48\, Aichwald-Aichelberg\, 73773\, Deutschland
CATEGORIES:Infoveranstaltung
ORGANIZER;CN="Volkshochschule Esslingen":MAILTO:info@vhs-esslingen.de
END:VEVENT
BEGIN:VEVENT
DTSTART;TZID=Europe/Berlin:20241018T180000
DTEND;TZID=Europe/Berlin:20241018T180000
DTSTAMP:20260422T143822
CREATED:20221010T204011Z
LAST-MODIFIED:20221010T204011Z
UID:10000352-1729274400-1729274400@wandelstadt-esslingen.de
SUMMARY:Critical Mass
DESCRIPTION:Critical Mass ist eine weltweite Fahrrad­bewegung\, um eine Alternative zum motorisi­erten Individual­verkehr aufzu­zeigen. Grundlage bildet Paragraph 27 der Straßenverkehrs-Ordnung. \nBei der Critical Mass Esslingen treffen sich jeden 3. Freitag im Monat Radfahrerinnen und Radfahrer zur gemeinsamen Fahrrad­ausfahrt durch Esslingen. Treffpunkt ist um 18:00 Uhr auf dem Bahnhofsvorplatz. Im Anschluss findet oft noch ein Erfahrungsaustausch beim „Radlerstammtisch“ statt.
URL:https://wandelstadt-esslingen.de/event/critical-mass-2/2024-10-18/
LOCATION:Bahnhofsvorplatz\, Esslingen
ORGANIZER;CN="Critical Mass":MAILTO:schugra@posteo.de
END:VEVENT
BEGIN:VEVENT
DTSTART;TZID=Europe/Berlin:20241019T140000
DTEND;TZID=Europe/Berlin:20241019T180000
DTSTAMP:20260422T143822
CREATED:20240820T073052Z
LAST-MODIFIED:20240820T212050Z
UID:10003970-1729346400-1729360800@wandelstadt-esslingen.de
SUMMARY:ZuZule-Workshop „Ich mach mich vegan(er)“
DESCRIPTION:Du möchtest Deinen Alltag vegan(er) gestalten? Hier gibt`s alle Infos\, Tipps und Tricks 🙂 \nVEGAN-ER – ja\, denn hier bist Du genau richtig – sowohl\, wenn Du schon fast komplett vegan lebst\, Dir aber noch ein paar kleine Bausteine fehlen – sowie wenn Du ganz am Beginn Deiner wunderbaren vegan(er)-werden-Reise stehst. Und natürlich auch auf allen Stationen dazwischen. \nDU bist mit allen Deinen Fragen willkommen – wir tauschen uns aus & Kochen zusammen\, so dass Du ganz individuell Deine nächsten Schritte machen kannst\, um gesündER\, nachhaltigER\, tierleidfreiER\, umweltfreundlichER und sehr wahrscheinlich glücklichER zu leben – durch kleine Umstellungen Deiner Ernährung und Deines Essverhaltens 🙂 \n>>> inklusive pflanzliche Snacks zum Probieren\, Getränke + kleiner Vorab-Austausch mit jedem*r Teilnehmer*in (via Mail oder Messenger oder Tel) zum Besprechen Deiner/Eurer persönlichen Interessen\, Fragen\, Wünsche (für Austauschteil + Rezeptauswahl) + Infos\, Infos\, Infos u.v.m. \n>>>> auf dieser Grundlage bereite ich\, Conny\, den Workshop (Theorie + Praxisanteil) individuell für Dich und die aktuelle Gruppe vor\, um Deine/Eure ganz individuelle vegan(er)-werde-Reise zu unterstützen! \n*** \nDer gut mit allen Verkehrsmitteln zu erreichende Veranstaltungsort in Esslingen oder Aichwald wird noch bekannt gegeben. \nDein Beitrag für mehr Gesundheit und Gutes Tun für Dich persönlich\, sowie für alle Tiere\, die Umwelt\, das Klima\, unsere Erde & für unser gemeinnütziges Tun\n> ab 4 Personen 85 EUR p.P. + 15 EUR Lebensmittelkosten p.P. \nalle weiteren Details unter https://zuzule.net/workshop-ich-mach-mich-veganer/
URL:https://wandelstadt-esslingen.de/event/zuzule-workshop-ich-mach-mich-veganer/
CATEGORIES:Beteiligung,Gemütliches Treffen,Infoveranstaltung
ORGANIZER;CN="ZuZule":MAILTO:zuzule@mail.de
END:VEVENT
BEGIN:VEVENT
DTSTART;TZID=Europe/Berlin:20241020T110000
DTEND;TZID=Europe/Berlin:20241020T110000
DTSTAMP:20260422T143822
CREATED:20231024T145423Z
LAST-MODIFIED:20260218T101216Z
UID:10002049-1729422000-1729422000@wandelstadt-esslingen.de
SUMMARY:Internationales Frühstück
DESCRIPTION:Das Internationale Frühstück ist mittlerweile in Esslingen zur Institution geworden. Der Verein ADG e.V. (Interkulturelles Forum Esslingen) organisiert und gestaltet jeden 3. Sonntag im Monat Begegnungen zwischen Menschen unterschiedlicher Herkunft und Kultur. In den Räumen des Kulturzentrums Dieselstrasse treffen sich monatlich bis zu hundert bzw. jährlich über tausend Menschen in gemütlicher Atmosphäre zum Austausch. Für das Wohlergehen der Gäste sorgen engagierte Ehrenamtliche\, denen diese Begegnungen schon seit vielen Jahren am Herzen liegen. Mittlerweile organisieren diese  hier nicht nur „Brot\, Brötchen\, Butter\, Marmelade\, Kaffee und Tee“ \, sondern stellen ein vielseitiges internationales Frühstück auf die Beine. Um die Quantität des Frühstücks bezuibehalten\, sowie\, um die stetig steigende Zahl der Gäste weiterhin bewältigen zu können\, bedarf es jedoch zusätzlicher Unterstützung. Ehrenamtlich engagierte Helfer/innen sind daher nicht nur herzlich willkommen. \nJeden 3. Sonntag im Monat um 11 Uhr im Kulturzentrum Dieselstrasse! \nPreise: \n\nErwachsene: 10.-€\nKinder/Ermäßigt: 5.-€\nFamilie mit  einem Kind: 22.-€\nFamilie mit zwei Kinder: 25.-€\nAufpreis für Veranstaltungen im Rahmen des Frühstücks: 5.-€
URL:https://wandelstadt-esslingen.de/event/internationales-fruehstueck/2024-10-20/
LOCATION:Kulturzentrum Dieselstraße\, Dieselstraße 26\, Esslingen\, Deutschland
END:VEVENT
END:VCALENDAR