BEGIN:VCALENDAR
VERSION:2.0
PRODID:-//Wandelstadt Esslingen - ECPv6.15.20//NONSGML v1.0//EN
CALSCALE:GREGORIAN
METHOD:PUBLISH
X-WR-CALNAME:Wandelstadt Esslingen
X-ORIGINAL-URL:https://wandelstadt-esslingen.de
X-WR-CALDESC:Veranstaltungen für Wandelstadt Esslingen
REFRESH-INTERVAL;VALUE=DURATION:PT1H
X-Robots-Tag:noindex
X-PUBLISHED-TTL:PT1H
BEGIN:VTIMEZONE
TZID:Europe/Berlin
BEGIN:DAYLIGHT
TZOFFSETFROM:+0100
TZOFFSETTO:+0200
TZNAME:CEST
DTSTART:20230326T010000
END:DAYLIGHT
BEGIN:STANDARD
TZOFFSETFROM:+0200
TZOFFSETTO:+0100
TZNAME:CET
DTSTART:20231029T010000
END:STANDARD
BEGIN:DAYLIGHT
TZOFFSETFROM:+0100
TZOFFSETTO:+0200
TZNAME:CEST
DTSTART:20240331T010000
END:DAYLIGHT
BEGIN:STANDARD
TZOFFSETFROM:+0200
TZOFFSETTO:+0100
TZNAME:CET
DTSTART:20241027T010000
END:STANDARD
BEGIN:DAYLIGHT
TZOFFSETFROM:+0100
TZOFFSETTO:+0200
TZNAME:CEST
DTSTART:20250330T010000
END:DAYLIGHT
BEGIN:STANDARD
TZOFFSETFROM:+0200
TZOFFSETTO:+0100
TZNAME:CET
DTSTART:20251026T010000
END:STANDARD
END:VTIMEZONE
BEGIN:VEVENT
DTSTART;TZID=Europe/Berlin:20240924T190000
DTEND;TZID=Europe/Berlin:20240924T203000
DTSTAMP:20260422T195209
CREATED:20240822T060617Z
LAST-MODIFIED:20240822T060617Z
UID:10003972-1727204400-1727209800@wandelstadt-esslingen.de
SUMMARY:Wie schaff ich das? Auskommen mit dem Einkommen...
DESCRIPTION:Auskommen mit dem Einkommen\, sicheres Onlineshopping\, Umgang mit dem Haushaltsgeld\, Wege aus finanziellen Schwierigkeiten\, gute Praxis für das Taschengeld\, Versicherungen und Verträge… \nAll das sind Themen\, die in Familien und Haushalten zu schwierigen Situationen und Notlagen führen können.\nDas Quartierszentrum Lukaskirche und das Diakonische Beratungszentrum Esslingen bieten zu diesen Themen die Veranstal-tungsreihe „Wendepunkt“ mit den Berate-rinnen des Kreisdiakonieverbands Lena Stumpp und Bettina Knapp.\nSie geben Hilfestellungen\, Hinweise und Tipps\, für den Umgang mit dem Einkommen oder finanziellen Herausforderungen. \nWo? Quartierszentrum Lukaskirche – Königsallee 6 in Weil\nWann? jeweils dienstags 19.00 bis 20.30 Uhr \n18.06. Was soll ich beachten beim Onlineshopping? + Wie handhabe ich Taschengeld?\n23.07. Umgang mit finanziellen Schwierigkeiten\n24.09. Haushaltsplanung – Auskommen mit dem Einkommen\n22.10. Versicherungen und Verträge \nWenn Sie lieber eine persönliche Beratung möchten\, wenden Sie sich bitte an Quartiersmanager Kurt Hilsenbeck oder direkt an das Diakonische Beratungszentrum Berliner Straße 27\, Esslingen.\nTel. 0711 3421-570
URL:https://wandelstadt-esslingen.de/event/wie-schaff-ich-das-auskommen-mit-dem-einkommen/2024-09-24/
LOCATION:Quartierszentrum Lukaskirche\, Königsallee 6\, Esslingen\, Deutschland
END:VEVENT
BEGIN:VEVENT
DTSTART;TZID=Europe/Berlin:20240924T191500
DTEND;TZID=Europe/Berlin:20240924T201500
DTSTAMP:20260422T195209
CREATED:20240520T091234Z
LAST-MODIFIED:20260106T174409Z
UID:10003839-1727205300-1727208900@wandelstadt-esslingen.de
SUMMARY:Inklusive Lachyoga-Gruppe
DESCRIPTION:Lachen ist nicht nur gesund\, sondern auch ansteckend. Und genau darum geht es bei Lachyoga. Gemeinsam lachen und sich gut fühlen\, Stress abbauen und entspannen. Zudem stärkt Lachen die Gesundheit. \n\n\n\n\n\nWann:\nDienstags von 19:15 – 20:15 Uhr\nEinstieg jederzeit möglich!\nKeine Anmeldung erforderlich.\n\n\n\nFür wen:\nFür (fast) jeden geeignet\, da Lachyoga keine schwierigen körperlichen Übungen beinhaltet.\n(siehe Details zur Barrierefreiheit)\n\n\nKursleitung:\nSusanne Klaus (Lachyoga Master Trainerin\, Stuttgarter Lachschule)\n\n\nKosten:\nkeine (freiwillige Spendenbasis)\n\n\nMitzubringen:\netwas zum Trinken
URL:https://wandelstadt-esslingen.de/event/inklusive-lachyoga-gruppe/2024-09-24/
LOCATION:Forum Esslingen – Zentrum für Bürgerengagement\, Schelztorstraße 38\, Esslingen\, Deutschland
ATTACH;FMTTYPE=image/jpeg:https://wandelstadt-esslingen.de/wp-content/uploads/2024/05/Lachyoga-Gruppe_Forum-Esslingen_16-9-scaled.jpg
ORGANIZER;CN="InklusivES - Der Esslinger Stammtisch zum Thema Inklusion":MAILTO:c.lira@inklusives.de
END:VEVENT
BEGIN:VEVENT
DTSTART;TZID=Europe/Berlin:20240925T180000
DTEND;TZID=Europe/Berlin:20240925T210000
DTSTAMP:20260422T195209
CREATED:20240628T154510Z
LAST-MODIFIED:20251125T194322Z
UID:10003064-1727287200-1727298000@wandelstadt-esslingen.de
SUMMARY:Kunststoff-Lab
DESCRIPTION:Positiv gegen Kunststoffverschmutzung \nAn einen Alltag ohne Kunststoffe ist nicht mehr zu denken. Das Material hat nach wie vor wertvolle Eigenschaften\, die wir nach dem “Precious-Plastic-Modell“ in einer kleinen Kunststoffrecycling- Manufaktur einsetzen. “Precious-Plastic“ ist ein internationales Projekt. 2012 in den Niederlanden gestartet\, besteht mittlerweile aus einem globalen Netzwerk von Workspaces. Das Komma in Esslingen ist mit dem @preciousplastic_esslingen Teil dieser Bewegung. 2021 bauten wir unsere Werkstatt mit Maschinen zur Plastikverarbeitung auf. Der Mehrwert des Projektes ist es\, die Möglichkeiten und Grenzen des „Selber-Machens“ selbst zu erfahren\, und zwar in einem für die Kreativität und Empowerment sicheren Ort. \nAus Abfall entsteht ein neuer Rohstoff\, aus dem du eigene Werkstücke wie z. B. kleine Möbel\, Lampen\, Taschen und Schmuck kreieren kannst. Schau dir hier an\, was wir 2023 in der Workshopreihe gemacht haben. \nMit und für junge Menschen: Wir können uns nicht mehr anhören\, wie schlecht die Klimakrise ist. Wir wollen was dagegen machen! Was würdest du daraus machen? \n  \nOffene Kunststoffwerkstatt \nAb Mai 2024 steht immer Mittwochs die offene Kunstwerkstatt für die Einführung in die „Precious-Plastic-Welt“\, die Kunststoffverarbeitung und Materialexperimente zur Verfügung. Plastik wird sortiert\, geschreddert und eingeschmolzen. \nHast du es zum letzten Workshop nicht geschafft und wolltest dir immer Schmuck selber machen? Oder einfach mal mehr über die Kunststoffwerkstatt wissen? Oder hast du sogar ein eigenes Projekt im Kopf\, das du mit Kunststoffplatten versuchen möchtest? Dann ist die offene Werkstatt genau richtig für dich. \nSolltest du es unter der Woche nicht schaffen\, gibt es ab Juni 2024 auch immer am  1. Samstag im Monat die offene Werkstatt. Die Nutzung der Werkstatt ist kostenlos. An den genannten Terminen kannst du ohne Anmeldung teilnehmen.  Ausnahmen aufgrund von Komma Veranstaltungen werden über die Internetseite des Mittwochs geteilt. \nMaterial falls nicht selbst gesammelt\, ist auf Spendenbasis verfügbar\, solange Vorrat reicht. Hier findest du ein How-to-collect\, damit du schauen kannst\, was wir in der Werkstatt grundsätzlich verwenden können. \nEinführungen in die Precious-Plastic-Welt sind auf Deutsch\, Englisch und Spanisch möglich. Hast du noch Fragen? Schreib uns gerne eine Nachricht an plastic@komma.info oder komm einfach vorbei! \nDie Teilnahme ist kostenlos\, wir bitten um Anmeldung per Mail an plastic@komma.info. \nKollabs und Netzwerk \nGroßes Potenzial liegt in unserer interdisziplinären Zusammenarbeit – sowohl im Komma-Team als auch in Kooperationen. Wir arbeiten mit Schulen\, Hochschulen\, Designer*innen\, Initiativen\, Werkstätten und andere Precious Plastics Gruppen auf der Welt zusammen. Hast du eine Idee zu einer Kollaboration? Schreib uns gerne an plastic@komma.info. \nFunfäct \n„The Bänk“\, unser erstes Projekt\, hat es in die Endrunde der RoGUILTLESSPLASTIC Awards geschafft und wurde bei der Mailänder Designwoche (Juni 2022) ausgestellt. Wie das gebaut wurde\, findest du im Video. \nTagesaktuelle Informationen und Workshop-Angebote finden sich auf Instagram @preciousplastic_esslingen \n 
URL:https://wandelstadt-esslingen.de/event/https-www-komma-info-precious-plastic/2024-09-25/
LOCATION:KOMMA\, Maille 5-9\, Esslingen\, Deutschland
END:VEVENT
BEGIN:VEVENT
DTSTART;TZID=Europe/Berlin:20240925T193000
DTEND;TZID=Europe/Berlin:20240925T210000
DTSTAMP:20260422T195209
CREATED:20240206T112222Z
LAST-MODIFIED:20240206T113330Z
UID:10001943-1727292600-1727298000@wandelstadt-esslingen.de
SUMMARY:ES GRÜNT!
DESCRIPTION:Esslingen: eine Stadt kühlt grün\nGlobal denken und regional handeln\, das ist unser Leitspruch. \nKomm gerne vorbei und schreib uns eine Mail an mitmachen@es-gruent.de\, damit wir dir den Ort mitteilen können.
URL:https://wandelstadt-esslingen.de/event/es-gruent-3/2024-09-25/
ATTACH;FMTTYPE=image/jpeg:https://wandelstadt-esslingen.de/wp-content/uploads/2022/10/giesspaten_Natalia_Rak_Girl_with_water_can_Bialystok.jpg
ORGANIZER;CN="ES gr%C3%BCnt":MAILTO:mitmachen@es-gruent.de
END:VEVENT
BEGIN:VEVENT
DTSTART;TZID=Europe/Berlin:20240926T150000
DTEND;TZID=Europe/Berlin:20240926T170000
DTSTAMP:20260422T195209
CREATED:20240926T195315Z
LAST-MODIFIED:20240926T195315Z
UID:10004039-1727362800-1727370000@wandelstadt-esslingen.de
SUMMARY:Naturnahe Gärten - Tipps und Tricks für einen insektenfreundlichen Garten
DESCRIPTION:Blühende Stauden\, bunte Schmetterlinge und zwitschernde Vögel – klingt das nicht nach einem paradiesischen Garten?  – Mit nur wenig Aufwand oder Vorwissen können wir der heimischen Pflanzen- und Tierwelt einen Lebensraum bieten. Ob privater Garten oder gewerblich genutztes Gebiet: Auch die kleinste Fläche kann einen großen Beitrag zum Natur- und Umweltschutz leisten und kann dabei auch noch gut aussehen. Legen Sie Ihren Garten so an\, dass Sie sich dort genauso wohlfühlen wie Tagpfauenauge\, Zaunkönig und Erdhummel! \n  \nIm Rahmen eines Rundgangs durch den Garten der Familie Eppinger lernen Sie einfach umsetzbare Naturgartenelemente kennen. Weitere Anleitungen finden Sie in einer vor Ort erhältlichen Broschüre für 6 €.
URL:https://wandelstadt-esslingen.de/event/naturnahe-gaerten-tipps-und-tricks-fuer-einen-insektenfreundlichen-garten/
LOCATION:Familie Eppinger\, Uhlbacher Str. 68\, Esslingen-Rüdern\, 73733\, Deutschland
CATEGORIES:Infoveranstaltung
ORGANIZER;CN="Volkshochschule Esslingen":MAILTO:info@vhs-esslingen.de
END:VEVENT
BEGIN:VEVENT
DTSTART;TZID=Europe/Berlin:20240926T190000
DTEND;TZID=Europe/Berlin:20240926T190000
DTSTAMP:20260422T195209
CREATED:20240628T160749Z
LAST-MODIFIED:20240629T175416Z
UID:10003576-1727377200-1727377200@wandelstadt-esslingen.de
SUMMARY:Fahrradwerkstatt
DESCRIPTION:Wir unterstützen Dich\, wenn Dein Fahrrad nicht mehr tut was es soll.\nFalls Ihr Interesse und Bedarf an unserer Fahrradwerkstatt habt\, meldet Euch per Mail: info@komma. \nVerantwortlich für die Werkstatt ist der Motorradclub Kuhle Wampe. Sie sind ein basisdemokratisch organisierter Motorradclub mit Sitz im Komma und sie betreiben eine Zweiradwerkstatt. Jeden Donnerstag ist die Fahrradwerkstatt geöffnet – bei gutem Wetter wird möglicherweise auch gegrillt.
URL:https://wandelstadt-esslingen.de/event/fahrrad-werkstatt/2024-09-26/
LOCATION:KOMMA\, Maille 5-9\, Esslingen\, Deutschland
END:VEVENT
BEGIN:VEVENT
DTSTART;VALUE=DATE:20240927
DTEND;VALUE=DATE:20240930
DTSTAMP:20260422T195209
CREATED:20240822T061223Z
LAST-MODIFIED:20240822T061223Z
UID:10003975-1727395200-1727654399@wandelstadt-esslingen.de
SUMMARY:Stadt im (Über)fluss
DESCRIPTION:„Stadt im Überfluss?“\nDas Kulturfestival Stadt im Fluss findet vom 27. bis 29. September 2024 zum 8. Mal statt. Diesmal stehen unter dem Titel „Stadt im Überfluss?“ die Frage des Überflusses und die scheinbar unendlichen Möglichkeiten des Konsumierens sowie dessen Auswirkungen im Fokus. \n \n\n\nVon allem zu viel – und doch zu wenig?\n\n\nWas ist eigentlich überflüssig? Welche Auswirkungen hat der Überfluss? Welche Alternativen und Lösungsansätze könnte es geben?Kulturakteur:innen sind dazu aufgerufen\, diese Fragen beim Festival künstlerisch zu beantworten. \n\n\nIm Fokus steht die Frage des „zu viel von allem“\, Überfluss in allen möglichen Bereichen: Die scheinbar unendlichen Möglichkeiten des Handelns und der Lebensgestaltung\, des Konsumierens\, aber auch das Zuviel an Krisen\, Kriegen und Konflikten – und damit verbunden die Auswirkungen globaler Themen auf jede:n Einzelne:n\, die Gesellschaft und die Umwelt.
URL:https://wandelstadt-esslingen.de/event/stadt-im-ueberfluss/
ATTACH;FMTTYPE=image/png:https://wandelstadt-esslingen.de/wp-content/uploads/2024/08/StadtimUeberfluss_web_Plakatmotiv_1200x800_RZ.png
END:VEVENT
BEGIN:VEVENT
DTSTART;VALUE=DATE:20240927
DTEND;VALUE=DATE:20241012
DTSTAMP:20260422T195209
CREATED:20240929T080334Z
LAST-MODIFIED:20240929T080334Z
UID:10004055-1727395200-1728691199@wandelstadt-esslingen.de
SUMMARY:Erlebnisausstellung Grundgesetz
DESCRIPTION:Ein multimediale Rundgang vermittelt in kurzweiliger\, anschaulicher Weise die wesentlichen Grundlagen und Zusammenhänge\, auf denen unser Grundgesetz basiert.\n27.09. – 11.10.2024 \nWeitere Termine\, auch abends an den Werktagen\, werden ab dem 14. Sept. frei geschaltet.
URL:https://wandelstadt-esslingen.de/event/erlebnisausstellung-grundgesetz/
LOCATION:CVJM-Haus Esslingen\, Kiesstraße 3-5\, Esslingen\, 73728\, Deutschland
CATEGORIES:Infoveranstaltung
ORGANIZER;CN="CVJM Esslingen e. V.":MAILTO:info@cvjm-esslingen.de
END:VEVENT
BEGIN:VEVENT
DTSTART;TZID=Europe/Berlin:20240927T140000
DTEND;TZID=Europe/Berlin:20240927T160000
DTSTAMP:20260422T195209
CREATED:20240208T160917Z
LAST-MODIFIED:20250424T162425Z
UID:10002492-1727445600-1727452800@wandelstadt-esslingen.de
SUMMARY:Beratung Esslinger Initiative
DESCRIPTION:Das Leben vom guten Ende her denken.\n\n\n\n\n\n\n\n\n\n\n\n\n\n\n\n\n\n\n\n\nFreitags 14 bis 16 Uhr kostenlose Beratungen der Esslinger Initiative e.V.\nAnmeldung; Fr 9-11 Uhr über Tel. 0711/357420 \nJa das ist unangenehm\, wo doch jetzt Leben dran ist. Scheint doch auch logisch zu sein es so anzugehen wie Heinz Erhardt seine Gedichte anfing „Ich fang mal mit dem Anfang an“.\n„Das Leben vom guten Ende her denken“ ist quasi das Motto der Esslinger Initiative um die es hier heute geht. Sie selbst bezeichnet sich als \n„Eine Initiative für die Wahrung von Menschenwürde und Selbstbestimmung im Alter und bei Krankheit“\, ausgehend von der Frage: „ \nWie kann das Selbstbestimmungsrecht im Alter und bei Krankheit – also in schwierigen Lebensphasen – erhalten werden?“. \nDie Esslinger Initiative … \n\nsetzt sich ein für einen menschenwürdigen Umgang mit Schwerstkranken und Sterbenden\nfördert die Verbesserung der medizinischen und pflegerischen Versorgung Schwerstkranker und Sterbender (Palliative Care)\ntritt ein für die Wahrung des Selbstbestimmungsrechts im Gesundheitswesen und in der Altenpflege\nwirbt für ihre Anliegen in öffentlichen Veranstaltungen\nbietet Beratungen zur Vorsorge an\nstellt Formulare zur Vorsorge zur Verfügung\nschult Ehrenamtliche zu kompetenten Beraterinnen und Beratern und bildet diese regelmäßig weiter\nunterstützt die Durchsetzung einer vorsorgenden Gesundheitsplanung (ACP)\n\n  \nDas besondere Angebot der Esslinger Initiative ist eine kostenlose und unabhängige Beratung zur Vorsorge\, abgestimmt auf die ganz persönliche Situation. Beratungsstellen im gesamten Landkreis Esslingen und darüber hinaus bieten diese Hilfe an.\nDas Ende geht alle an – ein Angebot an alle über 18!
URL:https://wandelstadt-esslingen.de/event/beratung-esslinger-initiative-bitte-vorab-anmelden/2024-09-27/
LOCATION:Forum Esslingen – Zentrum für Bürgerengagement\, Schelztorstraße 38\, Esslingen\, Deutschland
ORGANIZER;CN="Esslinger Initiative e.V.":MAILTO:news@esslinger-initiative.de
END:VEVENT
BEGIN:VEVENT
DTSTART;VALUE=DATE:20240928
DTEND;VALUE=DATE:20240930
DTSTAMP:20260422T195209
CREATED:20240902T094539Z
LAST-MODIFIED:20240916T185012Z
UID:10003997-1727481600-1727654399@wandelstadt-esslingen.de
SUMMARY:Abschluss Kunstprojekt "Alles so schön bunt hier" bei Stadt im Überfluss
DESCRIPTION:Die phantastischen Blumen & Pflanzen aus Plastikmüll werden auf dem Ottilienplatz ausgestellt und kostenfrei (oder wer möchte gegen Spende) verschenkt.
URL:https://wandelstadt-esslingen.de/event/abschluss-kunstprojekt-alles-so-schoen-bunt-hier-bei-stadt-im-ueberfluss/
LOCATION:eva’s Ottilie\, Ottilienplatz 3\, Esslingen\, 73728
ORGANIZER;CN="eva's Ottilie":MAILTO:evas-ottilie-es@eva-stuttgart.de
END:VEVENT
BEGIN:VEVENT
DTSTART;TZID=Europe/Berlin:20240928T090000
DTEND;TZID=Europe/Berlin:20240928T120000
DTSTAMP:20260422T195209
CREATED:20240912T115229Z
LAST-MODIFIED:20240912T115229Z
UID:10004000-1727514000-1727524800@wandelstadt-esslingen.de
SUMMARY:Obstsammeln - Agendagruppe Streuobstwiesen
DESCRIPTION:Bei gutem Wetter trifft sich die Streuobstwiesengruppe am Samstag\, 28. September\, um 9 Uhr zum Obstsammeln. Neue Helferinnen und Helfer sind herzlich willkommen! Für Infos zum Treffpunkt bitte eine Mail an streuobstgruppe@forum-esslingen.de.
URL:https://wandelstadt-esslingen.de/event/obstsammeln-agendagruppe-streuobstwiesen-3/
ORGANIZER;CN="Agendagruppe Streuobstwiesen":MAILTO:streuobstgruppe@forum-esslingen.de
END:VEVENT
BEGIN:VEVENT
DTSTART;TZID=Europe/Berlin:20240928T120000
DTEND;TZID=Europe/Berlin:20240928T210000
DTSTAMP:20260422T195209
CREATED:20240924T002851Z
LAST-MODIFIED:20240924T002851Z
UID:10004026-1727524800-1727557200@wandelstadt-esslingen.de
SUMMARY:Park(ing)Day Esslingen trifft Kulturclub Dieselstraße beim „Stadt im Überfluss Festival“
DESCRIPTION:Sa. 28.9. ab 12 Uhr Park(ing)Day Esslingen trifft Kulturclub Dieselstraße beim „Stadt im Überfluss Festival“\nGemeinsam machen wir die Abt-Fulrad-Straße zur Stadtoase.\nAlle Infos zum Programm hier
URL:https://wandelstadt-esslingen.de/event/parkingday-esslingen-trifft-kulturclub-dieselstrasse-beim-stadt-im-ueberfluss-festival/
LOCATION:Abt-Fuldrad-Strasse\, Esslingen
CATEGORIES:Beteiligung,Gemütliches Treffen,Infoveranstaltung,Kulturveranstaltung,Vernetzungsveranstaltung
ATTACH;FMTTYPE=image/png:https://wandelstadt-esslingen.de/wp-content/uploads/2024/08/StadtimUeberfluss_web_Plakatmotiv_1200x800_RZ.png
ORGANIZER;CN="Verkehrsclub Deutschland e.V. Kreisverband Esslingen":MAILTO:info@vcd-esslingen.de
END:VEVENT
BEGIN:VEVENT
DTSTART;TZID=Europe/Berlin:20240929T120000
DTEND;TZID=Europe/Berlin:20240929T170000
DTSTAMP:20260422T195209
CREATED:20240924T004006Z
LAST-MODIFIED:20240924T004006Z
UID:10004027-1727611200-1727629200@wandelstadt-esslingen.de
SUMMARY:Umwelt- und Klimafest Esslingen
DESCRIPTION:29.9. 12-17 Uhr Ritterstraße\, Umwelt- und Klimafest Esslingen\nAn unserem gemeinsamen Stand von VCD und ADFC geht es darum\, wie gute Mobilität für alle\, Lebensqualität und Klimaschutz hier Vorort unter einen Hut kommen. Wir freuen uns auf Besuch und interessante Gespräche.
URL:https://wandelstadt-esslingen.de/event/umwelt-und-klimafest-esslingen/
LOCATION:Ritterstraße\, Ritterstrasse\, Esslingen\, Deutschland
CATEGORIES:Beteiligung,Infoveranstaltung,Vernetzungsveranstaltung
ATTACH;FMTTYPE=image/png:https://wandelstadt-esslingen.de/wp-content/uploads/2024/09/2024-Logo-Klimafest-.png
ORGANIZER;CN="Allgemeiner Deutscher Fahrrad-Club e. V. (ADFC)":MAILTO:thomas.albrecht@adfc-bw.de
END:VEVENT
END:VCALENDAR