BEGIN:VCALENDAR
VERSION:2.0
PRODID:-//Wandelstadt Esslingen - ECPv6.15.20//NONSGML v1.0//EN
CALSCALE:GREGORIAN
METHOD:PUBLISH
X-ORIGINAL-URL:https://wandelstadt-esslingen.de
X-WR-CALDESC:Veranstaltungen für Wandelstadt Esslingen
REFRESH-INTERVAL;VALUE=DURATION:PT1H
X-Robots-Tag:noindex
X-PUBLISHED-TTL:PT1H
BEGIN:VTIMEZONE
TZID:Europe/Berlin
BEGIN:DAYLIGHT
TZOFFSETFROM:+0100
TZOFFSETTO:+0200
TZNAME:CEST
DTSTART:20230326T010000
END:DAYLIGHT
BEGIN:STANDARD
TZOFFSETFROM:+0200
TZOFFSETTO:+0100
TZNAME:CET
DTSTART:20231029T010000
END:STANDARD
BEGIN:DAYLIGHT
TZOFFSETFROM:+0100
TZOFFSETTO:+0200
TZNAME:CEST
DTSTART:20240331T010000
END:DAYLIGHT
BEGIN:STANDARD
TZOFFSETFROM:+0200
TZOFFSETTO:+0100
TZNAME:CET
DTSTART:20241027T010000
END:STANDARD
BEGIN:DAYLIGHT
TZOFFSETFROM:+0100
TZOFFSETTO:+0200
TZNAME:CEST
DTSTART:20250330T010000
END:DAYLIGHT
BEGIN:STANDARD
TZOFFSETFROM:+0200
TZOFFSETTO:+0100
TZNAME:CET
DTSTART:20251026T010000
END:STANDARD
END:VTIMEZONE
BEGIN:VEVENT
DTSTART;TZID=Europe/Berlin:20240806T191500
DTEND;TZID=Europe/Berlin:20240806T201500
DTSTAMP:20260423T080336
CREATED:20240520T091234Z
LAST-MODIFIED:20260106T174409Z
UID:10003832-1722971700-1722975300@wandelstadt-esslingen.de
SUMMARY:Inklusive Lachyoga-Gruppe
DESCRIPTION:Lachen ist nicht nur gesund\, sondern auch ansteckend. Und genau darum geht es bei Lachyoga. Gemeinsam lachen und sich gut fühlen\, Stress abbauen und entspannen. Zudem stärkt Lachen die Gesundheit. \n\n\n\n\n\nWann:\nDienstags von 19:15 – 20:15 Uhr\nEinstieg jederzeit möglich!\nKeine Anmeldung erforderlich.\n\n\n\nFür wen:\nFür (fast) jeden geeignet\, da Lachyoga keine schwierigen körperlichen Übungen beinhaltet.\n(siehe Details zur Barrierefreiheit)\n\n\nKursleitung:\nSusanne Klaus (Lachyoga Master Trainerin\, Stuttgarter Lachschule)\n\n\nKosten:\nkeine (freiwillige Spendenbasis)\n\n\nMitzubringen:\netwas zum Trinken
URL:https://wandelstadt-esslingen.de/event/inklusive-lachyoga-gruppe/2024-08-06/
LOCATION:Forum Esslingen – Zentrum für Bürgerengagement\, Schelztorstraße 38\, Esslingen\, Deutschland
ATTACH;FMTTYPE=image/jpeg:https://wandelstadt-esslingen.de/wp-content/uploads/2024/05/Lachyoga-Gruppe_Forum-Esslingen_16-9-scaled.jpg
ORGANIZER;CN="InklusivES - Der Esslinger Stammtisch zum Thema Inklusion":MAILTO:c.lira@inklusives.de
END:VEVENT
BEGIN:VEVENT
DTSTART;TZID=Europe/Berlin:20240807T183000
DTEND;TZID=Europe/Berlin:20240807T183000
DTSTAMP:20260423T080336
CREATED:20240621T101117Z
LAST-MODIFIED:20240621T101223Z
UID:10003030-1723055400-1723055400@wandelstadt-esslingen.de
SUMMARY:Villa Merkel Initativenabend mit ADFC undVCD
DESCRIPTION:Initiativenabend mit lokalen Engagierten vom Allgemeinen Deutschen Fahrradclub\, dem Verkehrsclub Deutschland e.V\, und Ulrich Heck (Verkehrsplaner\, Superblock West in Stuttgart) \nGemeinsam gestalten wir einen Gesprächsabend zur Gestaltung von Stadtraum als Lebens-und Begegnungsraum. \nVon Uli Heck\, dem Planer des ersten Stuttgarter Superblocks erfahren wir\, wie Stadtoasen die Menschen in Kontakt bringen und Orte zu öffentlichen Wohnzimmern werden\, wo früher mal Autos viel Platz eingeräumt war.\nAuch Visionen für Esslingen sind herzlich willkommen!
URL:https://wandelstadt-esslingen.de/event/villa-merkel-initativenabend-mit-adfc-undvcd/
LOCATION:Villa Merkel\, Pulverwiesen 25\, Esslingen\, 73726\, Deutschland
END:VEVENT
BEGIN:VEVENT
DTSTART;TZID=Europe/Berlin:20240807T193000
DTEND;TZID=Europe/Berlin:20240807T210000
DTSTAMP:20260423T080336
CREATED:20240206T112222Z
LAST-MODIFIED:20240206T113330Z
UID:10004591-1723059000-1723064400@wandelstadt-esslingen.de
SUMMARY:ES GRÜNT!
DESCRIPTION:Esslingen: eine Stadt kühlt grün\nGlobal denken und regional handeln\, das ist unser Leitspruch. \nKomm gerne vorbei und schreib uns eine Mail an mitmachen@es-gruent.de\, damit wir dir den Ort mitteilen können.
URL:https://wandelstadt-esslingen.de/event/es-gruent-3/2024-08-07/
ATTACH;FMTTYPE=image/jpeg:https://wandelstadt-esslingen.de/wp-content/uploads/2022/10/giesspaten_Natalia_Rak_Girl_with_water_can_Bialystok.jpg
ORGANIZER;CN="ES gr%C3%BCnt":MAILTO:mitmachen@es-gruent.de
END:VEVENT
BEGIN:VEVENT
DTSTART;TZID=Europe/Berlin:20240808T190000
DTEND;TZID=Europe/Berlin:20240808T190000
DTSTAMP:20260423T080336
CREATED:20240628T160749Z
LAST-MODIFIED:20240629T175416Z
UID:10003569-1723143600-1723143600@wandelstadt-esslingen.de
SUMMARY:Fahrradwerkstatt
DESCRIPTION:Wir unterstützen Dich\, wenn Dein Fahrrad nicht mehr tut was es soll.\nFalls Ihr Interesse und Bedarf an unserer Fahrradwerkstatt habt\, meldet Euch per Mail: info@komma. \nVerantwortlich für die Werkstatt ist der Motorradclub Kuhle Wampe. Sie sind ein basisdemokratisch organisierter Motorradclub mit Sitz im Komma und sie betreiben eine Zweiradwerkstatt. Jeden Donnerstag ist die Fahrradwerkstatt geöffnet – bei gutem Wetter wird möglicherweise auch gegrillt.
URL:https://wandelstadt-esslingen.de/event/fahrrad-werkstatt/2024-08-08/
LOCATION:KOMMA\, Maille 5-9\, Esslingen\, Deutschland
END:VEVENT
BEGIN:VEVENT
DTSTART;TZID=Europe/Berlin:20240809T140000
DTEND;TZID=Europe/Berlin:20240809T160000
DTSTAMP:20260423T080336
CREATED:20240208T160917Z
LAST-MODIFIED:20250424T162425Z
UID:10002485-1723212000-1723219200@wandelstadt-esslingen.de
SUMMARY:Beratung Esslinger Initiative
DESCRIPTION:Das Leben vom guten Ende her denken.\n\n\n\n\n\n\n\n\n\n\n\n\n\n\n\n\n\n\n\n\nFreitags 14 bis 16 Uhr kostenlose Beratungen der Esslinger Initiative e.V.\nAnmeldung; Fr 9-11 Uhr über Tel. 0711/357420 \nJa das ist unangenehm\, wo doch jetzt Leben dran ist. Scheint doch auch logisch zu sein es so anzugehen wie Heinz Erhardt seine Gedichte anfing „Ich fang mal mit dem Anfang an“.\n„Das Leben vom guten Ende her denken“ ist quasi das Motto der Esslinger Initiative um die es hier heute geht. Sie selbst bezeichnet sich als \n„Eine Initiative für die Wahrung von Menschenwürde und Selbstbestimmung im Alter und bei Krankheit“\, ausgehend von der Frage: „ \nWie kann das Selbstbestimmungsrecht im Alter und bei Krankheit – also in schwierigen Lebensphasen – erhalten werden?“. \nDie Esslinger Initiative … \n\nsetzt sich ein für einen menschenwürdigen Umgang mit Schwerstkranken und Sterbenden\nfördert die Verbesserung der medizinischen und pflegerischen Versorgung Schwerstkranker und Sterbender (Palliative Care)\ntritt ein für die Wahrung des Selbstbestimmungsrechts im Gesundheitswesen und in der Altenpflege\nwirbt für ihre Anliegen in öffentlichen Veranstaltungen\nbietet Beratungen zur Vorsorge an\nstellt Formulare zur Vorsorge zur Verfügung\nschult Ehrenamtliche zu kompetenten Beraterinnen und Beratern und bildet diese regelmäßig weiter\nunterstützt die Durchsetzung einer vorsorgenden Gesundheitsplanung (ACP)\n\n  \nDas besondere Angebot der Esslinger Initiative ist eine kostenlose und unabhängige Beratung zur Vorsorge\, abgestimmt auf die ganz persönliche Situation. Beratungsstellen im gesamten Landkreis Esslingen und darüber hinaus bieten diese Hilfe an.\nDas Ende geht alle an – ein Angebot an alle über 18!
URL:https://wandelstadt-esslingen.de/event/beratung-esslinger-initiative-bitte-vorab-anmelden/2024-08-09/
LOCATION:Forum Esslingen – Zentrum für Bürgerengagement\, Schelztorstraße 38\, Esslingen\, Deutschland
ORGANIZER;CN="Esslinger Initiative e.V.":MAILTO:news@esslinger-initiative.de
END:VEVENT
BEGIN:VEVENT
DTSTART;TZID=Europe/Berlin:20240810T140000
DTEND;TZID=Europe/Berlin:20240810T170000
DTSTAMP:20260423T080336
CREATED:20240702T110525Z
LAST-MODIFIED:20240702T112429Z
UID:10003829-1723298400-1723309200@wandelstadt-esslingen.de
SUMMARY:ZuZule - Workshop: 2050 mehr Plastik im Meer als Fische?!
DESCRIPTION:  \n  \nkreative Workshops im August 2024 mit Basteln und Cleanup\n\n\n2050 mehr Plastik im Meer als Fische?!\n– Was hat das mit unserem Konsum zu tun?\nWir suchen nach Ursachen und Lösungsansätzen\, setzen uns beim Basteln und gemeinsamen Cleanup aktiv und kreativ mit der Thematik auseinander.\n>> Einfache künstlerische Gestaltung aus den Müllfunden mit dem Künstler Claus Staudt – keine Vorkenntnisse nötig. \n>> Es gibt kleine pflanzliche Snacks und coole Musik \nSamstag\, 10. August 2024 & Samstag\, 17. August 2024\, jeweils ab 14 Uhr\nTermine sind auch einzeln besuchbar.\nKomm gerne an beiden Tagen\, um viel zu Basteln oder weiter zu basteln.\nFür ALLE von 12 bis 99 Jahren\, kleinere Kinder mit Bezugsperson auch willkommen \ndie Workshops sind kostenlos\, da gefördert durch „water of the future“ 🙂  \nWo? Johanneskirche im Gemeindesaal mit Außenbereich\, Neckarstraße 84\, Esslingen \nAnmeldung gerne schnellstmöglich\, bis spätestens 4.8.24 an ZuZule@mail.de \nP.S.: Dein gestaltetes Müll-Kunstwerk kann\, wenn Du möchtest\, im September im Rahmen des Esslinger Stadt-im-(Über)Fluss-Kulturfestivals präsentiert werden und Du darfst auch selbst mit dabei sein!
URL:https://wandelstadt-esslingen.de/event/zuzule-workshop-2050-mehr-plastik-im-meer-als-fische/2024-08-10/
LOCATION:Gemeindesaal Johanneskirche\, Neckarstraße 84\, Esslingen\, Baden Würrtemberg\, 73728
ORGANIZER;CN="ZuZule":MAILTO:zuzule@mail.de
END:VEVENT
END:VCALENDAR