BEGIN:VCALENDAR
VERSION:2.0
PRODID:-//Wandelstadt Esslingen - ECPv6.15.20//NONSGML v1.0//EN
CALSCALE:GREGORIAN
METHOD:PUBLISH
X-WR-CALNAME:Wandelstadt Esslingen
X-ORIGINAL-URL:https://wandelstadt-esslingen.de
X-WR-CALDESC:Veranstaltungen für Wandelstadt Esslingen
REFRESH-INTERVAL;VALUE=DURATION:PT1H
X-Robots-Tag:noindex
X-PUBLISHED-TTL:PT1H
BEGIN:VTIMEZONE
TZID:Europe/Berlin
BEGIN:DAYLIGHT
TZOFFSETFROM:+0100
TZOFFSETTO:+0200
TZNAME:CEST
DTSTART:20230326T010000
END:DAYLIGHT
BEGIN:STANDARD
TZOFFSETFROM:+0200
TZOFFSETTO:+0100
TZNAME:CET
DTSTART:20231029T010000
END:STANDARD
BEGIN:DAYLIGHT
TZOFFSETFROM:+0100
TZOFFSETTO:+0200
TZNAME:CEST
DTSTART:20240331T010000
END:DAYLIGHT
BEGIN:STANDARD
TZOFFSETFROM:+0200
TZOFFSETTO:+0100
TZNAME:CET
DTSTART:20241027T010000
END:STANDARD
BEGIN:DAYLIGHT
TZOFFSETFROM:+0100
TZOFFSETTO:+0200
TZNAME:CEST
DTSTART:20250330T010000
END:DAYLIGHT
BEGIN:STANDARD
TZOFFSETFROM:+0200
TZOFFSETTO:+0100
TZNAME:CET
DTSTART:20251026T010000
END:STANDARD
END:VTIMEZONE
BEGIN:VEVENT
DTSTART;VALUE=DATE:20240627
DTEND;VALUE=DATE:20240723
DTSTAMP:20260423T111103
CREATED:20240623T133326Z
LAST-MODIFIED:20240623T133431Z
UID:10003051-1719446400-1721692799@wandelstadt-esslingen.de
SUMMARY:Spiel-Mich: Klavier-Mitmachaktion
DESCRIPTION:Vom 27. Juni bis zum 22. Juli laden sieben Klaviere an sieben unterschiedlichen Standorten zum Musizieren\, Mitmachen und Zuhören ein.\nSpiel Mich in der Esslinger Innenstadt \nAlle Besucherinnen und Besucher Esslingens sind dann herzlich eingeladen die Klaviere inmitten der schönen Kulisse der Esslinger Innenstadt zu bespielen und damit zu einer ganz besonderen Atmosphäre beizutragen. \n  \nDie Klaviere werden von Klavierpaten betreut und von diesen während den jeweiligen Ladenöffnungszeiten und bei gutem Wetter in den öffentlichen Raum gestellt. Dort können die Klaviere genutzt werden. Bei Regen verbleiben die Klaviere geschützt in den Ladeninnenräumen und stehen nicht zu Verfügung. \nWir wünschen uns\, dass jede und jeder Spaß an der Aktion hat. Bitte nehmt bei der Benutzung der Klaviere Rücksicht auf die Umgebung und behandelt die Instrumente mit Sorgfalt. \nBahnhofstraße\nin Kooperation mit Osiander\nMo-Sa 9.30-19.00 Uhr \nDick – Areal\nin Kooperation mit Traumpalast\nMo-So 12-22 Uhr \nPliensaustraße\nin Kooperation mit Marc O‘ Polo\nMo-Fr 10-18 Uhr I Sa 10-16 Uhr \nMarktplatz\nin Kooperation mit der Stadtinformation\nMo-Fr 10-18 Uhr I Sa 10-16 Uhr \nPostmichelbrunnen\nin Kooperation mit Hofmeisterküchen\nMo-Sa 10-19 Uhr \nKüferstraße\nin Kooperation mit dem Weltladen\nMo-Fr 10-18 Uhr I Sa 10-16 Uhr \nRoßmarkt\nin Kooperation mit der Schmuckerei\nMo-Fr 10-19 Uhr I Sa 10-16 Uhr
URL:https://wandelstadt-esslingen.de/event/spiel-mich-klavier-mitmachaktion/
LOCATION:Baden Württemberg
CATEGORIES:Kulturveranstaltung
END:VEVENT
BEGIN:VEVENT
DTSTART;TZID=Europe/Berlin:20240722T153000
DTEND;TZID=Europe/Berlin:20240722T163000
DTSTAMP:20260423T111103
CREATED:20240717T081036Z
LAST-MODIFIED:20240717T081036Z
UID:10003841-1721662200-1721665800@wandelstadt-esslingen.de
SUMMARY:Mahnwache vor der Gemeinderatssitzung
DESCRIPTION:Liebe demokratiebewegte Menschen in Esslingen\, \n  \ndie ersten Sommertage haben uns mit reichlich Hitze verwöhnt\, die EM macht es spannend und lässt teilweise den Alltag in den Hintergrund treten\, die Sommerferien stehen bald vor der Tür\, Urlaubstage locken…man könnte fast vergessen\, dass am 9.6. die AfD in den Esslinger Gemeinderat gewählt worden ist. \nDiese Wahl bedeutet eine Zäsur: Künftig wird die Fraktion dieser rechtsextremen Partei mit ihren ausgrenzenden Positionen versuchen\, das Zusammenleben der Esslinger:innen mitzugestalten. Das wollen wir nicht hinnehmen. Auf das Verhalten der demokratisch-basierten Parteien im Gemeinderat wird es entscheidend ankommen: Die neu mandatierten Gemeinderät:innen tragen hier eine große Verantwortung\, den Einfluss der AfD auf das Zusammenleben der Esslinger Stadtgesellschaft nicht zuzulassen oder gar deren Stimmen für eigene Zwecke zu verwenden. Die Berücksichtigung der unterschiedlichen Interessen der Bürger:innen ist nicht auf diese populistische und rechtsextreme Partei angewiesen. \nEs muss allen deutlich sein\, dass die Brandmauer gegen Rechtsextremismus in Esslingen Bestand hat\, um unser vielfältiges\, offenes und buntes Zusammenleben zu schützen! \nUm die neuen Gemeinderät:innen darauf aufmerksam zu machen rufen wir Euch zum Beginn der ersten Sitzung des neuen Esslinger Gemeinderats am Montag\, 22.07.2024\, 15:30 Uhr zu einer Mahnwache/Aktion Brandmauer vor dem Alten Rathaus auf. Seid dabei\, bezieht Stellung\, lasst Esslingen wissen\, dass wir auf unsere freiheitlich-demokratische Grundordnung und die damit verbundenen Werte acht geben – hier direkt an unserem Lebensmittelpunkt! \nLasst uns gemeinsam kreativ Haltung zeigen und die Gemeinderäte an ihre Verantwortung erinnern mit vielen engagierten Bürger:innen jeden Alters. \nBringt Eure Schilder und Zeichen mit für einen großen\, bunten Protest bzw. für eine Mahnung an das\, was wir schützen und für die Zukunft bewahren werden. #Esslingenbleibtstabil \nWir treffen uns ab 15:30 Uhr vor dem Alten Rathaus – wir zählen auf Euch! \nBitte leitet diesen Aufruf unbedingt in alle Eure Netzwerke weiter\, damit wir zahlreich ein weithin sichtbares Zeichen setzen können. \n  \nEuer Esslinger Bündnis für Demokratie und MenschenrechteEsslinger Bündnis für Demokratie und Menschenrechte
URL:https://wandelstadt-esslingen.de/event/mahnwache-vor-der-gemeinderatssitzung/
LOCATION:Altes Rathaus\, Rathausplatz 1\, Esslingen\, 73728
END:VEVENT
BEGIN:VEVENT
DTSTART;TZID=Europe/Berlin:20240722T173000
DTEND;TZID=Europe/Berlin:20240722T173000
DTSTAMP:20260423T111103
CREATED:20240623T132806Z
LAST-MODIFIED:20240623T132806Z
UID:10003050-1721669400-1721669400@wandelstadt-esslingen.de
SUMMARY:Konstituierende Sitzung des neuen Gemeinderats
DESCRIPTION:Zum gewählten Termin liegt keine Tagesordnung vor. So sehen Sie an dieser Stelle lediglich die allgemeinen Informationen zu diesem Termin.
URL:https://wandelstadt-esslingen.de/event/konstituierende-sitzung-des-neuen-gemeinderats/
LOCATION:Altes Rathaus\, Rathausplatz 1\, Esslingen\, 73728
CATEGORIES:Infoveranstaltung
END:VEVENT
BEGIN:VEVENT
DTSTART;TZID=Europe/Berlin:20240723T191500
DTEND;TZID=Europe/Berlin:20240723T201500
DTSTAMP:20260423T111103
CREATED:20240520T091234Z
LAST-MODIFIED:20260106T174409Z
UID:10002943-1721762100-1721765700@wandelstadt-esslingen.de
SUMMARY:Inklusive Lachyoga-Gruppe
DESCRIPTION:Lachen ist nicht nur gesund\, sondern auch ansteckend. Und genau darum geht es bei Lachyoga. Gemeinsam lachen und sich gut fühlen\, Stress abbauen und entspannen. Zudem stärkt Lachen die Gesundheit. \n\n\n\n\n\nWann:\nDienstags von 19:15 – 20:15 Uhr\nEinstieg jederzeit möglich!\nKeine Anmeldung erforderlich.\n\n\n\nFür wen:\nFür (fast) jeden geeignet\, da Lachyoga keine schwierigen körperlichen Übungen beinhaltet.\n(siehe Details zur Barrierefreiheit)\n\n\nKursleitung:\nSusanne Klaus (Lachyoga Master Trainerin\, Stuttgarter Lachschule)\n\n\nKosten:\nkeine (freiwillige Spendenbasis)\n\n\nMitzubringen:\netwas zum Trinken
URL:https://wandelstadt-esslingen.de/event/inklusive-lachyoga-gruppe/2024-07-23/
LOCATION:Forum Esslingen – Zentrum für Bürgerengagement\, Schelztorstraße 38\, Esslingen\, Deutschland
ATTACH;FMTTYPE=image/jpeg:https://wandelstadt-esslingen.de/wp-content/uploads/2024/05/Lachyoga-Gruppe_Forum-Esslingen_16-9-scaled.jpg
ORGANIZER;CN="InklusivES - Der Esslinger Stammtisch zum Thema Inklusion":MAILTO:c.lira@inklusives.de
END:VEVENT
BEGIN:VEVENT
DTSTART;VALUE=DATE:20240724
DTEND;VALUE=DATE:20240804
DTSTAMP:20260423T111103
CREATED:20240623T132356Z
LAST-MODIFIED:20240623T132356Z
UID:10003049-1721779200-1722729599@wandelstadt-esslingen.de
SUMMARY:Kino auf der Burg
DESCRIPTION:Bereits zum 30. Mal heißt es vom 24.07. bis 03.08. wieder: Hollywood-Blockbuster und Arthouse-Filme vor der einzigartigen Kulisse der Esslinger Burg genießen. \n1993 wurde das Freilichtkino erstmals im Rahmen des Esslinger Kultursommers veranstaltet und hat sich seither zu einer weit über die Stadtgrenzen hinaus bekannten Veranstaltung entwickelt. \nEINLASS TÄGLICH AB 19 UHR – LIVE-MUSIK AB CA. 20:15 UHR – FILMBEGINN 21:45 UHR \nDer Vorverkauf beginnt am 1. Juli 2024. \nZum Programm: https://www.koki-es.de/kino-auf-der-burg-1/programm/
URL:https://wandelstadt-esslingen.de/event/kino-auf-der-burg/
LOCATION:Burg Esslingen\, Schönenbergweg 1\, Esslingen\, 73728
END:VEVENT
BEGIN:VEVENT
DTSTART;TZID=Europe/Berlin:20240724T180000
DTEND;TZID=Europe/Berlin:20240724T210000
DTSTAMP:20260423T111103
CREATED:20240628T154510Z
LAST-MODIFIED:20251125T194322Z
UID:10003058-1721844000-1721854800@wandelstadt-esslingen.de
SUMMARY:Kunststoff-Lab
DESCRIPTION:Positiv gegen Kunststoffverschmutzung \nAn einen Alltag ohne Kunststoffe ist nicht mehr zu denken. Das Material hat nach wie vor wertvolle Eigenschaften\, die wir nach dem “Precious-Plastic-Modell“ in einer kleinen Kunststoffrecycling- Manufaktur einsetzen. “Precious-Plastic“ ist ein internationales Projekt. 2012 in den Niederlanden gestartet\, besteht mittlerweile aus einem globalen Netzwerk von Workspaces. Das Komma in Esslingen ist mit dem @preciousplastic_esslingen Teil dieser Bewegung. 2021 bauten wir unsere Werkstatt mit Maschinen zur Plastikverarbeitung auf. Der Mehrwert des Projektes ist es\, die Möglichkeiten und Grenzen des „Selber-Machens“ selbst zu erfahren\, und zwar in einem für die Kreativität und Empowerment sicheren Ort. \nAus Abfall entsteht ein neuer Rohstoff\, aus dem du eigene Werkstücke wie z. B. kleine Möbel\, Lampen\, Taschen und Schmuck kreieren kannst. Schau dir hier an\, was wir 2023 in der Workshopreihe gemacht haben. \nMit und für junge Menschen: Wir können uns nicht mehr anhören\, wie schlecht die Klimakrise ist. Wir wollen was dagegen machen! Was würdest du daraus machen? \n  \nOffene Kunststoffwerkstatt \nAb Mai 2024 steht immer Mittwochs die offene Kunstwerkstatt für die Einführung in die „Precious-Plastic-Welt“\, die Kunststoffverarbeitung und Materialexperimente zur Verfügung. Plastik wird sortiert\, geschreddert und eingeschmolzen. \nHast du es zum letzten Workshop nicht geschafft und wolltest dir immer Schmuck selber machen? Oder einfach mal mehr über die Kunststoffwerkstatt wissen? Oder hast du sogar ein eigenes Projekt im Kopf\, das du mit Kunststoffplatten versuchen möchtest? Dann ist die offene Werkstatt genau richtig für dich. \nSolltest du es unter der Woche nicht schaffen\, gibt es ab Juni 2024 auch immer am  1. Samstag im Monat die offene Werkstatt. Die Nutzung der Werkstatt ist kostenlos. An den genannten Terminen kannst du ohne Anmeldung teilnehmen.  Ausnahmen aufgrund von Komma Veranstaltungen werden über die Internetseite des Mittwochs geteilt. \nMaterial falls nicht selbst gesammelt\, ist auf Spendenbasis verfügbar\, solange Vorrat reicht. Hier findest du ein How-to-collect\, damit du schauen kannst\, was wir in der Werkstatt grundsätzlich verwenden können. \nEinführungen in die Precious-Plastic-Welt sind auf Deutsch\, Englisch und Spanisch möglich. Hast du noch Fragen? Schreib uns gerne eine Nachricht an plastic@komma.info oder komm einfach vorbei! \nDie Teilnahme ist kostenlos\, wir bitten um Anmeldung per Mail an plastic@komma.info. \nKollabs und Netzwerk \nGroßes Potenzial liegt in unserer interdisziplinären Zusammenarbeit – sowohl im Komma-Team als auch in Kooperationen. Wir arbeiten mit Schulen\, Hochschulen\, Designer*innen\, Initiativen\, Werkstätten und andere Precious Plastics Gruppen auf der Welt zusammen. Hast du eine Idee zu einer Kollaboration? Schreib uns gerne an plastic@komma.info. \nFunfäct \n„The Bänk“\, unser erstes Projekt\, hat es in die Endrunde der RoGUILTLESSPLASTIC Awards geschafft und wurde bei der Mailänder Designwoche (Juni 2022) ausgestellt. Wie das gebaut wurde\, findest du im Video. \nTagesaktuelle Informationen und Workshop-Angebote finden sich auf Instagram @preciousplastic_esslingen \n 
URL:https://wandelstadt-esslingen.de/event/https-www-komma-info-precious-plastic/2024-07-24/
LOCATION:KOMMA\, Maille 5-9\, Esslingen\, Deutschland
END:VEVENT
BEGIN:VEVENT
DTSTART;TZID=Europe/Berlin:20240724T193000
DTEND;TZID=Europe/Berlin:20240724T210000
DTSTAMP:20260423T111103
CREATED:20240206T112222Z
LAST-MODIFIED:20240206T113330Z
UID:10004590-1721849400-1721854800@wandelstadt-esslingen.de
SUMMARY:ES GRÜNT!
DESCRIPTION:Esslingen: eine Stadt kühlt grün\nGlobal denken und regional handeln\, das ist unser Leitspruch. \nKomm gerne vorbei und schreib uns eine Mail an mitmachen@es-gruent.de\, damit wir dir den Ort mitteilen können.
URL:https://wandelstadt-esslingen.de/event/es-gruent-3/2024-07-24/
LOCATION:Baden Württemberg
ATTACH;FMTTYPE=image/jpeg:https://wandelstadt-esslingen.de/wp-content/uploads/2022/10/giesspaten_Natalia_Rak_Girl_with_water_can_Bialystok.jpg
ORGANIZER;CN="ES gr%C3%BCnt":MAILTO:mitmachen@es-gruent.de
END:VEVENT
BEGIN:VEVENT
DTSTART;TZID=Europe/Berlin:20240725T190000
DTEND;TZID=Europe/Berlin:20240725T190000
DTSTAMP:20260423T111103
CREATED:20240628T160749Z
LAST-MODIFIED:20240629T175416Z
UID:10003567-1721934000-1721934000@wandelstadt-esslingen.de
SUMMARY:Fahrradwerkstatt
DESCRIPTION:Wir unterstützen Dich\, wenn Dein Fahrrad nicht mehr tut was es soll.\nFalls Ihr Interesse und Bedarf an unserer Fahrradwerkstatt habt\, meldet Euch per Mail: info@komma. \nVerantwortlich für die Werkstatt ist der Motorradclub Kuhle Wampe. Sie sind ein basisdemokratisch organisierter Motorradclub mit Sitz im Komma und sie betreiben eine Zweiradwerkstatt. Jeden Donnerstag ist die Fahrradwerkstatt geöffnet – bei gutem Wetter wird möglicherweise auch gegrillt.
URL:https://wandelstadt-esslingen.de/event/fahrrad-werkstatt/2024-07-25/
LOCATION:KOMMA\, Maille 5-9\, Esslingen\, Deutschland
END:VEVENT
BEGIN:VEVENT
DTSTART;TZID=Europe/Berlin:20240726T140000
DTEND;TZID=Europe/Berlin:20240726T160000
DTSTAMP:20260423T111103
CREATED:20240208T160917Z
LAST-MODIFIED:20250424T162425Z
UID:10002483-1722002400-1722009600@wandelstadt-esslingen.de
SUMMARY:Beratung Esslinger Initiative
DESCRIPTION:Das Leben vom guten Ende her denken.\n\n\n\n\n\n\n\n\n\n\n\n\n\n\n\n\n\n\n\n\nFreitags 14 bis 16 Uhr kostenlose Beratungen der Esslinger Initiative e.V.\nAnmeldung; Fr 9-11 Uhr über Tel. 0711/357420 \nJa das ist unangenehm\, wo doch jetzt Leben dran ist. Scheint doch auch logisch zu sein es so anzugehen wie Heinz Erhardt seine Gedichte anfing „Ich fang mal mit dem Anfang an“.\n„Das Leben vom guten Ende her denken“ ist quasi das Motto der Esslinger Initiative um die es hier heute geht. Sie selbst bezeichnet sich als \n„Eine Initiative für die Wahrung von Menschenwürde und Selbstbestimmung im Alter und bei Krankheit“\, ausgehend von der Frage: „ \nWie kann das Selbstbestimmungsrecht im Alter und bei Krankheit – also in schwierigen Lebensphasen – erhalten werden?“. \nDie Esslinger Initiative … \n\nsetzt sich ein für einen menschenwürdigen Umgang mit Schwerstkranken und Sterbenden\nfördert die Verbesserung der medizinischen und pflegerischen Versorgung Schwerstkranker und Sterbender (Palliative Care)\ntritt ein für die Wahrung des Selbstbestimmungsrechts im Gesundheitswesen und in der Altenpflege\nwirbt für ihre Anliegen in öffentlichen Veranstaltungen\nbietet Beratungen zur Vorsorge an\nstellt Formulare zur Vorsorge zur Verfügung\nschult Ehrenamtliche zu kompetenten Beraterinnen und Beratern und bildet diese regelmäßig weiter\nunterstützt die Durchsetzung einer vorsorgenden Gesundheitsplanung (ACP)\n\n  \nDas besondere Angebot der Esslinger Initiative ist eine kostenlose und unabhängige Beratung zur Vorsorge\, abgestimmt auf die ganz persönliche Situation. Beratungsstellen im gesamten Landkreis Esslingen und darüber hinaus bieten diese Hilfe an.\nDas Ende geht alle an – ein Angebot an alle über 18!
URL:https://wandelstadt-esslingen.de/event/beratung-esslinger-initiative-bitte-vorab-anmelden/2024-07-26/
LOCATION:Forum Esslingen – Zentrum für Bürgerengagement\, Schelztorstraße 38\, Esslingen\, Deutschland
ORGANIZER;CN="Esslinger Initiative e.V.":MAILTO:news@esslinger-initiative.de
END:VEVENT
BEGIN:VEVENT
DTSTART;TZID=Europe/Berlin:20240726T180000
DTEND;TZID=Europe/Berlin:20240728T170000
DTSTAMP:20260423T111103
CREATED:20240508T154203Z
LAST-MODIFIED:20240604T184338Z
UID:10002917-1722016800-1722186000@wandelstadt-esslingen.de
SUMMARY:GEBEN&GEBEN - das solidarische Festival für Kunst\, Handwerk & Design mit Live Konzert von Kim Hoss
DESCRIPTION:GEBEN&GEBEN\, das solidarische Festival für Kunst\, Handwerk & Design öffnet im Juli 2024 zum vierten Mal seine Pforten im Kulturzentrum DIESELSTRASSE in Esslingen/Neckar. \nVon Freitag 26.07. bis Sonntag 28.07.2024 präsentieren und verkaufen rund 20 kreative Köpfe aus Kunst\, Handwerk & Design vielfältige Produkte: Von Schmuck bis Mode\, Upcycling und Keramik\, über Malerei und Lifestyleprodukte ist für jede*n etwas dabei. \nUnd weil auch der Name des Festivals Programm ist\, werden 10 % des Gesamtumsatzes an unsere diesjährige Partnerorganisation die Amadeu Antonio Stiftung gespendet. \nDie Veranstaltung ist nicht nur eine charmante und professionelle Verkaufsplattform\, sondern auch ein Forum in dem sich junge Labels und Akteur*innen der Kunst- und Kreativszene vernetzen und miteinander ein solidarisches Zeichen setzen. \nAlles in allem erwartet die Besucher*innen eine Auswahl außergewöhnlicher\, handgefertigter und exklusiven Produkte von Selbstständigen und Labels aus der Region\, frei nach dem Motto: Niedrige Stückzahl – hohe Qualität und Individualität. Kulinarik (Heiß- und Kaltgetränke & Essen) und Kultur (DJs und ein Live-Konzert mit Kim Hoss) sowie ein liebevoll gestalteter Außenbereich geben der Veranstaltung einen charmanten Rahmen und schaffen so ein Festival für alle Sinne. \nÖffnungszeiten:\nFreitag\, 26.07.2024: 18 – 21 Uhr (18 Uhr Einlass // 18:30 Uhr Begrüßung & Beginn)\nSamstag\, 27.07.2024: 12 – 18 Uhr (anschließend Live-Konzert von Kim Hoss)\nSonntag\, 28.07.2024: 11 – 17 Uhr \nSolidarischer Eintrittspreis: 2 – 5 €.\nEintritt Konzert: 5 € \nDas Festival ist eine Veranstaltung der Initiative GEBEN&GEBEN in Kooperation mit dem Kulturzentrum DIESELSTRASSE. \nPartnerorganisation \nUnsere diesjährige Partnerorganisation ist die Amadeu Antonio Stiftung. \nSeit ihrer Gründung 1998 ist es das Ziel der Amadeu Antonio Stiftung\, eine demokratische Zivilgesellschaft zu stärken\, die sich konsequent gegen Rechtsextremismus\, Rassismus und Antisemitismus wendet.Dafür unterstützt sie Initiativen und Projekte\, die sich kontinuierlich für eine demokratische Kultur engagieren und für den Schutz von Minderheiten eintreten. Die Stiftung fördert unkompliziert und verteilt das Geld gezielt dort\, wo es am dringendsten benötigt wird.Die wichtigste Aufgabe der Amadeu Antonio Stiftung über eine finanzielle Unterstützung hinaus: Aufmerksamkeit für engagierte Menschen vor Ort zu schaffen und das Thema Rechtsextremismus dauerhaft auf die Tagesordnung zu bringen.\nHintergrund\nDas Festival entspring der Initiative GEBEN&GEBEN\, die im März 2020 als Reaktion auf den ersten coronabedingten Lockdown von der Esslingerin Ellen Weber-Mack ins Leben gerufen wurde. Die Sorge um das gesellschaftliche Gemeinwohl\, gepaart mit der Bedrohung des eigenen Gewerbes\, bewog die selbstständige Goldschmiedemeisterin dazu\, gleichgesinnte Leidensgenoss*innen zu kontaktieren und von ihrer Idee zu überzeugen\, spezielle „Artefakte der Solidarität“ zu fertigen und 10% ihres dadurch erzielten Umsatzes an wechselnde Partnerorganisationen zu spenden. \nEs fanden sich insgesamt rund 20 selbstständige Künstler*innen\, Handwerker*innen und Designer*innen zusammen\, die sich über digitale Wege vernetzten und gegenseitig bewarben. Innerhalb von zwei Jahren erwirtschafteten sie gemeinsam einen stolzen Umsatz von über 26.000 € und generierten somit über 2.600 € an Spenden\, die anteilig an das Deutsche Rote Kreuz\, die SOS Kinderdörfer Weltweit\, Wildwasser Stuttgart e.V. und Ärzte ohne Grenzen weitergegeben wurden. \nEin besonderer Höhepunkt war die Premiere der GEBEN&GEBEN Veranstaltung im Jahr 2021\, bei der sich die kreativen Köpfe zum ersten Mal persönlich begegneten und ihre Produkte einem interessierten Publikum präsentierten. Begeisternde Rückmeldungen von Ausstellenden\, Besucher*innen und der Presse überzeugten Organisatorin Ellen Weber-Mack schnell\, die Veranstaltung auch im Jahr 2022 erneut auszurichten und in den kommenden Jahren weiterzuentwickeln.
URL:https://wandelstadt-esslingen.de/event/gebengeben-das-solidarische-festival-fuer-kunst-handwerk-design-2/
LOCATION:Kulturzentrum Dieselstraße\, Dieselstraße 26\, Esslingen\, Deutschland
CATEGORIES:Kulturveranstaltung,Verkaufsveranstaltung,Vernetzungsveranstaltung
ATTACH;FMTTYPE=image/jpeg:https://wandelstadt-esslingen.de/wp-content/uploads/2024/05/230728_GUG_Fixauswahl-2-of-29-scaled.jpg
ORGANIZER;CN="GEBEN&GEBEN":MAILTO:gebenundgeben@posteo.de
END:VEVENT
BEGIN:VEVENT
DTSTART;TZID=Europe/Berlin:20240728T140000
DTEND;TZID=Europe/Berlin:20240728T140000
DTSTAMP:20260423T111103
CREATED:20240505T114927Z
LAST-MODIFIED:20240505T114927Z
UID:10002858-1722175200-1722175200@wandelstadt-esslingen.de
SUMMARY:Queeres Treffen im Park
DESCRIPTION:Willkommen beim Queeren Treff im Maille Park! ☀️ \nJeden 4. Sonntag im Monat ab 14 Uhr kommen wir zusammen\, um in entspannter Atmosphäre zu plaudern\, Spiele zu spielen und vieles mehr zu erleben. \nAlle sind herzlich willkommen! 🫶 \nBitte beachtet\, dass bei regnerischem Wetter 🌧 der Treff wahrscheinlich abgesagt wird. Aktuelle Informationen dazu findet ihr auf unserem Instagram-Account QueerES e.V. \nFalls du Fragen hast oder dich nicht alleine hintraust\, kannst du dich gerne im Voraus melden. Wir freuen uns darauf\, gemeinsam Zeit zu verbringen und uns auszutauschen! 😊
URL:https://wandelstadt-esslingen.de/event/queeres-treffen-im-park/2024-07-28/
LOCATION:Maillepark\, Wehrneckarstraße\, Esslingen\, 73728
CATEGORIES:Gemütliches Treffen,Vernetzungsveranstaltung
ATTACH;FMTTYPE=image/jpeg:https://wandelstadt-esslingen.de/wp-content/uploads/2024/05/IMG-20240505-WA0001-scaled.jpg
END:VEVENT
END:VCALENDAR