BEGIN:VCALENDAR
VERSION:2.0
PRODID:-//Wandelstadt Esslingen - ECPv6.15.20//NONSGML v1.0//EN
CALSCALE:GREGORIAN
METHOD:PUBLISH
X-WR-CALNAME:Wandelstadt Esslingen
X-ORIGINAL-URL:https://wandelstadt-esslingen.de
X-WR-CALDESC:Veranstaltungen für Wandelstadt Esslingen
REFRESH-INTERVAL;VALUE=DURATION:PT1H
X-Robots-Tag:noindex
X-PUBLISHED-TTL:PT1H
BEGIN:VTIMEZONE
TZID:Europe/Berlin
BEGIN:DAYLIGHT
TZOFFSETFROM:+0100
TZOFFSETTO:+0200
TZNAME:CEST
DTSTART:20230326T010000
END:DAYLIGHT
BEGIN:STANDARD
TZOFFSETFROM:+0200
TZOFFSETTO:+0100
TZNAME:CET
DTSTART:20231029T010000
END:STANDARD
BEGIN:DAYLIGHT
TZOFFSETFROM:+0100
TZOFFSETTO:+0200
TZNAME:CEST
DTSTART:20240331T010000
END:DAYLIGHT
BEGIN:STANDARD
TZOFFSETFROM:+0200
TZOFFSETTO:+0100
TZNAME:CET
DTSTART:20241027T010000
END:STANDARD
BEGIN:DAYLIGHT
TZOFFSETFROM:+0100
TZOFFSETTO:+0200
TZNAME:CEST
DTSTART:20250330T010000
END:DAYLIGHT
BEGIN:STANDARD
TZOFFSETFROM:+0200
TZOFFSETTO:+0100
TZNAME:CET
DTSTART:20251026T010000
END:STANDARD
END:VTIMEZONE
BEGIN:VEVENT
DTSTART;VALUE=DATE:20240627
DTEND;VALUE=DATE:20240723
DTSTAMP:20260423T123524
CREATED:20240623T133326Z
LAST-MODIFIED:20240623T133431Z
UID:10003051-1719446400-1721692799@wandelstadt-esslingen.de
SUMMARY:Spiel-Mich: Klavier-Mitmachaktion
DESCRIPTION:Vom 27. Juni bis zum 22. Juli laden sieben Klaviere an sieben unterschiedlichen Standorten zum Musizieren\, Mitmachen und Zuhören ein.\nSpiel Mich in der Esslinger Innenstadt \nAlle Besucherinnen und Besucher Esslingens sind dann herzlich eingeladen die Klaviere inmitten der schönen Kulisse der Esslinger Innenstadt zu bespielen und damit zu einer ganz besonderen Atmosphäre beizutragen. \n  \nDie Klaviere werden von Klavierpaten betreut und von diesen während den jeweiligen Ladenöffnungszeiten und bei gutem Wetter in den öffentlichen Raum gestellt. Dort können die Klaviere genutzt werden. Bei Regen verbleiben die Klaviere geschützt in den Ladeninnenräumen und stehen nicht zu Verfügung. \nWir wünschen uns\, dass jede und jeder Spaß an der Aktion hat. Bitte nehmt bei der Benutzung der Klaviere Rücksicht auf die Umgebung und behandelt die Instrumente mit Sorgfalt. \nBahnhofstraße\nin Kooperation mit Osiander\nMo-Sa 9.30-19.00 Uhr \nDick – Areal\nin Kooperation mit Traumpalast\nMo-So 12-22 Uhr \nPliensaustraße\nin Kooperation mit Marc O‘ Polo\nMo-Fr 10-18 Uhr I Sa 10-16 Uhr \nMarktplatz\nin Kooperation mit der Stadtinformation\nMo-Fr 10-18 Uhr I Sa 10-16 Uhr \nPostmichelbrunnen\nin Kooperation mit Hofmeisterküchen\nMo-Sa 10-19 Uhr \nKüferstraße\nin Kooperation mit dem Weltladen\nMo-Fr 10-18 Uhr I Sa 10-16 Uhr \nRoßmarkt\nin Kooperation mit der Schmuckerei\nMo-Fr 10-19 Uhr I Sa 10-16 Uhr
URL:https://wandelstadt-esslingen.de/event/spiel-mich-klavier-mitmachaktion/
CATEGORIES:Kulturveranstaltung
END:VEVENT
BEGIN:VEVENT
DTSTART;TZID=Europe/Berlin:20240716T180000
DTEND;TZID=Europe/Berlin:20240716T193000
DTSTAMP:20260423T123524
CREATED:20240629T110455Z
LAST-MODIFIED:20240629T110455Z
UID:10003561-1721152800-1721158200@wandelstadt-esslingen.de
SUMMARY:AG Stadtgärtle - Gemeinsam Gärtnern in der Esslinger City
DESCRIPTION:Die AG Stadtgärtle trifft sich zum Arbeitseinsatz vor Ort am Kesselwasen. Es darf gejätet\, gepflanzt und geerntet werden. Interessierte sind jederzeit herzlich willkommen.
URL:https://wandelstadt-esslingen.de/event/ag-stadtgaertle-gemeinsam-gaertnern-in-der-esslinger-city-4/
CATEGORIES:Infoveranstaltung
ORGANIZER;CN="Transition Town Esslingen - Stadt im Wandel":MAILTO:kontakt@transition-town-es.de
END:VEVENT
BEGIN:VEVENT
DTSTART;TZID=Europe/Berlin:20240716T190000
DTEND;TZID=Europe/Berlin:20240716T190000
DTSTAMP:20260423T123524
CREATED:20240623T131811Z
LAST-MODIFIED:20240623T164536Z
UID:10003045-1721156400-1721156400@wandelstadt-esslingen.de
SUMMARY:Kultur & Co. Zeig dein Land!
DESCRIPTION:KULTUR & CO.\nZEIG DEIN LAND! \nBewohner des Hoffnungshauses in Esslingen mit Fluchthintergrund stellen ihr Land\, ihre Feste und ihre Traditionen vor. Im Gegenzug werden wichtige Punkte der Demokratie besprochen und untersucht\, ob diese auch in den vorgestellten Ländern Anwendung finden.\nDies ist ein wunderbarer Austausch über die vielfältige Welt der Kulturen und demokratischen Werte!\nSei dabei und erlebe spannende Ländervorstellungen und bereichernden Austausch. Bring deine Freunde mit – für das leibliche Wohl ist gesorgt! 🍽️ \n📅 Termine: \n– 16.07.24\n– 17.09.24\n– 29.10.24\n– 26.11.24 \n🕖 Uhrzeit: Jeweils um 19 Uhr \n📍 Ort: CVJM\, Kiesstraße 3\, 73728 Esslingen \nGefördert vom Bundesministerium im Rahmen des Bundesprogramms Demokratie leben im Landkreis Esslingen
URL:https://wandelstadt-esslingen.de/event/kultur-co-zeig-dein-land/2024-07-16/
LOCATION:CVJM-Haus Esslingen\, Kiesstraße 3-5\, Esslingen\, 73728\, Deutschland
CATEGORIES:Beteiligung,Kulturveranstaltung
END:VEVENT
BEGIN:VEVENT
DTSTART;TZID=Europe/Berlin:20240716T191500
DTEND;TZID=Europe/Berlin:20240716T201500
DTSTAMP:20260423T123524
CREATED:20240520T091234Z
LAST-MODIFIED:20260106T174409Z
UID:10002942-1721157300-1721160900@wandelstadt-esslingen.de
SUMMARY:Inklusive Lachyoga-Gruppe
DESCRIPTION:Lachen ist nicht nur gesund\, sondern auch ansteckend. Und genau darum geht es bei Lachyoga. Gemeinsam lachen und sich gut fühlen\, Stress abbauen und entspannen. Zudem stärkt Lachen die Gesundheit. \n\n\n\n\n\nWann:\nDienstags von 19:15 – 20:15 Uhr\nEinstieg jederzeit möglich!\nKeine Anmeldung erforderlich.\n\n\n\nFür wen:\nFür (fast) jeden geeignet\, da Lachyoga keine schwierigen körperlichen Übungen beinhaltet.\n(siehe Details zur Barrierefreiheit)\n\n\nKursleitung:\nSusanne Klaus (Lachyoga Master Trainerin\, Stuttgarter Lachschule)\n\n\nKosten:\nkeine (freiwillige Spendenbasis)\n\n\nMitzubringen:\netwas zum Trinken
URL:https://wandelstadt-esslingen.de/event/inklusive-lachyoga-gruppe/2024-07-16/
LOCATION:Forum Esslingen – Zentrum für Bürgerengagement\, Schelztorstraße 38\, Esslingen\, Deutschland
ATTACH;FMTTYPE=image/jpeg:https://wandelstadt-esslingen.de/wp-content/uploads/2024/05/Lachyoga-Gruppe_Forum-Esslingen_16-9-scaled.jpg
ORGANIZER;CN="InklusivES - Der Esslinger Stammtisch zum Thema Inklusion":MAILTO:c.lira@inklusives.de
END:VEVENT
BEGIN:VEVENT
DTSTART;TZID=Europe/Berlin:20240716T193000
DTEND;TZID=Europe/Berlin:20240716T193000
DTSTAMP:20260423T123524
CREATED:20240622T081056Z
LAST-MODIFIED:20240622T081056Z
UID:10003033-1721158200-1721158200@wandelstadt-esslingen.de
SUMMARY:Esslingen Aufs Rad
DESCRIPTION:Das Bündnis Esslingen aufs Rad trifft sich alle 4 bis 6 Wochen\, das nächste Mal am Dienstag\, 16.07.24 um 19:30 Uhr in der Landhausstrasse 105 (bei Schulz/Grad klingeln). \nAlle unsere Treffen sind offen und wir freuen uns über neue Gesichter und Stimmen. \nNach einer Anmeldung auf dem Newsletter des Bündnis Esslingen aufs Rad erhält man neue Termine am schnellsten.
URL:https://wandelstadt-esslingen.de/event/esslingen-aufs-rad/
END:VEVENT
BEGIN:VEVENT
DTSTART;TZID=Europe/Berlin:20240717T180000
DTEND;TZID=Europe/Berlin:20240717T210000
DTSTAMP:20260423T123524
CREATED:20240628T154510Z
LAST-MODIFIED:20251125T194322Z
UID:10003057-1721239200-1721250000@wandelstadt-esslingen.de
SUMMARY:Kunststoff-Lab
DESCRIPTION:Positiv gegen Kunststoffverschmutzung \nAn einen Alltag ohne Kunststoffe ist nicht mehr zu denken. Das Material hat nach wie vor wertvolle Eigenschaften\, die wir nach dem “Precious-Plastic-Modell“ in einer kleinen Kunststoffrecycling- Manufaktur einsetzen. “Precious-Plastic“ ist ein internationales Projekt. 2012 in den Niederlanden gestartet\, besteht mittlerweile aus einem globalen Netzwerk von Workspaces. Das Komma in Esslingen ist mit dem @preciousplastic_esslingen Teil dieser Bewegung. 2021 bauten wir unsere Werkstatt mit Maschinen zur Plastikverarbeitung auf. Der Mehrwert des Projektes ist es\, die Möglichkeiten und Grenzen des „Selber-Machens“ selbst zu erfahren\, und zwar in einem für die Kreativität und Empowerment sicheren Ort. \nAus Abfall entsteht ein neuer Rohstoff\, aus dem du eigene Werkstücke wie z. B. kleine Möbel\, Lampen\, Taschen und Schmuck kreieren kannst. Schau dir hier an\, was wir 2023 in der Workshopreihe gemacht haben. \nMit und für junge Menschen: Wir können uns nicht mehr anhören\, wie schlecht die Klimakrise ist. Wir wollen was dagegen machen! Was würdest du daraus machen? \n  \nOffene Kunststoffwerkstatt \nAb Mai 2024 steht immer Mittwochs die offene Kunstwerkstatt für die Einführung in die „Precious-Plastic-Welt“\, die Kunststoffverarbeitung und Materialexperimente zur Verfügung. Plastik wird sortiert\, geschreddert und eingeschmolzen. \nHast du es zum letzten Workshop nicht geschafft und wolltest dir immer Schmuck selber machen? Oder einfach mal mehr über die Kunststoffwerkstatt wissen? Oder hast du sogar ein eigenes Projekt im Kopf\, das du mit Kunststoffplatten versuchen möchtest? Dann ist die offene Werkstatt genau richtig für dich. \nSolltest du es unter der Woche nicht schaffen\, gibt es ab Juni 2024 auch immer am  1. Samstag im Monat die offene Werkstatt. Die Nutzung der Werkstatt ist kostenlos. An den genannten Terminen kannst du ohne Anmeldung teilnehmen.  Ausnahmen aufgrund von Komma Veranstaltungen werden über die Internetseite des Mittwochs geteilt. \nMaterial falls nicht selbst gesammelt\, ist auf Spendenbasis verfügbar\, solange Vorrat reicht. Hier findest du ein How-to-collect\, damit du schauen kannst\, was wir in der Werkstatt grundsätzlich verwenden können. \nEinführungen in die Precious-Plastic-Welt sind auf Deutsch\, Englisch und Spanisch möglich. Hast du noch Fragen? Schreib uns gerne eine Nachricht an plastic@komma.info oder komm einfach vorbei! \nDie Teilnahme ist kostenlos\, wir bitten um Anmeldung per Mail an plastic@komma.info. \nKollabs und Netzwerk \nGroßes Potenzial liegt in unserer interdisziplinären Zusammenarbeit – sowohl im Komma-Team als auch in Kooperationen. Wir arbeiten mit Schulen\, Hochschulen\, Designer*innen\, Initiativen\, Werkstätten und andere Precious Plastics Gruppen auf der Welt zusammen. Hast du eine Idee zu einer Kollaboration? Schreib uns gerne an plastic@komma.info. \nFunfäct \n„The Bänk“\, unser erstes Projekt\, hat es in die Endrunde der RoGUILTLESSPLASTIC Awards geschafft und wurde bei der Mailänder Designwoche (Juni 2022) ausgestellt. Wie das gebaut wurde\, findest du im Video. \nTagesaktuelle Informationen und Workshop-Angebote finden sich auf Instagram @preciousplastic_esslingen \n 
URL:https://wandelstadt-esslingen.de/event/https-www-komma-info-precious-plastic/2024-07-17/
LOCATION:KOMMA\, Maille 5-9\, Esslingen\, Deutschland
END:VEVENT
BEGIN:VEVENT
DTSTART;TZID=Europe/Berlin:20240717T183000
DTEND;TZID=Europe/Berlin:20240717T223000
DTSTAMP:20260423T123524
CREATED:20240529T095835Z
LAST-MODIFIED:20240603T153757Z
UID:10003018-1721241000-1721255400@wandelstadt-esslingen.de
SUMMARY:Sicher. Stark. Nein heißt Nein! - Kurs für Frauen ab 16 Jahren
DESCRIPTION:Lerne im geschützten Raum\, wie du gefährliche Situationen rechtzeitig erkennst und dich erfolgreich schützen kannst! \nEine Polizeibeamtin und ein Anti-Gewalt-Trainer geben dir Tipps für selbstbewusste Körpersprache\, klare Kommunikation sowie Strategien zur Deeskalation und Zivilcourage. \nDer Kurs ist für die Teilnehmerinnen kostenlos. \nVerbindliche Anmeldung bis 10. Juli 2024 unter: https://apps.esslingen.de/Veranstaltungen/Anmeldung?Nr=39 \n©Fotini Tikkou – stock.adobe.com \nNoch Fragen? Schreib uns an: reutlingen.pp.praevention.kpraev.es@polizei.bwl.de
URL:https://wandelstadt-esslingen.de/event/sicher-stark-nein-heisst-nein-kurs-fuer-frauen-ab-16-jahren/
LOCATION:Stiftung Jugendhilfe aktiv\, Mülbergerstr. 146\, Esslingen am Neckar\, 73728\, Deutschland
END:VEVENT
BEGIN:VEVENT
DTSTART;TZID=Europe/Berlin:20240717T193000
DTEND;TZID=Europe/Berlin:20240717T210000
DTSTAMP:20260423T123524
CREATED:20240206T112222Z
LAST-MODIFIED:20240206T113330Z
UID:10004589-1721244600-1721250000@wandelstadt-esslingen.de
SUMMARY:ES GRÜNT!
DESCRIPTION:Esslingen: eine Stadt kühlt grün\nGlobal denken und regional handeln\, das ist unser Leitspruch. \nKomm gerne vorbei und schreib uns eine Mail an mitmachen@es-gruent.de\, damit wir dir den Ort mitteilen können.
URL:https://wandelstadt-esslingen.de/event/es-gruent-3/2024-07-17/
ATTACH;FMTTYPE=image/jpeg:https://wandelstadt-esslingen.de/wp-content/uploads/2022/10/giesspaten_Natalia_Rak_Girl_with_water_can_Bialystok.jpg
ORGANIZER;CN="ES gr%C3%BCnt":MAILTO:mitmachen@es-gruent.de
END:VEVENT
BEGIN:VEVENT
DTSTART;TZID=Europe/Berlin:20240718T190000
DTEND;TZID=Europe/Berlin:20240718T190000
DTSTAMP:20260423T123524
CREATED:20240628T160749Z
LAST-MODIFIED:20240629T175416Z
UID:10003566-1721329200-1721329200@wandelstadt-esslingen.de
SUMMARY:Fahrradwerkstatt
DESCRIPTION:Wir unterstützen Dich\, wenn Dein Fahrrad nicht mehr tut was es soll.\nFalls Ihr Interesse und Bedarf an unserer Fahrradwerkstatt habt\, meldet Euch per Mail: info@komma. \nVerantwortlich für die Werkstatt ist der Motorradclub Kuhle Wampe. Sie sind ein basisdemokratisch organisierter Motorradclub mit Sitz im Komma und sie betreiben eine Zweiradwerkstatt. Jeden Donnerstag ist die Fahrradwerkstatt geöffnet – bei gutem Wetter wird möglicherweise auch gegrillt.
URL:https://wandelstadt-esslingen.de/event/fahrrad-werkstatt/2024-07-18/
LOCATION:KOMMA\, Maille 5-9\, Esslingen\, Deutschland
END:VEVENT
BEGIN:VEVENT
DTSTART;TZID=Europe/Berlin:20240719T140000
DTEND;TZID=Europe/Berlin:20240719T160000
DTSTAMP:20260423T123524
CREATED:20240208T160917Z
LAST-MODIFIED:20250424T162425Z
UID:10002482-1721397600-1721404800@wandelstadt-esslingen.de
SUMMARY:Beratung Esslinger Initiative
DESCRIPTION:Das Leben vom guten Ende her denken.\n\n\n\n\n\n\n\n\n\n\n\n\n\n\n\n\n\n\n\n\nFreitags 14 bis 16 Uhr kostenlose Beratungen der Esslinger Initiative e.V.\nAnmeldung; Fr 9-11 Uhr über Tel. 0711/357420 \nJa das ist unangenehm\, wo doch jetzt Leben dran ist. Scheint doch auch logisch zu sein es so anzugehen wie Heinz Erhardt seine Gedichte anfing „Ich fang mal mit dem Anfang an“.\n„Das Leben vom guten Ende her denken“ ist quasi das Motto der Esslinger Initiative um die es hier heute geht. Sie selbst bezeichnet sich als \n„Eine Initiative für die Wahrung von Menschenwürde und Selbstbestimmung im Alter und bei Krankheit“\, ausgehend von der Frage: „ \nWie kann das Selbstbestimmungsrecht im Alter und bei Krankheit – also in schwierigen Lebensphasen – erhalten werden?“. \nDie Esslinger Initiative … \n\nsetzt sich ein für einen menschenwürdigen Umgang mit Schwerstkranken und Sterbenden\nfördert die Verbesserung der medizinischen und pflegerischen Versorgung Schwerstkranker und Sterbender (Palliative Care)\ntritt ein für die Wahrung des Selbstbestimmungsrechts im Gesundheitswesen und in der Altenpflege\nwirbt für ihre Anliegen in öffentlichen Veranstaltungen\nbietet Beratungen zur Vorsorge an\nstellt Formulare zur Vorsorge zur Verfügung\nschult Ehrenamtliche zu kompetenten Beraterinnen und Beratern und bildet diese regelmäßig weiter\nunterstützt die Durchsetzung einer vorsorgenden Gesundheitsplanung (ACP)\n\n  \nDas besondere Angebot der Esslinger Initiative ist eine kostenlose und unabhängige Beratung zur Vorsorge\, abgestimmt auf die ganz persönliche Situation. Beratungsstellen im gesamten Landkreis Esslingen und darüber hinaus bieten diese Hilfe an.\nDas Ende geht alle an – ein Angebot an alle über 18!
URL:https://wandelstadt-esslingen.de/event/beratung-esslinger-initiative-bitte-vorab-anmelden/2024-07-19/
LOCATION:Forum Esslingen – Zentrum für Bürgerengagement\, Schelztorstraße 38\, Esslingen\, Deutschland
ORGANIZER;CN="Esslinger Initiative e.V.":MAILTO:news@esslinger-initiative.de
END:VEVENT
BEGIN:VEVENT
DTSTART;TZID=Europe/Berlin:20240719T180000
DTEND;TZID=Europe/Berlin:20240719T180000
DTSTAMP:20260423T123524
CREATED:20221010T204011Z
LAST-MODIFIED:20221010T204011Z
UID:10000349-1721412000-1721412000@wandelstadt-esslingen.de
SUMMARY:Critical Mass
DESCRIPTION:Critical Mass ist eine weltweite Fahrrad­bewegung\, um eine Alternative zum motorisi­erten Individual­verkehr aufzu­zeigen. Grundlage bildet Paragraph 27 der Straßenverkehrs-Ordnung. \nBei der Critical Mass Esslingen treffen sich jeden 3. Freitag im Monat Radfahrerinnen und Radfahrer zur gemeinsamen Fahrrad­ausfahrt durch Esslingen. Treffpunkt ist um 18:00 Uhr auf dem Bahnhofsvorplatz. Im Anschluss findet oft noch ein Erfahrungsaustausch beim „Radlerstammtisch“ statt.
URL:https://wandelstadt-esslingen.de/event/critical-mass-2/2024-07-19/
LOCATION:Bahnhofsvorplatz\, Esslingen
ORGANIZER;CN="Critical Mass":MAILTO:schugra@posteo.de
END:VEVENT
BEGIN:VEVENT
DTSTART;TZID=Europe/Berlin:20240720T150000
DTEND;TZID=Europe/Berlin:20240720T173000
DTSTAMP:20260423T123524
CREATED:20240629T110904Z
LAST-MODIFIED:20240629T110904Z
UID:10003562-1721487600-1721496600@wandelstadt-esslingen.de
SUMMARY:AG Gewaltfreie Kommunikation
DESCRIPTION:Diese AG trifft sich regelmäßig\, um die Gewaltfreie Kommunikation nach Marshall Rosenberg gemeinsam zu üben.
URL:https://wandelstadt-esslingen.de/event/ag-gewaltfreie-kommunikation-3/
ORGANIZER;CN="Transition Town Esslingen - Stadt im Wandel":MAILTO:kontakt@transition-town-es.de
END:VEVENT
BEGIN:VEVENT
DTSTART;TZID=Europe/Berlin:20240721T110000
DTEND;TZID=Europe/Berlin:20240721T110000
DTSTAMP:20260423T123524
CREATED:20231024T145423Z
LAST-MODIFIED:20260218T101216Z
UID:10002046-1721559600-1721559600@wandelstadt-esslingen.de
SUMMARY:Internationales Frühstück
DESCRIPTION:Das Internationale Frühstück ist mittlerweile in Esslingen zur Institution geworden. Der Verein ADG e.V. (Interkulturelles Forum Esslingen) organisiert und gestaltet jeden 3. Sonntag im Monat Begegnungen zwischen Menschen unterschiedlicher Herkunft und Kultur. In den Räumen des Kulturzentrums Dieselstrasse treffen sich monatlich bis zu hundert bzw. jährlich über tausend Menschen in gemütlicher Atmosphäre zum Austausch. Für das Wohlergehen der Gäste sorgen engagierte Ehrenamtliche\, denen diese Begegnungen schon seit vielen Jahren am Herzen liegen. Mittlerweile organisieren diese  hier nicht nur „Brot\, Brötchen\, Butter\, Marmelade\, Kaffee und Tee“ \, sondern stellen ein vielseitiges internationales Frühstück auf die Beine. Um die Quantität des Frühstücks bezuibehalten\, sowie\, um die stetig steigende Zahl der Gäste weiterhin bewältigen zu können\, bedarf es jedoch zusätzlicher Unterstützung. Ehrenamtlich engagierte Helfer/innen sind daher nicht nur herzlich willkommen. \nJeden 3. Sonntag im Monat um 11 Uhr im Kulturzentrum Dieselstrasse! \nPreise: \n\nErwachsene: 10.-€\nKinder/Ermäßigt: 5.-€\nFamilie mit  einem Kind: 22.-€\nFamilie mit zwei Kinder: 25.-€\nAufpreis für Veranstaltungen im Rahmen des Frühstücks: 5.-€
URL:https://wandelstadt-esslingen.de/event/internationales-fruehstueck/2024-07-21/
LOCATION:Kulturzentrum Dieselstraße\, Dieselstraße 26\, Esslingen\, Deutschland
END:VEVENT
END:VCALENDAR