BEGIN:VCALENDAR
VERSION:2.0
PRODID:-//Wandelstadt Esslingen - ECPv6.15.20//NONSGML v1.0//EN
CALSCALE:GREGORIAN
METHOD:PUBLISH
X-WR-CALNAME:Wandelstadt Esslingen
X-ORIGINAL-URL:https://wandelstadt-esslingen.de
X-WR-CALDESC:Veranstaltungen für Wandelstadt Esslingen
REFRESH-INTERVAL;VALUE=DURATION:PT1H
X-Robots-Tag:noindex
X-PUBLISHED-TTL:PT1H
BEGIN:VTIMEZONE
TZID:Europe/Berlin
BEGIN:DAYLIGHT
TZOFFSETFROM:+0100
TZOFFSETTO:+0200
TZNAME:CEST
DTSTART:20220327T010000
END:DAYLIGHT
BEGIN:STANDARD
TZOFFSETFROM:+0200
TZOFFSETTO:+0100
TZNAME:CET
DTSTART:20221030T010000
END:STANDARD
BEGIN:DAYLIGHT
TZOFFSETFROM:+0100
TZOFFSETTO:+0200
TZNAME:CEST
DTSTART:20230326T010000
END:DAYLIGHT
BEGIN:STANDARD
TZOFFSETFROM:+0200
TZOFFSETTO:+0100
TZNAME:CET
DTSTART:20231029T010000
END:STANDARD
BEGIN:DAYLIGHT
TZOFFSETFROM:+0100
TZOFFSETTO:+0200
TZNAME:CEST
DTSTART:20240331T010000
END:DAYLIGHT
BEGIN:STANDARD
TZOFFSETFROM:+0200
TZOFFSETTO:+0100
TZNAME:CET
DTSTART:20241027T010000
END:STANDARD
END:VTIMEZONE
BEGIN:VEVENT
DTSTART;TZID=Europe/Berlin:20231127T183000
DTEND;TZID=Europe/Berlin:20231127T200000
DTSTAMP:20260424T153649
CREATED:20231121T091541Z
LAST-MODIFIED:20231121T091541Z
UID:10002112-1701109800-1701115200@wandelstadt-esslingen.de
SUMMARY:Infoveranstaltung zur Kommunalen Wärmeplanung
DESCRIPTION:Die Ergebnisse der Kommunalen Wärmeplanung für Esslingen liegen vor und wurden im Ausschuss für Technik und Umwelt am 8.11. vorgestellt.\nAm 18. Dezember 2023 wird im Gemeinderat über den Plan entschieden.\nWas steht drin und was bedeutet das für unsere Wärmeversorgung?\nSteffen Petruch ist Leiter der Beratungsstelle kommunale Wärmeplanung in der Region Stuttgart-West und berät zahlreiche Städte und Gemeinden\, er wird die wichtigsten Aspekte der kommunalen Wärmeplanung für Esslingen vorstellen\, anschliessend ist Gelegenheit zur Diskussion!
URL:https://wandelstadt-esslingen.de/event/infoveranstaltung-zur-kommunalen-waermeplanung/
LOCATION:Forum Esslingen – Zentrum für Bürgerengagement\, Schelztorstraße 38\, Esslingen\, Deutschland
ORGANIZER;CN="B%C3%BCndnis f%C3%BCr Klimagerechtigkeit Esslingen":MAILTO:info@klimagerechtigkeit-esslingen.de
END:VEVENT
BEGIN:VEVENT
DTSTART;TZID=Europe/Berlin:20231128T193000
DTEND;TZID=Europe/Berlin:20231128T193000
DTSTAMP:20260424T153649
CREATED:20231024T145725Z
LAST-MODIFIED:20231024T145725Z
UID:10002098-1701199800-1701199800@wandelstadt-esslingen.de
SUMMARY:Lebendige Innenstadt für alle – sozial\, kulturell\, ökologisch und ökonomisch
DESCRIPTION:Die Esslinger Innenstadt ist einem starken Veränderungsdruck ausgesetzt: In den vergangenen Jahren sind viele traditionelle Einzelhandelsgeschäfte verschwunden\, haben viele Läden großer Ketten geöffnet (teilweise auch schon wieder zugemacht) und es fallen häufiger Leerstände auf. Es gibt ein großes\, sich ständig veränderndes Gastronomieangebot\, aber es gibt nur wenige Orte und Räume\, in denen sich Menschen treffen können\, ohne gleichzeitig konsumieren zu müssen. \nMittlerweile scheint auch in der Politik angekommen zu sein\, dass es notwendig oder sinnvoll sein könnte\, in den Veränderungsprozess steuernd einzugreifen\, um eine lebendige Innenstadt zu erhalten bzw. neu zu entwickeln. Der AK Ökonomie lädt alle\, die an dieser Entwicklung interessiert sind\, zur Mitdiskussion ein: \nAndreas Hofer\, der Intendant der Internationalen Bauausstellung 2027\, wird mit einem Impulsreferat zu Chancen und Risiken der Entwicklungen von Innenstädten ins Thema einführen. Danach werden Vertreter*innen des Bürgerausschusses Innenstadt (Dagmar Bahr / Dirk Zimmermann)\, der City Initiative Esslingen (Citymanagerin Carina Killer)\, der AG Mobilität des Klimabündnisses Esslingen (Petra Schulz) und des Projekts für einen Treff am Bahnhof (Anja Wessels-Czerwinski von der Evangelischen Gesellschaft) ihre Wunschvorstellungen an eine lebendige Esslinger Innenstadt vorstellen.\nNach parallelen Diskussionen der einzelnen Vorschläge endet die Veranstaltung mit einer Abschluss-Podiumsdiskussion aller aktiven Impulsgeber*innen. \nVeranstalter:  Arbeitskreis Ökonomie Esslingen (Attac Esslingen\, Caritas Fils-Neckar-Alb\, DGB\, Evang. Bildungswerk\, Evang. Kirchenbezirk Esslingen\, Heimstatt\, Kath. Erwachsenenbildung\, Kreisdiakonie\, Kulturzentrum Dieselstraße\, vhs Esslingen\, Evangelische Gesellschaft Stuttgart) \nEintritt frei – Spende erwünscht an: keb Landkreis Esslingen e.V.\, DE 36 6115 0020 0000 5982 68
URL:https://wandelstadt-esslingen.de/event/lebendige-innenstadt-fuer-alle-sozial-kulturell-oekologisch-und-oekonomisch/
LOCATION:Kulturzentrum Dieselstraße\, Dieselstraße 26\, Esslingen\, Deutschland
END:VEVENT
BEGIN:VEVENT
DTSTART;TZID=Europe/Berlin:20231130T180000
DTEND;TZID=Europe/Berlin:20231130T180000
DTSTAMP:20260424T153649
CREATED:20231026T154145Z
LAST-MODIFIED:20231026T154145Z
UID:10002103-1701367200-1701367200@wandelstadt-esslingen.de
SUMMARY:Klimaproteste/Demokratie/Wie bekommen wir den Wandel demokratisch hin? Demokratiewerkstatt
DESCRIPTION:Die zweite Veranstaltung widmet sich dem Klimaschutz. Mit verschiedenen Akteuren diskutieren wir\, wie man ein so großes Problem in einer Demokratie adressieren kann? Welche Ansätze sind am erfolgversprechendsten? Was kann die Stadt und die Stadtgesellschaft selbst dazu beitragen? Wo liegen aber auch Grenzen?
URL:https://wandelstadt-esslingen.de/event/klimaproteste-demokratie-wie-bekommen-wir-den-wandel-demokratisch-hin-demokratiewerkstatt/
LOCATION:Volkshochschule\, Mettinger Straße 125\, Esslingen am Neckar\, 73728\, Deutschland
ORGANIZER;CN="Volkshochschule Esslingen":MAILTO:info@vhs-esslingen.de
END:VEVENT
BEGIN:VEVENT
DTSTART;TZID=Europe/Berlin:20231130T190000
DTEND;TZID=Europe/Berlin:20231130T190000
DTSTAMP:20260424T153649
CREATED:20231123T091917Z
LAST-MODIFIED:20231123T091917Z
UID:10002114-1701370800-1701370800@wandelstadt-esslingen.de
SUMMARY:Made in Bangladesh
DESCRIPTION:Eine Veranstaltung von ENGAGEMENT GLOBAL\, Außenstelle Stuttgart | Einführung & Talk \nin Kooperation mit Chancengleichheitsbeauftragte der Stadt Esslingen und Sompon Socialservices | Einführung: Anna Schick\, ENGAGEMENT GLOBAL | Talk mit Ingeborg Pujiula\, FEMNET e.V. | EINTRITT FREI: Tickets können kostenlos und platzgenau online „gekauft“ werden | im Anshcluss lädt Sie Engagment Global zu leckeren Snacks und einem alkoholfreien Getränk auf die Galerie des LUX ein \n\n»Keine Spur von flachem Agitprop oder Appellen ans westliche Publikum\, Kleidung „Made in Bangladesh“ künftig zu verschmähen. (…) Rubaiyat Hossain nähert sich der wahren Geschichte mit den Mitteln filmischer Poesie.« [epd film] \nShimu arbeitet in einer Textilfabrik in Dhaka. Als ein Feuer ausbricht\, stirbt eine Kollegin\, andere werden schwer verletzt. Shimu kommt mit einem Schock davon. Sie beginnt\, sich zusammen mit anderen Arbeiterinnen für die Gründung einer Gewerkschaft zu engagieren und ist nicht mehr bereit\, sich weiterhin den patriarchalen Strukturen zu unterwerfen – weder bei der Arbeit\, noch in ihrer Ehe.
URL:https://wandelstadt-esslingen.de/event/made-in-bangladesh/
LOCATION:Kommunales Kino\, Maille 4-9\, Esslingen\, 73728\, Deutschland
END:VEVENT
BEGIN:VEVENT
DTSTART;TZID=Europe/Berlin:20231202T110000
DTEND;TZID=Europe/Berlin:20231202T130000
DTSTAMP:20260424T153649
CREATED:20231201T162443Z
LAST-MODIFIED:20231201T162443Z
UID:10002188-1701514800-1701522000@wandelstadt-esslingen.de
SUMMARY:Klimawaage: „Hat Klimaschutz etwas mit Liebe zu tun?“
DESCRIPTION:Klimaschutz und Liebe – passt das zusammen? \n \n  \nKurz vor dem ersten Advent möchten wir mit Passant:innen und Euch noch einmal ins Gespräch kommen. Wir werden unsere Klimawaage an der Kreuzung Oberer/Unterer Metzgerbach/Pliensaustraße (bei GelatOne) aufbauen. Und zwar diesmal mit einer Frage\, die in die vorweihnachtliche Zeit passt: „Hat Klimaschutz etwas mit Liebe zu tun?“ Diese Frage ist ungewöhnlich\, oder? \nDer Klimanotstand ist als rein wissenschaftliches Phänomen zu betrachten\, und auch eine konsequente Klimapolitik kann mit Daten und Fakten belegt und umgesetzt werden. Wenn wir „Liebe“ sagen\, denken wir an die romantische Liebe\, an die eigenen Kinder und die Familie; also vor allem an ein Gefühl\, an eine Beschreibung für eine besondere Beziehung mit Menschen. Wen wir lieben\, wollen wir beschützen. Wie würdet Ihr Eure Beziehung zur Welt definieren? Was ist damit überhaupt gemeint; mit der „Welt“? Lässt sie sich lieben? Was an ihr würdet Ihr schützen wollen? Landschaften vielleicht\, in denen Ihr als Kinder gern Zeit verbracht habt? Wälder\, Wanderwege\, Seen\, eine Lichtung\, die je spezifischen Düfte\, Klänge und die damit verbundenen Erinnerungen? Von vielen Landschaften denken wir noch immer\, dass es sie ewig geben wird; so wie es sie schon Jahrhunderte oder gar Jahrtausende vor uns gab. Aber viele von ihnen sind bereits verschwunden\, werden verschwinden oder sich tiefgreifend verändern. Was ist das für ein Gefühl? Wenn es nicht Liebe und Trauer ist oder nicht so genannt werden soll\, weil es vielleicht  zu esoterisch oder zu religiös klingt\, was ist es dann?\nWir sind neugierig darauf\, mit Euch über diese auch für uns außergewöhnliche Frage ins Gespräch zu kommen und euch zuzuhören.
URL:https://wandelstadt-esslingen.de/event/klimawaage-hat-klimaschutz-etwas-mit-liebe-zu-tun/
LOCATION:Ecke Oberer und Unterer Metzgerbach mit Pliensaustraße (bei GelatOne)\, Unterer Metzgerbach\, Esslingen am Neckar
ORGANIZER;CN="Parents for Future":MAILTO:esslingen@parentsforfuture.de
END:VEVENT
END:VCALENDAR