BEGIN:VCALENDAR
VERSION:2.0
PRODID:-//Wandelstadt Esslingen - ECPv6.15.20//NONSGML v1.0//EN
CALSCALE:GREGORIAN
METHOD:PUBLISH
X-ORIGINAL-URL:https://wandelstadt-esslingen.de
X-WR-CALDESC:Veranstaltungen für Wandelstadt Esslingen
REFRESH-INTERVAL;VALUE=DURATION:PT1H
X-Robots-Tag:noindex
X-PUBLISHED-TTL:PT1H
BEGIN:VTIMEZONE
TZID:Europe/Berlin
BEGIN:DAYLIGHT
TZOFFSETFROM:+0100
TZOFFSETTO:+0200
TZNAME:CEST
DTSTART:20220327T010000
END:DAYLIGHT
BEGIN:STANDARD
TZOFFSETFROM:+0200
TZOFFSETTO:+0100
TZNAME:CET
DTSTART:20221030T010000
END:STANDARD
BEGIN:DAYLIGHT
TZOFFSETFROM:+0100
TZOFFSETTO:+0200
TZNAME:CEST
DTSTART:20230326T010000
END:DAYLIGHT
BEGIN:STANDARD
TZOFFSETFROM:+0200
TZOFFSETTO:+0100
TZNAME:CET
DTSTART:20231029T010000
END:STANDARD
BEGIN:DAYLIGHT
TZOFFSETFROM:+0100
TZOFFSETTO:+0200
TZNAME:CEST
DTSTART:20240331T010000
END:DAYLIGHT
BEGIN:STANDARD
TZOFFSETFROM:+0200
TZOFFSETTO:+0100
TZNAME:CET
DTSTART:20241027T010000
END:STANDARD
END:VTIMEZONE
BEGIN:VEVENT
DTSTART;TZID=Europe/Berlin:20231121T190000
DTEND;TZID=Europe/Berlin:20231121T210000
DTSTAMP:20260424T084927
CREATED:20231019T132024Z
LAST-MODIFIED:20231019T132210Z
UID:10002024-1700593200-1700600400@wandelstadt-esslingen.de
SUMMARY:Wärmepumpe\, PV & Co.
DESCRIPTION:Die Regionalgruppe Esslingen der Teckwerke Bürgerenergie lädt ein zum Energieabend \n„Wärmepumpe\, PV & Co. „ \nam 21.11.2023 von 19 bis 21 Uhr  im Mehrgenerationenhaus Esslingen\, Weilstr. 8 \nAnmeldung erwünscht unter: energie@klimagerechtigkeit-esslingen.de
URL:https://wandelstadt-esslingen.de/event/waermepumpe-pv-co/
LOCATION:Bürgerhaus Pliensauvorstadt\, Weilstraße 8\, Esslingen\, 73734
ATTACH;FMTTYPE=image/jpeg:https://wandelstadt-esslingen.de/wp-content/uploads/2023/10/Energieabend-21.11.-1.jpg
ORGANIZER;CN="Regionalgruppe Esslingen der Teckwerke B%C3%BCrgerenergie":MAILTO:esslingen@teckwerke.de
END:VEVENT
BEGIN:VEVENT
DTSTART;TZID=Europe/Berlin:20231121T190000
DTEND;TZID=Europe/Berlin:20231121T220000
DTSTAMP:20260424T084927
CREATED:20231026T154041Z
LAST-MODIFIED:20231026T154041Z
UID:10002102-1700593200-1700604000@wandelstadt-esslingen.de
SUMMARY:Selbstinstallation ( DIY ) von Photovoltaik-Anlagen Interaktives Online-Seminar
DESCRIPTION:Für Inhaber eines Kulturpass Skonto ist eine Internetanmeldung aus technischen Gründen momentan leider noch nicht möglich. Bitte melden Sie sich tel. unter 0711 550210 oder Email info@vhs-esslingen.de zum Kurs an. \nÖkostrom für 10 Cent die kWh mit einer selbst installierten Photovoltaikanlage.\nWie das sicher und ganz legal funktioniert\, wenn man handwerklich begabt ist\, wird hier erklärt.\nDabei stehen folgende Fragen im Mittelpunkt:\n– Zeitlicher Ablauf\n– Planungstätigkeit\n– Befestigung der Solaranlage ( PV-Module und Wechselrichter )\n– Modul- und Wechselrichterauswahl\n– Unterschied Modul- versus Stringwechselrichter\n– Wie kann man mehr als ein Balkonkraftwerk\, als eine gemeinsame PV-Anlagen betreiben ?\n– Was muss ein Elektriker machen\, was kann man selbst machen ?\nDie Lernenden können am Ende des Webinars unterschiedliche Systeme analysieren und auf die eigene Situation bei sich zu Hause anpassen.\nJede:r Teilnehmende bekommt die Unterlagen\, um alles nachzuvollziehen.\nVoraussetzung für den Kurs: Die Teilnehmer:inne sollten an den Kursen „Balkonkraftwerke“ UND „Photovoltaikanlage“ teilgenommen haben.
URL:https://wandelstadt-esslingen.de/event/selbstinstallation-diy-von-photovoltaik-anlagen-interaktives-online-seminar/
LOCATION:Volkshochschule\, Mettinger Straße 125\, Esslingen am Neckar\, 73728\, Deutschland
ORGANIZER;CN="Volkshochschule Esslingen":MAILTO:info@vhs-esslingen.de
END:VEVENT
BEGIN:VEVENT
DTSTART;TZID=Europe/Berlin:20231122T180000
DTEND;TZID=Europe/Berlin:20231122T193000
DTSTAMP:20260424T084927
CREATED:20231026T153926Z
LAST-MODIFIED:20231026T153926Z
UID:10002101-1700676000-1700681400@wandelstadt-esslingen.de
SUMMARY:Lichtverschmutzung: Ursache\, Auswirkungen auf Flora und Fauna und Lösungsmöglichkeiten
DESCRIPTION:Menschen nutzen künstliches Licht umfangreich und haben damit „Die Nacht zum Tag gemacht“. Allerdings kann Licht zur falschen Zeit\, am falschen Ort und in der falschen Farbe als Lichtverschmutzung auftreten. Dies kann negative Auswirkungen auf Flora\, Fauna\, den Menschen\, auf ganze Ökosysteme und die Biodiversität bewirken. In diesem Vortrag wird Lichtverschmutzung und deren ökologische Auswirkungen in der Breite präsentiert und diskutiert. Des Weiteren werden neueste Forschungsergebnisse u.a. aus dem Projekt „NaturLicht“ des Sonderprogramms vorgestellt und praktische Beispiele für nachhaltige und umweltfreundliche Beleuchtung aufgezeigt.
URL:https://wandelstadt-esslingen.de/event/lichtverschmutzung-ursache-auswirkungen-auf-flora-und-fauna-und-loesungsmoeglichkeiten/
LOCATION:Volkshochschule\, Mettinger Straße 125\, Esslingen am Neckar\, 73728\, Deutschland
ORGANIZER;CN="Volkshochschule Esslingen":MAILTO:info@vhs-esslingen.de
END:VEVENT
BEGIN:VEVENT
DTSTART;TZID=Europe/Berlin:20231122T180000
DTEND;TZID=Europe/Berlin:20231122T200000
DTSTAMP:20260424T084927
CREATED:20231011T100932Z
LAST-MODIFIED:20231011T100932Z
UID:10002023-1700676000-1700683200@wandelstadt-esslingen.de
SUMMARY:Gemüse haltbar machen – diesmal zu Brotaufstrichen\, Dips und Chutneys
DESCRIPTION:Sommerzeit ist Einmachzeit! Regionales Gemüse im Überfluss\, Gärtner*innen werden endlich reich belohnt nach all den Mühen. Aber auch in Frühjahr und Herbst gibt es genug\, um etwas für den Winter einzumachen.\nGemeinsam wollen wir allerlei Gemüse zu Aufstrichen usw. verarbeiten und einmachen.\nAlles auf jeden Fall ohne Zusatzstoffe und Pestizide\, aber mit großteils regionalem Obst und Gemüse und frischen Kräutern. Jeder Teilnehmer darf am Ende seine hergestellten Produkte mitnehmen. \nMitbringen:\nSchraubgläser (z. B. die von Zwergenwiese)\, Schürze\, Stoffreste\, Schere\, Brettchen und Messer\n…€ für Lebensmittel
URL:https://wandelstadt-esslingen.de/event/gemuese-haltbar-machen-diesmal-zu-brotaufstrichen-dips-und-chutneys/
ORGANIZER;CN="Frag die Bine":MAILTO:bine@gutes-leben-akademie.de
END:VEVENT
BEGIN:VEVENT
DTSTART;TZID=Europe/Berlin:20231122T190000
DTEND;TZID=Europe/Berlin:20231122T210000
DTSTAMP:20260424T084927
CREATED:20231027T045735Z
LAST-MODIFIED:20231027T045735Z
UID:10002106-1700679600-1700686800@wandelstadt-esslingen.de
SUMMARY:Mitgliederversammlung der Initiative für gesunde Luft
DESCRIPTION:
URL:https://wandelstadt-esslingen.de/event/mitgliederversammlung-der-initiative-fuer-gesunde-luft/
LOCATION:Mehrgenerationenhaus Esslingen\, Weilstraße 8\, Esslingen
ORGANIZER;CN="Initiative f%C3%BCr gesunde Luft in%C2%A0Ballungsgebieten":MAILTO:info@feinstaub-esslingen.de
END:VEVENT
BEGIN:VEVENT
DTSTART;TZID=Europe/Berlin:20231123T100000
DTEND;TZID=Europe/Berlin:20231123T160000
DTSTAMP:20260424T084927
CREATED:20230827T041848Z
LAST-MODIFIED:20230827T041848Z
UID:10001747-1700733600-1700755200@wandelstadt-esslingen.de
SUMMARY:Kunststoff-Lab
DESCRIPTION:Precious Plastics ist ein internationales Kunststoff-Recycling-Projekt\, das in den Niederlanden 2013 ins Leben gerufen wurde. Ziel ist es\, Abfall in wertvolle Rohstoffe und neue Produkte umzuwandeln. \nMit dem Aufbau der Maschinen zur Plastikverarbeitung ist seit 2021 auch das Komma in Esslingen ein Teil dieser Bewegung. Wir arbeiten mit Schulen\, Hochschulen\, Designer*innen\, Initiativen und anderen Precious Plastics Gruppen auf der Welt zusammen. \nIm 2. Halbjahr 2023 wird es im Rahmen des „KOMMA Kunststoff-Lab“ 5 Workshoptage von 10 bis 16 Uhr für Experimente mit folgenden Schwerpunkten im praktischen Teil geben. \n21. September – Taschen\n5. Oktober – Schmuck\n19. Oktober – Spiegelrahmen\n9. November – Schmuck\n23. November – Lampen \nJeder Workshoptag wird in Zusammenarbeit mit dem Bildungsprojekt Plastic Up Let’s do it durchgeführt\, die den ersten Teil des Workshops gestalten. Es werden Grundlagen über Kunststoffe\, deren Vor- und Nachteile und das System der Kreislaufwirtschaft gezeigt. \nWollt Ihr mitmachen\, meldet Euch bitte vorher an unter: plastic@komma.info oder über unsere Instagram Seite\n\nEin paar Impressionen aus einen Workshop bei uns im Komma\, kannst du dir hier anschauen. \nUnser erstes Projekt „The Bänk“ hat es sogar in die Endrunde der RoGUILTLESSPLASTIC Awards geschafft und wurde bei der Mailänder Designwoche (3. bis 12. Juni 2022) ausgestellt. \nWenn Ihr noch mehr über das Precious Plastic Projekt wissen wollt schaut hier rein: https://preciousplastic.com/
URL:https://wandelstadt-esslingen.de/event/kunststoff-lab/2023-11-23/
LOCATION:KOMMA\, Maille 5-9\, Esslingen\, Deutschland
ATTACH;FMTTYPE=image/jpeg:https://wandelstadt-esslingen.de/wp-content/uploads/2023/08/DSC_0587-scaled.jpg
END:VEVENT
BEGIN:VEVENT
DTSTART;TZID=Europe/Berlin:20231123T190000
DTEND;TZID=Europe/Berlin:20231123T190000
DTSTAMP:20260424T084927
CREATED:20231123T091706Z
LAST-MODIFIED:20231123T091706Z
UID:10002113-1700766000-1700766000@wandelstadt-esslingen.de
SUMMARY:Zukunftskino:  Meinen Hass bekommt ihr nicht
DESCRIPTION:Video-Talk mit Regisseur Kilian Riedhof vor dem Film | danach Gespräch mit Regina Wacker\, Notfallseelsorgerin | Moderation: Prof. Nina Koelsch-Bunzen\, Ethikbeauftragte der Hochschule Esslingen | Zukunftskino in Zusammenarbeit mit vhs Esslingen\, Hochschule Esslingen\, fobi:aktiv\, Wandelstadt\, Klimagerechtigkeitsbündnis\, Stabsstelle Nachhaltigkeit und Klimaschutz der Stadt Esslingen \n\nKurz nach den verheerenden Attentaten im November 2015 in Paris ging der titelgebende Post des Radiojournalisten und Autors Antoine Leiris\, dessen Frau Hélène eines von 90 Todesopfern im »Club Bataclan« war\, viral und bewegte weltweit die Menschen. Als eine Art von Trauerbewältigung hat Leiris seine Geschichte aufgeschrieben. Kilian Riedhof hat daraus nun einen berührenden\, atmosphärisch dichten und absolut sehenswerten Film gemacht. \nNach dem Tod seiner Frau verschanzt sich Antoine mit seinem kleinen Sohn Melvil in seiner Wohnung. Auch wenn er von hilfsbereiten Familienmitgliedern umgeben ist\, bleibt er seltsam allein. Er kann seine grenzenlose Trauer\, die in Hassgefühle umzuschlagen droht\, mit niemandem teilen. Fast beiläufig verfasst er schließlich den Post …
URL:https://wandelstadt-esslingen.de/event/zukunftskino-meinen-hass-bekommt-ihr-nicht/
LOCATION:Kommunales Kino\, Maille 4-9\, Esslingen\, 73728\, Deutschland
END:VEVENT
BEGIN:VEVENT
DTSTART;TZID=Europe/Berlin:20231125T140000
DTEND;TZID=Europe/Berlin:20231125T170000
DTSTAMP:20260424T084927
CREATED:20230515T144051Z
LAST-MODIFIED:20240605T153807Z
UID:10002173-1700920800-1700931600@wandelstadt-esslingen.de
SUMMARY:Linux: Fragen und Antworten
DESCRIPTION:“Linux statt Windows:\nFragen und Antworten”\nInformationen für Linux-Neulinge und alle\, die sich für die freie Alternative zu Microsoft Windows und Apples MacOS interessieren. Wir stellen Linux vor und zeigen was es genau ist und wie es entwickelt wird. Wir schauen uns eine aktuelle Distribution (Betriebssystem-Variante) an und gehen auf ein paar bestimmte Merkmale ein (Sicherheit\, Programminstallationen\, Rechteverwaltung\, etc.). Linux-Neulinge und interessierte können bei diesem Vortrag ihre Fragen loswerden. \nFür den Workshop ist eine Anmeldung unter linuxcafe@makerspace-esslingen.de nötig.
URL:https://wandelstadt-esslingen.de/event/linux-statt-windows-fragen-und-antworten/2023-11-25/
LOCATION:Forum Esslingen – Zentrum für Bürgerengagement\, Schelztorstraße 38\, Esslingen\, Deutschland
END:VEVENT
END:VCALENDAR