BEGIN:VCALENDAR
VERSION:2.0
PRODID:-//Wandelstadt Esslingen - ECPv6.15.20//NONSGML v1.0//EN
CALSCALE:GREGORIAN
METHOD:PUBLISH
X-ORIGINAL-URL:https://wandelstadt-esslingen.de
X-WR-CALDESC:Veranstaltungen für Wandelstadt Esslingen
REFRESH-INTERVAL;VALUE=DURATION:PT1H
X-Robots-Tag:noindex
X-PUBLISHED-TTL:PT1H
BEGIN:VTIMEZONE
TZID:Europe/Berlin
BEGIN:DAYLIGHT
TZOFFSETFROM:+0100
TZOFFSETTO:+0200
TZNAME:CEST
DTSTART:20220327T010000
END:DAYLIGHT
BEGIN:STANDARD
TZOFFSETFROM:+0200
TZOFFSETTO:+0100
TZNAME:CET
DTSTART:20221030T010000
END:STANDARD
BEGIN:DAYLIGHT
TZOFFSETFROM:+0100
TZOFFSETTO:+0200
TZNAME:CEST
DTSTART:20230326T010000
END:DAYLIGHT
BEGIN:STANDARD
TZOFFSETFROM:+0200
TZOFFSETTO:+0100
TZNAME:CET
DTSTART:20231029T010000
END:STANDARD
BEGIN:DAYLIGHT
TZOFFSETFROM:+0100
TZOFFSETTO:+0200
TZNAME:CEST
DTSTART:20240331T010000
END:DAYLIGHT
BEGIN:STANDARD
TZOFFSETFROM:+0200
TZOFFSETTO:+0100
TZNAME:CET
DTSTART:20241027T010000
END:STANDARD
END:VTIMEZONE
BEGIN:VEVENT
DTSTART;TZID=Europe/Berlin:20231016T190000
DTEND;TZID=Europe/Berlin:20231016T210000
DTSTAMP:20260425T045534
CREATED:20230905T065638Z
LAST-MODIFIED:20230905T065757Z
UID:10000918-1697482800-1697490000@wandelstadt-esslingen.de
SUMMARY:Treffen des Bündnis für Klimagerechtigkeit
DESCRIPTION:Herzliche Einladung mit uns aktiv zu sein \nJa\, wir wollen noch mehr bewegen in Esslingen und laden Sie herzlich ein\, sich gemeinsam mit uns für den nötigen ökologischen\, ökonomischen\, sozialen und kulturellen Wandel zu engagieren. Wir freuen uns sowohl auf neue Gruppen wie auch auf Einzelpersonen\, die sich gerne einbringen möchten! \nHier vor Ort können wir in Esslingen die Veränderung leben\, die wir uns für unsere Welt wünschen. Wir treffen uns als gesamtes Bündnis in der Regel jeden zweiten Montagabend im Monat um 19 Uhr online\, um zu planen\, zu organisieren\, zu berichten und unsere Erfolge zu teilen. Herzliche Einladung an neue Mitmacher:innen uns ganz unverbindlich kennenzulernen! \n  \nIhr Kontakt zu uns: \nThomas Albrecht \ninfo@klimagerechtigkeit-esslingen.de \nwww.klimagerechtigkeit-esslingen.de
URL:https://wandelstadt-esslingen.de/event/treffen-des-buendnis-fuer-klimagerechtigkeit-2-2-2-3/
ATTACH;FMTTYPE=image/jpeg:https://wandelstadt-esslingen.de/wp-content/uploads/2022/07/klimagerechtig-esslingen.jpg
ORGANIZER;CN="B%C3%BCndnis f%C3%BCr Klimagerechtigkeit Esslingen":MAILTO:info@klimagerechtigkeit-esslingen.de
END:VEVENT
BEGIN:VEVENT
DTSTART;TZID=Europe/Berlin:20231018T180000
DTEND;TZID=Europe/Berlin:20231018T200000
DTSTAMP:20260425T045534
CREATED:20231009T081536Z
LAST-MODIFIED:20231009T081536Z
UID:10002022-1697652000-1697659200@wandelstadt-esslingen.de
SUMMARY:Gemüse haltbar machen - fermentieren Workshop
DESCRIPTION:Herbstzeit ist Einmachzeit! Regionales Gemüse im Überfluss\, der Gärtner*in wird endlich reich belohnt nach all den Mühen. \nGemeinsam mit Bine habt ihr am 18.10.23 die Möglichkeit allerlei Gemüse zu fermentieren oder wie Oma schon sagte: milchsauervergären. Alles soll bis in den Winter und länger haltbar sein…von purem Gemüse bis Kimchi (koreanische Art des Sauerkrauts)…\nIhr habt die Gelegenheit neue kreative Lösungen auszuprobieren. Alles auf jeden Fall ohne Zusatzstoffe und Pestizide\, aber mit regionalem Obst & Gemüse und frischen Kräutern.
URL:https://wandelstadt-esslingen.de/event/gemuese-haltbar-machen-fermentieren-workshop/
LOCATION:VHS Esslingen\, Mettinger Str. 125\, Esslingen\, 73728
ORGANIZER;CN="Frag die Bine":MAILTO:bine@gutes-leben-akademie.de
END:VEVENT
BEGIN:VEVENT
DTSTART;TZID=Europe/Berlin:20231018T190000
DTEND;TZID=Europe/Berlin:20231018T203000
DTSTAMP:20260425T045534
CREATED:20231001T201704Z
LAST-MODIFIED:20231001T201704Z
UID:10002019-1697655600-1697661000@wandelstadt-esslingen.de
SUMMARY:ZeitFragen - Impulsabend zum Thema Zero Waste
DESCRIPTION:18.10.2023 von 19 bis 20:30 Uhr\,\nin Kooperation mit VHS & KSK Esslingen im Raum der Kreissparkasse am Postmichelbrunnen\n-> Impulsvortrag von ZuZule mit anschließender Gesprächsrunde
URL:https://wandelstadt-esslingen.de/event/zeitfragen-impulsabend-zum-thema-zero-waste/
LOCATION:KSK Räumlichkeit am Postmichelbrunnen\, Postmichelbrunnen\, Esslingen
ORGANIZER;CN="ZuZule":MAILTO:zuzule@mail.de
END:VEVENT
BEGIN:VEVENT
DTSTART;TZID=Europe/Berlin:20231019T100000
DTEND;TZID=Europe/Berlin:20231019T160000
DTSTAMP:20260425T045534
CREATED:20230827T041848Z
LAST-MODIFIED:20230827T041848Z
UID:10001745-1697709600-1697731200@wandelstadt-esslingen.de
SUMMARY:Kunststoff-Lab
DESCRIPTION:Precious Plastics ist ein internationales Kunststoff-Recycling-Projekt\, das in den Niederlanden 2013 ins Leben gerufen wurde. Ziel ist es\, Abfall in wertvolle Rohstoffe und neue Produkte umzuwandeln. \nMit dem Aufbau der Maschinen zur Plastikverarbeitung ist seit 2021 auch das Komma in Esslingen ein Teil dieser Bewegung. Wir arbeiten mit Schulen\, Hochschulen\, Designer*innen\, Initiativen und anderen Precious Plastics Gruppen auf der Welt zusammen. \nIm 2. Halbjahr 2023 wird es im Rahmen des „KOMMA Kunststoff-Lab“ 5 Workshoptage von 10 bis 16 Uhr für Experimente mit folgenden Schwerpunkten im praktischen Teil geben. \n21. September – Taschen\n5. Oktober – Schmuck\n19. Oktober – Spiegelrahmen\n9. November – Schmuck\n23. November – Lampen \nJeder Workshoptag wird in Zusammenarbeit mit dem Bildungsprojekt Plastic Up Let’s do it durchgeführt\, die den ersten Teil des Workshops gestalten. Es werden Grundlagen über Kunststoffe\, deren Vor- und Nachteile und das System der Kreislaufwirtschaft gezeigt. \nWollt Ihr mitmachen\, meldet Euch bitte vorher an unter: plastic@komma.info oder über unsere Instagram Seite\n\nEin paar Impressionen aus einen Workshop bei uns im Komma\, kannst du dir hier anschauen. \nUnser erstes Projekt „The Bänk“ hat es sogar in die Endrunde der RoGUILTLESSPLASTIC Awards geschafft und wurde bei der Mailänder Designwoche (3. bis 12. Juni 2022) ausgestellt. \nWenn Ihr noch mehr über das Precious Plastic Projekt wissen wollt schaut hier rein: https://preciousplastic.com/
URL:https://wandelstadt-esslingen.de/event/kunststoff-lab/2023-10-19/
LOCATION:KOMMA\, Maille 5-9\, Esslingen\, Deutschland
ATTACH;FMTTYPE=image/jpeg:https://wandelstadt-esslingen.de/wp-content/uploads/2023/08/DSC_0587-scaled.jpg
END:VEVENT
BEGIN:VEVENT
DTSTART;TZID=Europe/Berlin:20231020T180000
DTEND;TZID=Europe/Berlin:20231020T180000
DTSTAMP:20260425T045534
CREATED:20221010T204011Z
LAST-MODIFIED:20221010T204011Z
UID:10000340-1697824800-1697824800@wandelstadt-esslingen.de
SUMMARY:Critical Mass
DESCRIPTION:Critical Mass ist eine weltweite Fahrrad­bewegung\, um eine Alternative zum motorisi­erten Individual­verkehr aufzu­zeigen. Grundlage bildet Paragraph 27 der Straßenverkehrs-Ordnung. \nBei der Critical Mass Esslingen treffen sich jeden 3. Freitag im Monat Radfahrerinnen und Radfahrer zur gemeinsamen Fahrrad­ausfahrt durch Esslingen. Treffpunkt ist um 18:00 Uhr auf dem Bahnhofsvorplatz. Im Anschluss findet oft noch ein Erfahrungsaustausch beim „Radlerstammtisch“ statt.
URL:https://wandelstadt-esslingen.de/event/critical-mass-2/2023-10-20/
LOCATION:Bahnhofsvorplatz\, Esslingen
ORGANIZER;CN="Critical Mass":MAILTO:schugra@posteo.de
END:VEVENT
END:VCALENDAR