BEGIN:VCALENDAR
VERSION:2.0
PRODID:-//Wandelstadt Esslingen - ECPv6.15.20//NONSGML v1.0//EN
CALSCALE:GREGORIAN
METHOD:PUBLISH
X-WR-CALNAME:Wandelstadt Esslingen
X-ORIGINAL-URL:https://wandelstadt-esslingen.de
X-WR-CALDESC:Veranstaltungen für Wandelstadt Esslingen
REFRESH-INTERVAL;VALUE=DURATION:PT1H
X-Robots-Tag:noindex
X-PUBLISHED-TTL:PT1H
BEGIN:VTIMEZONE
TZID:Europe/Berlin
BEGIN:DAYLIGHT
TZOFFSETFROM:+0100
TZOFFSETTO:+0200
TZNAME:CEST
DTSTART:20220327T010000
END:DAYLIGHT
BEGIN:STANDARD
TZOFFSETFROM:+0200
TZOFFSETTO:+0100
TZNAME:CET
DTSTART:20221030T010000
END:STANDARD
BEGIN:DAYLIGHT
TZOFFSETFROM:+0100
TZOFFSETTO:+0200
TZNAME:CEST
DTSTART:20230326T010000
END:DAYLIGHT
BEGIN:STANDARD
TZOFFSETFROM:+0200
TZOFFSETTO:+0100
TZNAME:CET
DTSTART:20231029T010000
END:STANDARD
BEGIN:DAYLIGHT
TZOFFSETFROM:+0100
TZOFFSETTO:+0200
TZNAME:CEST
DTSTART:20240331T010000
END:DAYLIGHT
BEGIN:STANDARD
TZOFFSETFROM:+0200
TZOFFSETTO:+0100
TZNAME:CET
DTSTART:20241027T010000
END:STANDARD
END:VTIMEZONE
BEGIN:VEVENT
DTSTART;VALUE=DATE:20231009
DTEND;VALUE=DATE:20231014
DTSTAMP:20260425T013127
CREATED:20230922T101947Z
LAST-MODIFIED:20230922T101947Z
UID:10002006-1696809600-1697241599@wandelstadt-esslingen.de
SUMMARY:Mobilitätswoche der Hochschule Esslingen
DESCRIPTION:Welchen Beitrag können wir leisten\, um Mobilität nachhaltiger zu gestalten? Wie können wir unseren CO2-Ausstoß im Bereich Mobilität verringern? Wie sieht die Mobilität der Zukunft aus? Diesen Fragen widmet sich die Mobilitätswoche vom 9. bis 13. Oktober 2023. \nDie Mobilitätswoche bietet unter anderem Vorträge zu Forschungsprojekte\, wie „Anonymisierte Erfassung und Nutzung von Mobilitäts- und Bewegungsdaten“ und „Smart Mobility Integrated Living Environments“. \nIn Ausstellungen werden die Ergebnisse des Gestaltungswettbewerbs „Hochschulcampus Stadtmitte“ und der Umfrage zum Mobilitätsverhalten sowie Mobilitätsprojekte der Fakultät Mobilität und Technik und weitere Projekte vorgestellt. \nAuch an Aktionen ist einiges geboten. Unter anderem können Besucherinnen und Besucher mit dem Rollstuhl- und Blinden-Parcours „Find your Way“ selbst erfahren\, wie sich Barrieren auf dem Campus gestalten und anfühlen. \nDie Mobilitätswoche schließt mit einer Podiumsdiskussion mit Verkehrsminister Winfried Hermann.
URL:https://wandelstadt-esslingen.de/event/mobilitaetswoche-der-hochschule-esslingen/
LOCATION:Campus Stadtmitte / Hochschule Eslingen\, Kanalstraße 33\, Esslingen\, Deutschland
END:VEVENT
BEGIN:VEVENT
DTSTART;TZID=Europe/Berlin:20231009T190000
DTEND;TZID=Europe/Berlin:20231009T210000
DTSTAMP:20260425T013127
CREATED:20230809T095640Z
LAST-MODIFIED:20231005T162120Z
UID:10001737-1696878000-1696885200@wandelstadt-esslingen.de
SUMMARY:Zukunftssalon zu einer Kultur des Miteinanders
DESCRIPTION:Wir tun doch alle unser Bestes in Esslingen. Warum ist dann nicht alles Bestens in Esslingen? Wir\, das sind interessierte Einwohner:innen\, Menschen aus dem Ehrenamt\, der Stadtverwaltung und dem Gemeinderat. Um tragfähige Lösungen für aktuelle gesellschaftliche Herausforderungen zu erarbeiten\, braucht es uns alle. Wir könnten viel mehr erreichen\, wenn wir unsere volle Kraft dazu nutzen könnten\, gemeinsam Lösungen zu finden. \nWie können wir eine konstruktive Gesprächskultur stärken\, auf deren Basis wir gemeinsam die Zukunft gestalten können? Wie kann uns ein noch besseres Miteinander in unserer Demokratie gelingen? Oder gar eine echte Kooperation innerhalb unserer Stadtgesellschaft? \nDie Demokratie der Zukunft ermöglicht Begegnungen auf Augenhöhe\, bietet uns Dialogräume an\, in denen wir verschiedene Perspektiven kennenlernen und gegenseitiges Verständnis aufbauen können\, und bindet die Tatkraft der Menschen mit ein. Diese Kultur des Miteinanders können wir gemeinsam gestalten. \nNennen wir es doch einfach Zukunftssalon\, wenn wir uns am Montag\, den 9. Oktober um 19 Uhr treffen. Lasst uns gemeinsam unsere Fähigkeit zur Zusammenarbeit trainieren und weiterentwickeln\, um gemeinsam eine wünschenswerte Zukunft zu erschaffen! \nVielleicht sehen wir uns ja dort. Wir würden uns freuen! \n  \nWann: Am Montag\, den 9. Oktober \nUhrzeit: 19 bis 21 Uhr – Einlass ab 18:30 Uhr \nVerpflegung: Fingerfood und Getränke (auf Spendenbasis) \nEintritt: frei \nWo: Forum für Bürgerengagement\, Schelztorstr. 38\, 73728 Esslingen \nVeranstalter: Wandelstadt Esslingen \nKooperationspartner: Mehr Demokratie e.V. \n \nWir freuen uns über eine Anmeldung im untenstehenden Formular. Spontanes Dazukommen ist jedoch auch erwünscht! \n\n\n  \n\n\n\nANMELDUNG ZUM ZUKUNFTSSALON\n Ihr Name\n \n \n Ihre E-Mail-Adresse\n \n \nHiermit bestätige ich\, dass ich die  Datenschutzerklärung der Wandelstadt Esslingen gelesen habe und der Verarbeitung meiner persönlichen Daten zustimme.\n \n\n \n\n\n\n  \nFoto: Unsplash.com/ Tobias Schmücker
URL:https://wandelstadt-esslingen.de/event/zukunftssalon-zu-einer-kultur-des-miteinanders/
LOCATION:Forum Esslingen – Zentrum für Bürgerengagement\, Schelztorstraße 38\, Esslingen\, Deutschland
ATTACH;FMTTYPE=image/jpeg:https://wandelstadt-esslingen.de/wp-content/uploads/2023/08/Zukunftssalon-002.jpg
ORGANIZER;CN="Wandelstadt Esslingen":MAILTO:info@wandelstadt-esslingen.de
END:VEVENT
BEGIN:VEVENT
DTSTART;TZID=Europe/Berlin:20231010T190000
DTEND;TZID=Europe/Berlin:20231010T190000
DTSTAMP:20260425T013127
CREATED:20230927T064336Z
LAST-MODIFIED:20230927T064336Z
UID:10002007-1696964400-1696964400@wandelstadt-esslingen.de
SUMMARY:Film: Alles in bester Ordnung
DESCRIPTION:Di | 10.10.2023 | 19.00 Uhr \n96 Minuten | FSK 6  | deutsche Originalfassung Specials > Filmreihe „Ver-rückt?!“ Kooperation: Förderkreis Gemeindepsychiatrie Esslingen | im Anschluss Talk \nTalk mit Veronika Schröter\, Psychotherapeutin und Messie-Expertin\, Heike Blankenhorn-Frick\, Sozialpädagogin und Carmen Karsunke\, Sozialpädagogin und Diakonin (WABE – Wohnraumarbeit mit Menschen in desorganisierten Haushalten) beim Kreisdiakonieverband Esslingen) | Moderation: Sabine Merkle\, ambulante psychiatrische Pflege\, Verein für Sozialpsychiatrie Esslingen \n\nEine leichte\, exzellent bis in die Nebenrollen besetzte Komödie über das Zuviel und Zuwenig. Mit passgenauen Dialogen\, feiner Ironie und einem ebensolchen Gespür für intelligente Zwischentöne arbeitet die Regisseurin in ihrem Langfilmdebüt die Gegensätze zwischen ihren beiden Hauptfiguren heraus. \nMarlen ist früher viel gereist\, nun igelt sie sich zuhause ein\, hat ihre Wohnung mit Gegenständen vollgestellt. Alles ist zu wertvoll\, zu bedeutend\, um es zu entsorgen. Fynn dagegen besitzt nur einen Rollkoffer\, will mit nur 100 Dingen durch die Welt gehen. »Ordnung ist das halbe Leben!«\, sagt er. »Willkommen in der anderen Hälfte!«\, antwortet sie. Marlen und Fynn – stärker könnten die Gegensätze nicht sein. Dass sie dennoch nicht voneinander lassen können und sich letztlich ernsthaft befreunden\, möglicherweise sogar verlieben\, bestätigt die Annahme\, dass sich Gegensätze anziehen.
URL:https://wandelstadt-esslingen.de/event/film-alles-in-bester-ordnung/
LOCATION:Kommunales Kino\, Maille 4-9\, Esslingen\, 73728\, Deutschland
END:VEVENT
BEGIN:VEVENT
DTSTART;TZID=Europe/Berlin:20231012T173000
DTEND;TZID=Europe/Berlin:20231012T203000
DTSTAMP:20260425T013127
CREATED:20230930T073808Z
LAST-MODIFIED:20230930T073808Z
UID:10002015-1697131800-1697142600@wandelstadt-esslingen.de
SUMMARY:Rat der Initiativen
DESCRIPTION:Eine Plattform für Vernetzung und Erfahrungsaustausch – in diesem Fall für ehrenamtlich Engagierte im Klimaschutz – soll der „Rat der Initiativen“ am 12. Oktober 2023 bieten. \nHierzu sind alle kleinen und größeren Gruppen sowie Initiativen im Landkreis eingeladen\, die sich beispielsweise für erneuerbare Energien\, nachhaltigen Konsum\, Ressourcenschonung oder umweltfreundliche Mobilität einsetzen. Bei der Netzwerkveranstaltung sollen sich die Gruppen gegenseitig kennenlernen und Erfahrungen austauschen können. \nBürgerschaftliche Initiativen sind oft die Vorreiter für gute Lösungen im Klimaschutz. Wir wollen die verschiedenen Akteure zusammenbringen\, um gemeinsam noch mehr erreichen zu können. Auf dem Programm der Veranstaltung stehen daher moderierte Workshops und Austauschformate ebenso wie die Vorstellung des Förderprogramms „Kickstart Klima“ der Allianz für Beteiligung\, das sich speziell an zivilgesellschaftliche Initiativen richtet. \nDatum: 12. Oktober 2023 17:30 – 20:30 Uhr\nOrt: Kulturzentrum Dieselstrasse e.V.\, Dieselstraße 26\, 73734 Esslingen am Neckar \nProgramm:\n17:30 – Begrüßung\nDr. Marion Leuze-Mohr\, Erste Landesbeamtin Landkreis Esslingen \n17:40 – Vorstellung der Klimaschutzstrategie des Landkreises Esslingen\nDr. Christine Griebel\, Klimaschutzmanagerin Landkreis Esslingen \n18:00 – Gruppenarbeit und Erfahrungsaustausch: „Wie funktioniert ehrenamtliches Engagement für Klimaschutz?“\nKurze Vorstellung der Initiativen in Einzelgruppen und Präsentation der Gruppenergebnisse im Plenum \n19:00 – Pause mit Verpflegung \n19:30 – Unterstützungsmöglichkeiten und Förderprogramme Vorstellung des Förderprojektes „Kickstart Klima“ durch Michael Harder\, Projektleitung Allianz für Beteiligung e.V. \nAustausch und Diskussion zu weiteren Unterstützungsmöglichkeiten \n20:30 – Abschluss \nDie Anzahl der Teilnehmenden ist begrenzt. Mit der Bitte um rechtzeitige Anmeldung bis spätestens zum 30.09.2023. Pro Gruppe/ Initiative sind max. 3 Personen möglich. Bei Fragen bitte an: info@ksa-es.de
URL:https://wandelstadt-esslingen.de/event/rat-der-initiativen/
LOCATION:Kulturzentrum Dieselstraße\, Dieselstraße 26\, Esslingen\, Deutschland
ORGANIZER;CN="Klimaschutzagentur des Landkreises Esslingen gGmbH":MAILTO:info@ksa-es.de
END:VEVENT
BEGIN:VEVENT
DTSTART;TZID=Europe/Berlin:20231012T193000
DTEND;TZID=Europe/Berlin:20231012T193000
DTSTAMP:20260425T013127
CREATED:20230223T113034Z
LAST-MODIFIED:20230223T113034Z
UID:10000704-1697139000-1697139000@wandelstadt-esslingen.de
SUMMARY:Wenn ich einmal arm wär` - Klartext in Blarer
DESCRIPTION:Seit geraumer Zeit sind Armut\, die wegen der Covid-19-Pandemie\, der Energiepreisexplosion und der Inflation bis in die Mitte der Gesellschaft vordringt\, und die wachsende Ungleichheit das Kardinalproblem unserer Gesellschaft\, wenn nicht der gesamten Menschheit. Während daraus im globalen Maßstab ökonomische Krisen\, ökologische Katastrophen sowie Kriege und Bürgerkriege resultieren\, sind in Deutschland der gesellschaftliche Zusammenhalt und die repräsentative Demokratie bedroht. Daher wird nicht bloß thematisiert\, wie Armut und soziale Ungleichheit entstehen und warum sie zugenommen haben\, sondern auch\, weshalb die politisch Verantwortlichen darauf kaum reagieren und was getan werden muss\, um sie einzudämmen. \nZur Person: Prof. Dr. Christoph Butterwegge hat von 1998 bis 2016 Politikwissenschaft an der Universität zu Köln gelehrt und zuletzt das Buch „Die polarisierende Pandemie. Deutschland nach Corona“ veröffentlicht. \nChristoph Butterwegge\, Politikwissenschaftler\, Autor \nDonnerstag\, 12. Oktober 2023\, 19.30 \nEsslingen\, DAS NEUE BLARER\, Franziskanergasse 4 \nEintritt frei\, wir bitten um eine Spende \nVeranstalter: Arbeitskreis Ökonomie Esslingen (keb – Kath. Erwachsenenbildung zusammen mit Evang. Bildungswerk\, EBI\, Caritas Fils-Neckar-Alb\, DGB\, Heimstatt Esslingen\, Kreisdiakonieverband Esslingen\, Kulturzentrum Dieselstrasse\, attac Esslingen\, Volkshochschule Esslingen) zusammen mit der Evangelischen Gesamtkirchengemeinde Esslingen
URL:https://wandelstadt-esslingen.de/event/wenn-ich-einmal-arm-waer-klartext-in-blarer/
LOCATION:Das neue Blarer\, Franziskanergasse 4\, Esslingen\, 73728\, Deutschland
END:VEVENT
BEGIN:VEVENT
DTSTART;TZID=Europe/Berlin:20231013T173000
DTEND;TZID=Europe/Berlin:20231013T184500
DTSTAMP:20260425T013127
CREATED:20230930T120529Z
LAST-MODIFIED:20230930T120603Z
UID:10002018-1697218200-1697222700@wandelstadt-esslingen.de
SUMMARY:Critical Mass Kirchheim unter Teck
DESCRIPTION:Viele Radfahrer machen auf die Notwendigkeit der Verkehrswende aufmerksam und stärken damit den Radverkehr. Viele Teilnehmer wünschen sich wieder einen menschengerechten Lebensraum in der Stadt\, anstelle stinkender und brüllender Motoren. \nDiese Veranstaltung steht unter dem Motto „Vision Zero“\, dem Traum von null getöteten Radfahrenden im innerstädtischen Raum.\nMit diesem Appell für mehr Sicherheit im Verkehrsraum machen wir aufmerksam\, dass rot gemalte Infrastruktur Sicherheit nur darstellt und die Bezeichnung „Todesstreifen“ eher verdient.\nWir rufen auf\, im weißen T-Shirt mitzufahren! \nRadfahrende fordern den dringenden Aufbau einer brauchbaren Infrastruktur anstelle geheuchelter Sicherheit in Form billiger\, roter „Todesstreifen“\, die sichere Infrastruktur nur vortäuschen. \nKirchheim hätte beste Voraussetzungen eine sinnvolle und nachhaltige Radinfrastruktur aufzubauen\, tut aber leider viel zu wenig. Ein weißes T-Shirt hat jeder\, drum kann auch jeder mitfahren und der Stadtverwaltung zeigen\, wie es ginge.\nDie Route ist einfach und wirklich von jedermann mit Freude zu bewältigen.
URL:https://wandelstadt-esslingen.de/event/critical-mass-kirchheim-unter-teck/
LOCATION:Max-Eyth-Straße\, Max-Eyth-Str. 16\, Kirchheim unter Teck\, Baden-Württemberg\, 73230\, Deutschland
ORGANIZER;CN="Allgemeiner Deutscher Fahrrad-Club e. V. (ADFC)":MAILTO:thomas.albrecht@adfc-bw.de
END:VEVENT
END:VCALENDAR