BEGIN:VCALENDAR
VERSION:2.0
PRODID:-//Wandelstadt Esslingen - ECPv6.15.20//NONSGML v1.0//EN
CALSCALE:GREGORIAN
METHOD:PUBLISH
X-ORIGINAL-URL:https://wandelstadt-esslingen.de
X-WR-CALDESC:Veranstaltungen für Wandelstadt Esslingen
REFRESH-INTERVAL;VALUE=DURATION:PT1H
X-Robots-Tag:noindex
X-PUBLISHED-TTL:PT1H
BEGIN:VTIMEZONE
TZID:Europe/Berlin
BEGIN:DAYLIGHT
TZOFFSETFROM:+0100
TZOFFSETTO:+0200
TZNAME:CEST
DTSTART:20220327T010000
END:DAYLIGHT
BEGIN:STANDARD
TZOFFSETFROM:+0200
TZOFFSETTO:+0100
TZNAME:CET
DTSTART:20221030T010000
END:STANDARD
BEGIN:DAYLIGHT
TZOFFSETFROM:+0100
TZOFFSETTO:+0200
TZNAME:CEST
DTSTART:20230326T010000
END:DAYLIGHT
BEGIN:STANDARD
TZOFFSETFROM:+0200
TZOFFSETTO:+0100
TZNAME:CET
DTSTART:20231029T010000
END:STANDARD
BEGIN:DAYLIGHT
TZOFFSETFROM:+0100
TZOFFSETTO:+0200
TZNAME:CEST
DTSTART:20240331T010000
END:DAYLIGHT
BEGIN:STANDARD
TZOFFSETFROM:+0200
TZOFFSETTO:+0100
TZNAME:CET
DTSTART:20241027T010000
END:STANDARD
END:VTIMEZONE
BEGIN:VEVENT
DTSTART;TZID=Europe/Berlin:20231002T190000
DTEND;TZID=Europe/Berlin:20231002T190000
DTSTAMP:20260425T032133
CREATED:20230927T070359Z
LAST-MODIFIED:20230927T070359Z
UID:10002010-1696273200-1696273200@wandelstadt-esslingen.de
SUMMARY:BIODIVERSITÄTSSHOW DOMINIK EULBERG - Live-Show - DJ Set
DESCRIPTION:Artenvielfalt? Insektensterben? Biodiversitätskrise? – Themen\, die uns immer häufiger in Alltag und Nachrichten begegnen\, doch allzu oft wissen wir nicht ausreichend über das\, was da hinter steckt\, um die Bedeutung oder über die Ursachen und Folgen sowie Lösungen. \n\nMit einer multimedialen Show stellt der Techno-DJ\, Naturfreund und Biologe Dominik Eulberg das Thema Biodiversität ins Rampenlicht – interaktiv\, unterhaltsam wie auch kritisch. Eine interaktive Melange aus Live-Musik\, Vortrag und verschiedenen Medien- und Darbietungsformen\, die eine abwechslungsreiche Reise durch die Wunder der heimischen Flora & Fauna präsentiert. Eine Show die zum kindlichen Staunen über die Schönheit und Raffinesse der Natur anregt. \nDominik Eulberg ist studierter Biologe und ein seit 30 Jahren international agierender Musiker: „In meinem Herzen bin ich leidenschaftlicher Naturfreund. Die Natursensibilisierung und der Schutz unserer heimischen Biodiversität ist etwas\, was mir seit Kindertagen innewohnt“\, erklärt der Künstler aus dem Westerwald. \nDie Biodiversitätsshow Dominik Eulberg findet mit freundlicher Unterstützung durch Zahnarztpraxis Höller & Zöllner\, Bioland\, Osiander\, Sozialstation Esslingen\, Klimaschutzagentur Landkreis Esslingen\, Stadt Esslingen am Neckar und Gemüsering Stuttgart GmbH statt. \n„Gemeinsam mit unseren Partner:innen und unserem Netzwerk möchten wir mit dieser Show dem Thema Biodiversität eine Plattform geben. Unser Essen\, unser Wasser und die Luft\, die wir atmen hängen von Biodiversität ab. Vor unserer Haustür und weltweit ist sie allerdings stark bedroht. Bei der Klimakrise stellt sich derzeit die Frage\, wie werden wir in Zukunft auf dem Planeten leben\, bei der Biodiversitätskrise geht es darum\, ob wir hier leben“\, sagt Manuel Uez von der Agentur Blumberg in Esslingen. \nMit seiner Live-Show „Mikroorgasmen überall“ möchte Eulberg dem Publikum freudige Momente und Positivität schenken sowie das kindliche Erstaunen über die Schönheit und Raffinesse der Natur neu erwecken. Zudem zeigt er konkrete Zusammenhänge und Auswirkungen von Biodiversität für uns Menschen und das Ökosystem auf. Mit dem Fokus auf eines unserer relevantesten Probleme regt er zum Nachdenken an. \nIm Anschluss (ca. 22:30 – 23:45 Uhr) an die Biodiversitätsshow im KOMMA laden wir zur Entdeckungs-Tour und Fledermausführung mit Dominik Eulberg in den Merkelpark (Start am KOMMA) ein. Die Führung ist separat und nur direkt über die Agentur Blumberg buchbar (via Mail an mu@blumberg-agentur.de). Es sind nur 40 Plätze verfügbar. Der NABU-Fledermausbotschafter Dominik Eulberg teilt bei dieser Führung sein umfassendes und detailliertes Wissen und nimmt die Teilnehmenden in entspanntem Plauderton mit ins Fledermausland. Inspirierend und unterhaltsam geht es durch die Esslinger Nacht. Mit Hilfe von Fledermaus-Detektoren macht er ihre Ultraschallrufe hörbar. Zudem gibt es viele spannende Fakten zum heimlichen Leben dieser faszinierenden Säugetiere. Was fliegt in Esslingen durch die Maille\, am Neckar und im Merkelpark? Welche Bedeutung hat Biodiversität für uns Menschen? Im Anschluss (ca. 22:30 – 23:45 Uhr) an die Biodiversitätsshow im KOMMA laden Blumberg & friends zur Entdeckungs-Tour & Fledermausführung mit Dominik Eulberg in den Merkelpark (Start am KOMMA) ein. Die Führung ist jedoch bereits ausgebucht.
URL:https://wandelstadt-esslingen.de/event/biodiversitaetsshow-dominik-eulberg-live-show-dj-set/
LOCATION:KOMMA\, Maille 5-9\, Esslingen\, Deutschland
END:VEVENT
BEGIN:VEVENT
DTSTART;TZID=Europe/Berlin:20231003T193000
DTEND;TZID=Europe/Berlin:20231003T220000
DTSTAMP:20260425T032133
CREATED:20230930T120035Z
LAST-MODIFIED:20230930T120035Z
UID:10002017-1696361400-1696370400@wandelstadt-esslingen.de
SUMMARY:Radlerabend im Sale e Pepe
DESCRIPTION:Zu unseren Treffen sind auch Nichtmitglieder herzlich eingeladen. Beim gemütlichen Radlerplausch geben Berichte über Radtouren\, Verkehrspolitik und technische Fachsimpeleien Gelegenheit zum Austausch.
URL:https://wandelstadt-esslingen.de/event/radlerabend-im-sale-e-pepe/
LOCATION:Restaurant Sale e Pepe\, Randweg 8\, Leinfelden-Echterdingen\, Baden-Württemberg\, 70771\, Deutschland
ORGANIZER;CN="Allgemeiner Deutscher Fahrrad-Club e. V. (ADFC)":MAILTO:thomas.albrecht@adfc-bw.de
END:VEVENT
BEGIN:VEVENT
DTSTART;TZID=Europe/Berlin:20231005T100000
DTEND;TZID=Europe/Berlin:20231005T160000
DTSTAMP:20260425T032133
CREATED:20230827T041848Z
LAST-MODIFIED:20230827T041848Z
UID:10001744-1696500000-1696521600@wandelstadt-esslingen.de
SUMMARY:Kunststoff-Lab
DESCRIPTION:Precious Plastics ist ein internationales Kunststoff-Recycling-Projekt\, das in den Niederlanden 2013 ins Leben gerufen wurde. Ziel ist es\, Abfall in wertvolle Rohstoffe und neue Produkte umzuwandeln. \nMit dem Aufbau der Maschinen zur Plastikverarbeitung ist seit 2021 auch das Komma in Esslingen ein Teil dieser Bewegung. Wir arbeiten mit Schulen\, Hochschulen\, Designer*innen\, Initiativen und anderen Precious Plastics Gruppen auf der Welt zusammen. \nIm 2. Halbjahr 2023 wird es im Rahmen des „KOMMA Kunststoff-Lab“ 5 Workshoptage von 10 bis 16 Uhr für Experimente mit folgenden Schwerpunkten im praktischen Teil geben. \n21. September – Taschen\n5. Oktober – Schmuck\n19. Oktober – Spiegelrahmen\n9. November – Schmuck\n23. November – Lampen \nJeder Workshoptag wird in Zusammenarbeit mit dem Bildungsprojekt Plastic Up Let’s do it durchgeführt\, die den ersten Teil des Workshops gestalten. Es werden Grundlagen über Kunststoffe\, deren Vor- und Nachteile und das System der Kreislaufwirtschaft gezeigt. \nWollt Ihr mitmachen\, meldet Euch bitte vorher an unter: plastic@komma.info oder über unsere Instagram Seite\n\nEin paar Impressionen aus einen Workshop bei uns im Komma\, kannst du dir hier anschauen. \nUnser erstes Projekt „The Bänk“ hat es sogar in die Endrunde der RoGUILTLESSPLASTIC Awards geschafft und wurde bei der Mailänder Designwoche (3. bis 12. Juni 2022) ausgestellt. \nWenn Ihr noch mehr über das Precious Plastic Projekt wissen wollt schaut hier rein: https://preciousplastic.com/
URL:https://wandelstadt-esslingen.de/event/kunststoff-lab/2023-10-05/
LOCATION:KOMMA\, Maille 5-9\, Esslingen\, Deutschland
ATTACH;FMTTYPE=image/jpeg:https://wandelstadt-esslingen.de/wp-content/uploads/2023/08/DSC_0587-scaled.jpg
END:VEVENT
BEGIN:VEVENT
DTSTART;TZID=Europe/Berlin:20231005T190000
DTEND;TZID=Europe/Berlin:20231005T210000
DTSTAMP:20260425T032133
CREATED:20230928T091921Z
LAST-MODIFIED:20230928T092122Z
UID:10002013-1696532400-1696539600@wandelstadt-esslingen.de
SUMMARY:Neue Bäume für die alte Stadt!
DESCRIPTION:Leichter\, luftiger\, kühler? Von wegen. Esslingen heizt sich nach dem Empfinden vieler Einwohner im Sommer zu stark auf und kühlt in der Nacht nur wenig ab. Könnten mehr Grün- und Blauflächen Abhilfe schaffen? Das fünfte Altstadtviertele greift die Frage nach mehr Bäumen im Stadtgebiet auf. \nDie Aktionsgruppe Esslinger Altstadtviertele lädt ein: „Neue Bäume für die alte Stadt!“
URL:https://wandelstadt-esslingen.de/event/neue-baeume-fuer-die-alte-stadt/
LOCATION:Altes Rathaus Schickhardthalle\, Rathausplatz 1\, Esslingen\, 73728
ATTACH;FMTTYPE=image/jpeg:https://wandelstadt-esslingen.de/wp-content/uploads/2023/09/media.media_.da2c15b9-76b5-4063-b7e9-d405b700d5be.original1024.jpg
END:VEVENT
END:VCALENDAR