BEGIN:VCALENDAR
VERSION:2.0
PRODID:-//Wandelstadt Esslingen - ECPv6.15.20//NONSGML v1.0//EN
CALSCALE:GREGORIAN
METHOD:PUBLISH
X-ORIGINAL-URL:https://wandelstadt-esslingen.de
X-WR-CALDESC:Veranstaltungen für Wandelstadt Esslingen
REFRESH-INTERVAL;VALUE=DURATION:PT1H
X-Robots-Tag:noindex
X-PUBLISHED-TTL:PT1H
BEGIN:VTIMEZONE
TZID:Europe/Berlin
BEGIN:DAYLIGHT
TZOFFSETFROM:+0100
TZOFFSETTO:+0200
TZNAME:CEST
DTSTART:20220327T010000
END:DAYLIGHT
BEGIN:STANDARD
TZOFFSETFROM:+0200
TZOFFSETTO:+0100
TZNAME:CET
DTSTART:20221030T010000
END:STANDARD
BEGIN:DAYLIGHT
TZOFFSETFROM:+0100
TZOFFSETTO:+0200
TZNAME:CEST
DTSTART:20230326T010000
END:DAYLIGHT
BEGIN:STANDARD
TZOFFSETFROM:+0200
TZOFFSETTO:+0100
TZNAME:CET
DTSTART:20231029T010000
END:STANDARD
BEGIN:DAYLIGHT
TZOFFSETFROM:+0100
TZOFFSETTO:+0200
TZNAME:CEST
DTSTART:20240331T010000
END:DAYLIGHT
BEGIN:STANDARD
TZOFFSETFROM:+0200
TZOFFSETTO:+0100
TZNAME:CET
DTSTART:20241027T010000
END:STANDARD
END:VTIMEZONE
BEGIN:VEVENT
DTSTART;TZID=Europe/Berlin:20230904T183000
DTEND;TZID=Europe/Berlin:20230904T210000
DTSTAMP:20260424T171816
CREATED:20221111T191526Z
LAST-MODIFIED:20230905T070217Z
UID:10000428-1693852200-1693861200@wandelstadt-esslingen.de
SUMMARY:Teamtreffen Wandelstadt Esslingen
DESCRIPTION:Herzlich willkommen in unserem wunderbaren Team \nWir treffen uns jeden ersten Montag im Monat um 18:30 Uhr mit unserem Team und freuen uns immer über neue Mitgestalter:innen\, die Lust haben sich mit ihren Talenten einzubringen. \nDenn wir wünschen uns das kreative Denken\, das beste Wissen und das beherzte Handeln aller Esslinger:innen! \nKontakt \nAngelina Haug \ninfo@Wandelstadt-Esslingen.de
URL:https://wandelstadt-esslingen.de/event/teamtreffen-wandelstadt-esslingen-2/2023-09-04/
ORGANIZER;CN="Wandelstadt Esslingen":MAILTO:info@wandelstadt-esslingen.de
END:VEVENT
BEGIN:VEVENT
DTSTART;TZID=Europe/Berlin:20230908T183000
DTEND;TZID=Europe/Berlin:20230908T183000
DTSTAMP:20260424T171816
CREATED:20230901T055503Z
LAST-MODIFIED:20230901T055503Z
UID:10001995-1694197800-1694197800@wandelstadt-esslingen.de
SUMMARY:Lesung + Talk mit Verkehrsminister Winne Hermann MdL in Esslingen
DESCRIPTION:Lesung und Talk mit Verkehrsminister Winfried Hermann MdL\n„Und alles bleibt anders: Meine kleine Geschichte der Mobilität“ \nFreitag\, 8. September 2023\, 18:30 Uhr\nKOMMA Esslingen (Maille 5-9\, 73728 Esslingen am Neckar) \nMobil sein\, das Klima schützen und bequem von A nach B kommen\, sogar wenn man kein Auto hat – geht das? Unser baden-württembergischer Verkehrsminister Winfried Hermann MdL erzählt in seinem Buch „Und alles bleibt anders: Meine kleine Geschichte der Mobilität“ eine spannende und ganz persönliche Reise durch die Vergangenheit\, Gegenwart und Zukunft unserer Mobilität. Im Esslinger KOMMA wird er daraus lesen und mit mir und Euch ins Gespräch kommen. \nWas ihn seine Kindheit am Rottenburger Güterbahnhof gelehrt hat\, wie es mit dem Autoland Baden-Württemberg in Zeiten nachhaltiger Mobilität weitergehen kann und was das zum Beispiel mit dem Esslinger O-Bus zu tun hat – diese und mehr interessante Themen gerade für unsere Region wollen wir beleuchten.
URL:https://wandelstadt-esslingen.de/event/lesung-talk-mit-verkehrsminister-winne-hermann-mdl-in-esslingen/
LOCATION:KOMMA\, Maille 5-9\, Esslingen\, Deutschland
END:VEVENT
BEGIN:VEVENT
DTSTART;TZID=Europe/Berlin:20230910T130000
DTEND;TZID=Europe/Berlin:20230910T170000
DTSTAMP:20260424T171816
CREATED:20230804T040905Z
LAST-MODIFIED:20230804T041056Z
UID:10001735-1694350800-1694365200@wandelstadt-esslingen.de
SUMMARY:Bibliothek der Zukunft
DESCRIPTION:Am Sonntag\, 10. September\, findet der Tag des offenen Denkmals statt. Aus Anlass seines zehnjährigen Bestehens wagt der Förderverein einen Blick in die BIBLIOTHEK DER ZUKUNFT. In unserer Stadtbücherei im Bebenhäuser Pfleghof präsentieren wir von 13-17 Uhr ganz viele und attraktive Sachen: VR-Brille\, 3D-Drucker\, Indoor-Drohne\, Bibliothek der Dinge\, Vorlesezelt\, eine fröhliche Fotoecke\, eine Mitmach-Nähmaschine u.v.a. mehr. Außerdem wird das Reparatur-Café vertreten sein. Alle Infos sind dem beigefügten Flyer zu entnehmen\, den ein Neumitglied des Fördervereins für uns mit viel Liebe zum Detail gestaltet hat. Dafür gilt unser herzlicher Dank! \n  \nFür diese Bibliothek der Zukunft braucht unsere Stadtbücherei mehr Platz. Dafür wurde von der Stadt vor Jahren das Nachbargebäude\, die Heugasse 11\, gekauft. Leider hat der Gemeinderat immer noch nicht entschieden\, dass dieses Gebäude möglichst bald für die Erweiterung der Stadtbücherei hergerichtet werden soll. Damit sich alle Interessierten ein Bild vom aktuellen Zustand machen können\, gibt es am Denkmaltag von 12-17 Uhr stündlich Führungen durch das Haus. \n  \nKommen Sie am 10. September selbst in den Bebenhäuser Pfleghof und nehmen Sie an einer Führung durch die Heugasse 11 teil. Zeigen Sie Ihr Interesse an einer zukunftsfähigen Stadtbücherei Esslingen.
URL:https://wandelstadt-esslingen.de/event/bibliothek-der-zukunft/
LOCATION:Stadtbibliothek\, Heugasse 9\, Esslingen\, Deutschland
ATTACH;FMTTYPE=image/png:https://wandelstadt-esslingen.de/wp-content/uploads/2023/08/Flyer_U1.png
END:VEVENT
END:VCALENDAR