BEGIN:VCALENDAR
VERSION:2.0
PRODID:-//Wandelstadt Esslingen - ECPv6.15.20//NONSGML v1.0//EN
CALSCALE:GREGORIAN
METHOD:PUBLISH
X-ORIGINAL-URL:https://wandelstadt-esslingen.de
X-WR-CALDESC:Veranstaltungen für Wandelstadt Esslingen
REFRESH-INTERVAL;VALUE=DURATION:PT1H
X-Robots-Tag:noindex
X-PUBLISHED-TTL:PT1H
BEGIN:VTIMEZONE
TZID:Europe/Berlin
BEGIN:DAYLIGHT
TZOFFSETFROM:+0100
TZOFFSETTO:+0200
TZNAME:CEST
DTSTART:20220327T010000
END:DAYLIGHT
BEGIN:STANDARD
TZOFFSETFROM:+0200
TZOFFSETTO:+0100
TZNAME:CET
DTSTART:20221030T010000
END:STANDARD
BEGIN:DAYLIGHT
TZOFFSETFROM:+0100
TZOFFSETTO:+0200
TZNAME:CEST
DTSTART:20230326T010000
END:DAYLIGHT
BEGIN:STANDARD
TZOFFSETFROM:+0200
TZOFFSETTO:+0100
TZNAME:CET
DTSTART:20231029T010000
END:STANDARD
BEGIN:DAYLIGHT
TZOFFSETFROM:+0100
TZOFFSETTO:+0200
TZNAME:CEST
DTSTART:20240331T010000
END:DAYLIGHT
BEGIN:STANDARD
TZOFFSETFROM:+0200
TZOFFSETTO:+0100
TZNAME:CET
DTSTART:20241027T010000
END:STANDARD
END:VTIMEZONE
BEGIN:VEVENT
DTSTART;TZID=Europe/Berlin:20230523T183000
DTEND;TZID=Europe/Berlin:20230523T203000
DTSTAMP:20260425T052909
CREATED:20230428T164153Z
LAST-MODIFIED:20230428T164153Z
UID:10001106-1684866600-1684873800@wandelstadt-esslingen.de
SUMMARY:Offenes Treffen vom Bündnis Esslingen aufs Rad
DESCRIPTION:Gemeinsam bringen wir die Esslinger Radinfrastruktur voran.\nForum für Bürgerengagement\, Gruppenraum 3\, Schelztorstraße 38\, Esslingen
URL:https://wandelstadt-esslingen.de/event/offenes-treffen-vom-buendnis-esslingen-aufs-rad/
LOCATION:Forum Esslingen – Zentrum für Bürgerengagement\, Schelztorstraße 38\, Esslingen\, Deutschland
END:VEVENT
BEGIN:VEVENT
DTSTART;TZID=Europe/Berlin:20230524T173000
DTEND;TZID=Europe/Berlin:20230524T173000
DTSTAMP:20260425T052909
CREATED:20230424T102223Z
LAST-MODIFIED:20230424T102223Z
UID:10001067-1684949400-1684949400@wandelstadt-esslingen.de
SUMMARY:Projektentwicklung von Windenergieanlagen- aktuelle Herausforderungen und Dynamik der Akzeptanz
DESCRIPTION:Die Nutzung erneuerbarer Energien hat sich in den vergangenen Jahren\, in Anbetracht des globalen Klimaschutzes und der systematischen Ablösung konventioneller Energieträger\, als die erfolgsversprechende Strategie zur Anpassung und Minderung der Klimaveränderung etabliert. Eine der tragenden Schlüsseltechnologien in diesem Prozess ist die Nutzung der Windenergie\, die im Rahmen der nationalen Ausbauziele einen stetigen Zuwachs erfährt. Dieser Ausbau wird jedoch durch zahlreiche Hürden bei Behörden und in der Bevölkerung verlangsamt\, sodass die Projektentwicklung immer neue Ansätze für ihre Projekte entwickeln muss. Diese und weitere Punkte werden in dem Vortrag diskutiert. \nReferent: Dr. Manuel Gardt\, JUWI – Energizing Sustainability\, Wörrstadt \nAnmeldung für die Online-Seminare: Anmeldung Kolloquien – WEBINARE; Fakultät Gebäude-Energie-Umwelt
URL:https://wandelstadt-esslingen.de/event/projektentwicklung-von-windenergieanlagen-aktuelle-herausforderungen-und-dynamik-der-akzeptanz/
END:VEVENT
BEGIN:VEVENT
DTSTART;TZID=Europe/Berlin:20230524T180000
DTEND;TZID=Europe/Berlin:20230524T200000
DTSTAMP:20260425T052909
CREATED:20230426T191518Z
LAST-MODIFIED:20230426T191525Z
UID:10001073-1684951200-1684958400@wandelstadt-esslingen.de
SUMMARY:Brotaufstriche\, Dips und Chutneys
DESCRIPTION:Gemeinsam Gemüse einmachen und einkochen! Alles soll lange haltbar sein. Von Tomatenscauce über Bohnen bis Kompott.\nEs werden verschiedene Haltbarkeitsmethoden vorgestellt und ausporbiert. Alle Lebensmittel im Kurs sind regional und frisch und ohne Zusatzstoffe und Pestizide.\nSie nehmen am Ende Ihre hergestellten Produkte mit nach Hause. \n 
URL:https://wandelstadt-esslingen.de/event/brotaufstriche-dips-und-chutneys/
LOCATION:Forum Esslingen – Zentrum für Bürgerengagement\, Schelztorstraße 38\, Esslingen\, Deutschland
ORGANIZER;CN="Volkshochschule Esslingen":MAILTO:info@vhs-esslingen.de
END:VEVENT
BEGIN:VEVENT
DTSTART;VALUE=DATE:20230526
DTEND;VALUE=DATE:20230527
DTSTAMP:20260425T052909
CREATED:20230408T113645Z
LAST-MODIFIED:20230408T113645Z
UID:10000971-1685059200-1685145599@wandelstadt-esslingen.de
SUMMARY:Tag der Nachbarn
DESCRIPTION:Am Freitag\, den 26. Mai 2023\, ist wieder Tag der Nachbarn! Ob bei einer Pflanzaktion\, einem gemeinsamen Spaziergang oder einem Nachbarschaftsfest – am deutschlandweiten Aktionstag kommen jedes Jahr tausende Nachbar:innen zusammen und setzen ein Zeichen für ein offenes und solidarisches Miteinander. Ab sofort kann jede:r eine Aktion anmelden und sich ein kostenloses Mitmach-Set für die Umsetzung sichern. \nUnter Aktionen finden kannst du dir alle bereits angemeldeten Aktionen anschauen. \nViel Spaß!
URL:https://wandelstadt-esslingen.de/event/tag-der-nachbarn/
END:VEVENT
BEGIN:VEVENT
DTSTART;TZID=Europe/Berlin:20230527T093000
DTEND;TZID=Europe/Berlin:20230527T160000
DTSTAMP:20260425T052909
CREATED:20230424T095737Z
LAST-MODIFIED:20230424T095737Z
UID:10001057-1685179800-1685203200@wandelstadt-esslingen.de
SUMMARY:Wohnführerschein: Das Wohnkompetenz-Training in Esslingen
DESCRIPTION:WANN?\nFreitag\, 26.05.2023 17:00 – 20:00 Uhr\nSamstag\, 27.05.2023 9:30 – 16:00 Uh \nWAS?\nWohnungssuche\, Bewerbung auf eine Wohnung\, Grundlagen Mietrecht\, Wohnen und Nachbarschaft\, Prüfung mit Zertifikat. \nWO?\nCVJM\, Kiesstraße 3-5\, 73728 Esslingen am Neckar \nANMELDUNG:\nAnmeldung bis 21.05. per Mail an:\nsmoessmer@hoffnungstraeger.de
URL:https://wandelstadt-esslingen.de/event/wohnfuehrerschein-das-wohnkompetenz-training-in-esslingen/2023-05-27/
LOCATION:CVJM-Haus Esslingen\, Kiesstraße 3-5\, Esslingen\, 73728\, Deutschland
END:VEVENT
END:VCALENDAR