BEGIN:VCALENDAR
VERSION:2.0
PRODID:-//Wandelstadt Esslingen - ECPv6.15.20//NONSGML v1.0//EN
CALSCALE:GREGORIAN
METHOD:PUBLISH
X-WR-CALNAME:Wandelstadt Esslingen
X-ORIGINAL-URL:https://wandelstadt-esslingen.de
X-WR-CALDESC:Veranstaltungen für Wandelstadt Esslingen
REFRESH-INTERVAL;VALUE=DURATION:PT1H
X-Robots-Tag:noindex
X-PUBLISHED-TTL:PT1H
BEGIN:VTIMEZONE
TZID:Europe/Berlin
BEGIN:DAYLIGHT
TZOFFSETFROM:+0100
TZOFFSETTO:+0200
TZNAME:CEST
DTSTART:20220327T010000
END:DAYLIGHT
BEGIN:STANDARD
TZOFFSETFROM:+0200
TZOFFSETTO:+0100
TZNAME:CET
DTSTART:20221030T010000
END:STANDARD
BEGIN:DAYLIGHT
TZOFFSETFROM:+0100
TZOFFSETTO:+0200
TZNAME:CEST
DTSTART:20230326T010000
END:DAYLIGHT
BEGIN:STANDARD
TZOFFSETFROM:+0200
TZOFFSETTO:+0100
TZNAME:CET
DTSTART:20231029T010000
END:STANDARD
BEGIN:DAYLIGHT
TZOFFSETFROM:+0100
TZOFFSETTO:+0200
TZNAME:CEST
DTSTART:20240331T010000
END:DAYLIGHT
BEGIN:STANDARD
TZOFFSETFROM:+0200
TZOFFSETTO:+0100
TZNAME:CET
DTSTART:20241027T010000
END:STANDARD
END:VTIMEZONE
BEGIN:VEVENT
DTSTART;TZID=Europe/Berlin:20230418T193000
DTEND;TZID=Europe/Berlin:20230418T193000
DTSTAMP:20260425T052747
CREATED:20230330T155707Z
LAST-MODIFIED:20230330T155707Z
UID:10000892-1681846200-1681846200@wandelstadt-esslingen.de
SUMMARY:vhs.wissen live: Countdown: Können wir der Klimakrise noch etwas entgegensetzen?
DESCRIPTION:Das 1\,5-Grad-Ziel steht auf der Kippe und könnte bereits in den nächsten fünf Jahren gerissen werden.\nEin »Weiter so wie bisher« ist deshalb keine Option. Es braucht eine Revolution im Klimaschutz\, bevor uns die Zeit davonläuft.\nTatsächlich gibt es aber noch Hoffnungsschimmer\, dass wir das 1\,5-Grad-Ziel erreichen werden. Und selbst die Politik scheint den Ernst der Lage erkannt zu haben.\nDer Ausstieg aus fossilen Energien ist im vollen Gange\, und auch die Wirtschaft denkt um. \nMojib Latif forscht am GEOMAR Helmholtz-Zentrum für Ozeanforschung Kiel. Seit 2017 ist er Präsident der Deutschen Gesellschaft CLUB OF ROME.\nEr wurde vielfach ausgezeichnet u.a. mit dem Max-Planck-Preis für öffentliche Wissenschaft.
URL:https://wandelstadt-esslingen.de/event/vhs-wissen-live-countdown-koennen-wir-der-klimakrise-noch-etwas-entgegensetzen/
ORGANIZER;CN="Volkshochschule Esslingen":MAILTO:info@vhs-esslingen.de
END:VEVENT
BEGIN:VEVENT
DTSTART;TZID=Europe/Berlin:20230419T163000
DTEND;TZID=Europe/Berlin:20230419T180000
DTSTAMP:20260425T052747
CREATED:20230331T085131Z
LAST-MODIFIED:20230331T085131Z
UID:10000896-1681921800-1681927200@wandelstadt-esslingen.de
SUMMARY:Nachhaltigkeit\, Postwachstum\, Donut-Ökonomie & Co
DESCRIPTION:Online-Vortrag: „Nachhaltigkeit\, Postwachstum\, Donut-Ökonomie & Co“: Konzepte\, ihre Impulse und Gemeinsamkeiten \nWas steckt hinter Begriffen wie Postwachstum und Donut-Ökonomie\, wie stehen sie zueinander und welche Potentiale stecken in ihnen\, um unser Wirtschaftssystem sozial\, ökologisch und ökonomisch nachhaltiger zu gestalten? Diese und weitere Fragen werden in der 4. Veranstaltung unserer Online-Reihe „Anders wirtschaften“ vom Politikwissenschaftler und Autor Gerd Oelsner aufgegriffen. Die Anmeldung ist ab sofort möglich.
URL:https://wandelstadt-esslingen.de/event/nachhaltigkeit-postwachstum-donut-oekonomie-co/
ORGANIZER;CN="Renn s%C3%BCd":MAILTO:sued@renn-netzwerk.de
END:VEVENT
BEGIN:VEVENT
DTSTART;TZID=Europe/Berlin:20230419T180000
DTEND;TZID=Europe/Berlin:20230419T193000
DTSTAMP:20260425T052747
CREATED:20230331T174313Z
LAST-MODIFIED:20230331T180500Z
UID:10000897-1681927200-1681932600@wandelstadt-esslingen.de
SUMMARY:Wie gelingt der Heizungstausch?
DESCRIPTION:In Kooperation mit der Verbraucherzentrale Energieberatung bietet die Klimaschutzagentur des Landkreis EsslingenWohneigentumsbesitzer*innen und Mieter*innen kostenfreie Beratungen zu den Themen energieeffiziente Gebäudemodernisierung\, Heizungsoptimierung\, Solarenergie sowie Stromsparen im Haushalt an. In kostenfreien Online-Vorträgen bietet die Energieberatung ferner einen Rundumblick über interessante Themen. Kompetente Referent*innen der Verbraucherzentrale Baden-Württemberg und der regionalen Energie- und Klimaschutzagenturen Baden-Württemberg (www.reabw.de) freuen sich über vorherige Anmeldungen zur folgenden Veranstaltung:\n Wie gelingt der Heizungstausch?
URL:https://wandelstadt-esslingen.de/event/heizung-optimieren/
LOCATION:Digital
ORGANIZER;CN="Klimaschutzagentur des Landkreises Esslingen gGmbH":MAILTO:info@ksa-es.de
END:VEVENT
BEGIN:VEVENT
DTSTART;TZID=Europe/Berlin:20230420T190000
DTEND;TZID=Europe/Berlin:20230420T190000
DTSTAMP:20260425T052747
CREATED:20230330T154622Z
LAST-MODIFIED:20230330T154622Z
UID:10000889-1682017200-1682017200@wandelstadt-esslingen.de
SUMMARY:Zukunftskino:  Sara Mardini - Gegen den Strom
DESCRIPTION:Im Rahmen des Zukunftskinos in Zusammenarbeit mit Seebrücke und der Offenen Aktionsgruppe für Flucht und Migration in Esslingen | im Anschluss Talk mit Markus Groda und/oder Olaf Oehmichen\, Seenotretter auf der Sea Eye. \nÜber vier Jahre hat die Filmemacherin Charly Wai Feldman Saras Kampf um Gerechtigkeit und ihre eigene Freiheit begleitet. \nSara und ihre Schwester Yusra\, beide Leistungsschwimmerinnen\, retten 2015 18 Menschen das Leben\, indem sie schwimmend ein überfülltes Boot über Stunden auf Kurs halten. Während Yusra bei den Olympischen Spielen schwimmt\, kehrt Sara nach Lesbos zurück\, um sich ehrenamtlich zu engagieren und anderen Geflüchteten zu helfen. Im Jahr 2018 wird sie verhaftet und der Beihilfe zur Schleusung\, der Geldwäsche\, des Betrugs und der Mitgliedschaft in einer kriminellen Vereinigung angeklagt. Seither wartet sie auf ihre Verhandlung – ihr drohen 20 Jahre Haft.
URL:https://wandelstadt-esslingen.de/event/zukunftskino-sara-mardini-gegen-den-strom/
LOCATION:Kommunales Kino\, Maille 4-9\, Esslingen\, 73728\, Deutschland
END:VEVENT
BEGIN:VEVENT
DTSTART;TZID=Europe/Berlin:20230421T180000
DTEND;TZID=Europe/Berlin:20230421T180000
DTSTAMP:20260425T052747
CREATED:20221010T204011Z
LAST-MODIFIED:20221010T204011Z
UID:10000334-1682100000-1682100000@wandelstadt-esslingen.de
SUMMARY:Critical Mass
DESCRIPTION:Critical Mass ist eine weltweite Fahrrad­bewegung\, um eine Alternative zum motorisi­erten Individual­verkehr aufzu­zeigen. Grundlage bildet Paragraph 27 der Straßenverkehrs-Ordnung. \nBei der Critical Mass Esslingen treffen sich jeden 3. Freitag im Monat Radfahrerinnen und Radfahrer zur gemeinsamen Fahrrad­ausfahrt durch Esslingen. Treffpunkt ist um 18:00 Uhr auf dem Bahnhofsvorplatz. Im Anschluss findet oft noch ein Erfahrungsaustausch beim „Radlerstammtisch“ statt.
URL:https://wandelstadt-esslingen.de/event/critical-mass-2/2023-04-21/
LOCATION:Bahnhofsvorplatz\, Esslingen
ORGANIZER;CN="Critical Mass":MAILTO:schugra@posteo.de
END:VEVENT
END:VCALENDAR