BEGIN:VCALENDAR
VERSION:2.0
PRODID:-//Wandelstadt Esslingen - ECPv6.15.20//NONSGML v1.0//EN
CALSCALE:GREGORIAN
METHOD:PUBLISH
X-ORIGINAL-URL:https://wandelstadt-esslingen.de
X-WR-CALDESC:Veranstaltungen für Wandelstadt Esslingen
REFRESH-INTERVAL;VALUE=DURATION:PT1H
X-Robots-Tag:noindex
X-PUBLISHED-TTL:PT1H
BEGIN:VTIMEZONE
TZID:Europe/Berlin
BEGIN:DAYLIGHT
TZOFFSETFROM:+0100
TZOFFSETTO:+0200
TZNAME:CEST
DTSTART:20240331T010000
END:DAYLIGHT
BEGIN:STANDARD
TZOFFSETFROM:+0200
TZOFFSETTO:+0100
TZNAME:CET
DTSTART:20241027T010000
END:STANDARD
BEGIN:DAYLIGHT
TZOFFSETFROM:+0100
TZOFFSETTO:+0200
TZNAME:CEST
DTSTART:20250330T010000
END:DAYLIGHT
BEGIN:STANDARD
TZOFFSETFROM:+0200
TZOFFSETTO:+0100
TZNAME:CET
DTSTART:20251026T010000
END:STANDARD
BEGIN:DAYLIGHT
TZOFFSETFROM:+0100
TZOFFSETTO:+0200
TZNAME:CEST
DTSTART:20260329T010000
END:DAYLIGHT
BEGIN:STANDARD
TZOFFSETFROM:+0200
TZOFFSETTO:+0100
TZNAME:CET
DTSTART:20261025T010000
END:STANDARD
END:VTIMEZONE
BEGIN:VEVENT
DTSTART;TZID=Europe/Berlin:20250410T180000
DTEND;TZID=Europe/Berlin:20250410T200000
DTSTAMP:20260423T000639
CREATED:20250322T151126Z
LAST-MODIFIED:20250322T151126Z
UID:10004947-1744308000-1744315200@wandelstadt-esslingen.de
SUMMARY:Mehr als wohnungslos
DESCRIPTION:Der Film ist im Zuge eines einjährigen Projekts der Hochschule Esslingen entstanden als ein Versuch\, mit dem klassischen Stigma der Wohnungslosigkeit\, dem Bild des bärtigen\, schuldigen Alkoholikers zu brechen. Die Filmemacher:innen nutzen ihren Zugang zur Praxis im Bereich der Wohnungsnotfallhilfe und begleiten vier Männer aus der Stuttgarter Wohnungslosenszene in ihrem Alltag\, um wertvolle Stimmen hörbar zu machen. Der Film soll aufzeigen\, dass sich neben existenziell drängenden Situationen und leidbehafteten Umständen Freude\, Motivation\, Ideen\, Spaß\, Kreativität und Kraft finden lassen. Betroffene sind MEHR ALS WOHNUNGSLOS! \nDanach Talk mit Michelle Volkmar & Levent Gediz \, Regisseur:innen\, Prof. Dr. Claudia Daigler\, Hochschule Esslingen\, Corinna Lenhart\, Vorstandsvorsitzende der Selbstvertretung wohnungsloser Menschen sowie Protagonisten des Films darüber\, dass Wohnungslosigkeit kein individuelles\, sondern ein strukturelles Problem ist.
URL:https://wandelstadt-esslingen.de/event/mehr-als-wohnungslos/
LOCATION:KoKi Esslingen\, Maille 4-9\, Esslingen\, 73728
CATEGORIES:Kulturveranstaltung
END:VEVENT
END:VCALENDAR