BEGIN:VCALENDAR
VERSION:2.0
PRODID:-//Wandelstadt Esslingen - ECPv6.15.20//NONSGML v1.0//EN
CALSCALE:GREGORIAN
METHOD:PUBLISH
X-WR-CALNAME:Wandelstadt Esslingen
X-ORIGINAL-URL:https://wandelstadt-esslingen.de
X-WR-CALDESC:Veranstaltungen für Wandelstadt Esslingen
REFRESH-INTERVAL;VALUE=DURATION:PT1H
X-Robots-Tag:noindex
X-PUBLISHED-TTL:PT1H
BEGIN:VTIMEZONE
TZID:Europe/Berlin
BEGIN:DAYLIGHT
TZOFFSETFROM:+0100
TZOFFSETTO:+0200
TZNAME:CEST
DTSTART:20240331T010000
END:DAYLIGHT
BEGIN:STANDARD
TZOFFSETFROM:+0200
TZOFFSETTO:+0100
TZNAME:CET
DTSTART:20241027T010000
END:STANDARD
BEGIN:DAYLIGHT
TZOFFSETFROM:+0100
TZOFFSETTO:+0200
TZNAME:CEST
DTSTART:20250330T010000
END:DAYLIGHT
BEGIN:STANDARD
TZOFFSETFROM:+0200
TZOFFSETTO:+0100
TZNAME:CET
DTSTART:20251026T010000
END:STANDARD
BEGIN:DAYLIGHT
TZOFFSETFROM:+0100
TZOFFSETTO:+0200
TZNAME:CEST
DTSTART:20260329T010000
END:DAYLIGHT
BEGIN:STANDARD
TZOFFSETFROM:+0200
TZOFFSETTO:+0100
TZNAME:CET
DTSTART:20261025T010000
END:STANDARD
END:VTIMEZONE
BEGIN:VEVENT
DTSTART;TZID=Europe/Berlin:20251202T180000
DTEND;TZID=Europe/Berlin:20251202T200000
DTSTAMP:20260422T042448
CREATED:20251020T120752Z
LAST-MODIFIED:20251020T120847Z
UID:10006684-1764698400-1764705600@wandelstadt-esslingen.de
SUMMARY:Walking _again in FEAR
DESCRIPTION:Audiowalk \n© HuM-Collective \nJede* kennt das mulmige Gefühl auf dem Nachhauseweg: den Schlüssel fest in der Hand\, die Straßenseite wechseln\, das Fake-Telefonat… \nFür Frauen* ist das Überleben im öffentlichen Raum Alltag – gleichzeitig ist der private Raum noch gefährlicher für Frauen*. Alle vier Minuten erlebt eine Frau* in Deutschland Gewalt durch den (Ex-)Partner. Geschlechterbasierte Gewalt wird oft als privates Problem abgetan – doch ist sie Ausdruck eines systemischen Machtverhältnisses. Wie kommt es dazu\, dass (Ex)Partner zum Täter werden? Liegt es an patriarchalen Strukturen\, an Sozialisierung\, an einem verschobenen Besitzanspruch? \nWalking _again in FEAR geht diesen Fragen nach. Der Audiowalk richtet sich an ALLE und eröffnet Perspektiven des Mitlaufens und des Beobachtens. Er macht erlebbar\, was es bedeutet\, in FEAR leben zu müssen. Ein kollektiver Appell: Gewalt gegen FLINTA geht uns alle an! \nTreffpunkt: Ritterstraße 17\, 73728 Esslingen am Neckar. \nPreis: 10 € / ermäßigt 5 € Tickets kaufen \n\n\n\n\n\n\n\nDauer: Ca. 60 Minuten\, Nachgespräch mit Beraterinnen von Frauen helfen Frauen Esslingen e. V. und Wildwasser Esslingen e. V. im Anschluss \n\n\n\nTriggerwarnung: Walking _again in FEAR ist ein Audiowalk\, in dem physische und psychische\, sowie sexuelle Gewalt thematisiert werden.\n\n\nPräsentiert von: Referat für Chancengleichheit\, Volkshochschule Esslingen\, Wildwasser Esslingen e. V. und Frauen helfen Frauen Esslingen e. V. Eine Produktion der silent ladies_\n\nDie silent ladies_ sind ein feministisches Theaterlabel\, das seit 2020 in der freien Szene Stuttgart wirkt und in wechselnder Besetzung feministische Theaterperformances erabeitet. https://silentladies.de
URL:https://wandelstadt-esslingen.de/event/walking-_again-in-fear/
LOCATION:Ritterstraße 17\, Ritterstr. 17\, Esslingen am Neckar\, 73728\, Deutschland
CATEGORIES:Infoveranstaltung,Kulturveranstaltung,Live-Veranstaltung
ORGANIZER;CN="Referat f%C3%BCr Chancengleicheit":MAILTO:chancengleichheit@esslingen.de
END:VEVENT
END:VCALENDAR