BEGIN:VCALENDAR
VERSION:2.0
PRODID:-//Wandelstadt Esslingen - ECPv6.15.20//NONSGML v1.0//EN
CALSCALE:GREGORIAN
METHOD:PUBLISH
X-WR-CALNAME:Wandelstadt Esslingen
X-ORIGINAL-URL:https://wandelstadt-esslingen.de
X-WR-CALDESC:Veranstaltungen für Wandelstadt Esslingen
REFRESH-INTERVAL;VALUE=DURATION:PT1H
X-Robots-Tag:noindex
X-PUBLISHED-TTL:PT1H
BEGIN:VTIMEZONE
TZID:Europe/Berlin
BEGIN:DAYLIGHT
TZOFFSETFROM:+0100
TZOFFSETTO:+0200
TZNAME:CEST
DTSTART:20250330T010000
END:DAYLIGHT
BEGIN:STANDARD
TZOFFSETFROM:+0200
TZOFFSETTO:+0100
TZNAME:CET
DTSTART:20251026T010000
END:STANDARD
BEGIN:DAYLIGHT
TZOFFSETFROM:+0100
TZOFFSETTO:+0200
TZNAME:CEST
DTSTART:20260329T010000
END:DAYLIGHT
BEGIN:STANDARD
TZOFFSETFROM:+0200
TZOFFSETTO:+0100
TZNAME:CET
DTSTART:20261025T010000
END:STANDARD
BEGIN:DAYLIGHT
TZOFFSETFROM:+0100
TZOFFSETTO:+0200
TZNAME:CEST
DTSTART:20270328T010000
END:DAYLIGHT
BEGIN:STANDARD
TZOFFSETFROM:+0200
TZOFFSETTO:+0100
TZNAME:CET
DTSTART:20271031T010000
END:STANDARD
END:VTIMEZONE
BEGIN:VEVENT
DTSTART;TZID=Europe/Berlin:20260419T143000
DTEND;TZID=Europe/Berlin:20260419T163000
DTSTAMP:20260422T005833
CREATED:20230225T222050Z
LAST-MODIFIED:20260418T103504Z
UID:10004389-1776609000-1776616200@wandelstadt-esslingen.de
SUMMARY:Transition Town Schenk- und Tauschbörse für Saatgut\, Pflanzen und Co 
DESCRIPTION:Zweimal im Jahr findet die Transition Town Schenk- und Tauschbörse für Saatgut\, Pflanzen und Co in der Pliensauvorstadt statt. Zwischen 14.30 Uhr und 16.30 Uhr könnt Ihr unter dem Dach des Bürgerhauses in der Weilstraße Pflanzen für draußen und drinnen\, sowie Saatgut tauschen und verschenken. Der Eintritt ist frei\, keine Anmeldung notwendig. Das Pflanzenmaterial bitte gut verpackt in Töpfen oder Tütchen mitbringen. \nAuch die Esslinger Nutzpflanzenbibliothek hat geöffnet und gibt kostenfrei Saatgut für mittlerweile über 100 verschiedene samenfeste\, das heißt selbst vermehrbare\, Tomatensorten in allen Farben und Formen aus. Das Projekt leistet mithilfe der Esslinger Gärtner*innen einen Beitrag zum Erhalt der Tomatenvielfalt und regt zur Wiederaneignung des Wissens zur eigenen Saatgutvermehrung an. \nWir richten zweimal jährlich diese Veranstaltung aus mit dem Ziel die Hobby-Gärtner*innen Esslingens und aus der Umgebung miteinander in Kontakt zu bringen und Menschen für das Gärtnern zu begeistern. Wer einen Garten hat\, kennt das: schnell ist die Pflanze zu groß\, man kann Ableger gewinnen oder man hat zu viel ausgesät. Aber auch Menschen\, die noch wenig Erfahrung mit dem Gärtnern haben sind herzlich willkommen\, bekommen Inspiration für Experimente mit ihrem grünen Daumen und praktische Tipps von erfahrenen Gärtner*innen gleich dazu. Einfach vorbeischauen\, Ideen und Pflanzen mitnehmen.
URL:https://wandelstadt-esslingen.de/event/schenk-und-tauschboerse-fuer-saatgut-pflanzen-und-co-2/2026-04-19/
LOCATION:Mehrgenerationenhaus Esslingen\, Weilstraße 8\, Esslingen
ORGANIZER;CN="Transition Town Esslingen - Stadt im Wandel":MAILTO:kontakt@transition-town-es.de
END:VEVENT
END:VCALENDAR