BEGIN:VCALENDAR
VERSION:2.0
PRODID:-//Wandelstadt Esslingen - ECPv6.15.20//NONSGML v1.0//EN
CALSCALE:GREGORIAN
METHOD:PUBLISH
X-ORIGINAL-URL:https://wandelstadt-esslingen.de
X-WR-CALDESC:Veranstaltungen für Wandelstadt Esslingen
REFRESH-INTERVAL;VALUE=DURATION:PT1H
X-Robots-Tag:noindex
X-PUBLISHED-TTL:PT1H
BEGIN:VTIMEZONE
TZID:Europe/Berlin
BEGIN:DAYLIGHT
TZOFFSETFROM:+0100
TZOFFSETTO:+0200
TZNAME:CEST
DTSTART:20240331T010000
END:DAYLIGHT
BEGIN:STANDARD
TZOFFSETFROM:+0200
TZOFFSETTO:+0100
TZNAME:CET
DTSTART:20241027T010000
END:STANDARD
BEGIN:DAYLIGHT
TZOFFSETFROM:+0100
TZOFFSETTO:+0200
TZNAME:CEST
DTSTART:20250330T010000
END:DAYLIGHT
BEGIN:STANDARD
TZOFFSETFROM:+0200
TZOFFSETTO:+0100
TZNAME:CET
DTSTART:20251026T010000
END:STANDARD
BEGIN:DAYLIGHT
TZOFFSETFROM:+0100
TZOFFSETTO:+0200
TZNAME:CEST
DTSTART:20260329T010000
END:DAYLIGHT
BEGIN:STANDARD
TZOFFSETFROM:+0200
TZOFFSETTO:+0100
TZNAME:CET
DTSTART:20261025T010000
END:STANDARD
END:VTIMEZONE
BEGIN:VEVENT
DTSTART;TZID=Europe/Berlin:20250906T140000
DTEND;TZID=Europe/Berlin:20250906T170000
DTSTAMP:20260422T082904
CREATED:20250812T223537Z
LAST-MODIFIED:20250812T224120Z
UID:10006155-1757167200-1757178000@wandelstadt-esslingen.de
SUMMARY:ZuZule – Waldbaden
DESCRIPTION:🌿 Ab in den Wald – Waldbaden mit Janina\nEntschleunigen. Durchatmen. Auftanken. \nDu sehnst dich nach einer Pause vom Alltag? Möchtest zur Ruhe kommen\, neue Energie tanken und einfach mal sein? Dann komm mit uns in den Wald! \nAm Samstag\, 6. September 2025 von 14 bis 17 Uhr laden wir dich ein\, das Waldbaden kennenzulernen – achtsam\, entschleunigt und ganz ohne Druck. Du brauchst keine Vorkenntnisse – nur Offenheit für die Natur und Lust auf Entspannung. \n🌲 Was erwartet dich?\nWaldbaden ist mehr als ein Spaziergang. Gemeinsam mit Janina tauchst du ein in die wohltuende Atmosphäre des Waldes – unterstützt durch einfache Achtsamkeits- und Sinnesübungen\, die dich mit dem Hier und Jetzt verbinden. Ganz ohne Eile. \n📍 Treffpunkt: 13:45\nZuZule – Begegnungsort\nAichschießerstr. 2\, Aichwald\n(Ab dort gehen wir gemeinsam in den Wald.) \n💚 Teilnahme:\n\nTeilnehmer*innen-Beitrag auf Spendenbasis (Orientierung: ca. 25 € p.P.)\nAnmeldung: zuzule@mail.de\nFür alle geeignet\, die gut zu Fuß sind.\nBitte trage wettergerechte Kleidung und bequeme Schuhe.\nDenk an Trinkflasche\, ggf. Sonnencreme – und verzichte auf schweres Gepäck.\n\nWaldbaden tut Körper\, Geist und Seele gut.\nGönn dir eine Auszeit – wir freuen uns auf dich!
URL:https://wandelstadt-esslingen.de/event/zuzule-waldbaden/
LOCATION:ZuZule\, Aichschießer Str. 2\, Aichwald\, 73773
CATEGORIES:Achtsamkeit,Workshop
ORGANIZER;CN="ZuZule":MAILTO:zuzule@mail.de
END:VEVENT
BEGIN:VEVENT
DTSTART;TZID=Europe/Berlin:20250925T190000
DTEND;TZID=Europe/Berlin:20250925T203000
DTSTAMP:20260422T082904
CREATED:20250909T114607Z
LAST-MODIFIED:20250909T114607Z
UID:10006517-1758826800-1758832200@wandelstadt-esslingen.de
SUMMARY:Lesung mit Harald Vogel über Kurt Tucholsky: Nie wieder Krieg
DESCRIPTION:Wir laden Sie herzlich ein zur Lesung mit Harald Vogel im Buchladen Die Zeitgenossen eG \nin der Strohstr. 28\, Esslingen \nam Donnerstag\, den 25.September um 19 Uhr \nDer Literaturwissenschaftler Prof.Dr. Harald Vogel ist ein profunder Kenner von Kurt Tucholskys Weltbühnentexte\, die uns auch heute noch Denkanstöße geben können. \nDieser Abend  soll natürlich alle Literaturinteressierten ansprechen\, ganz besonders aber wollen wir auch interessierten Schülerinnen und Schülern einen Zugang zu Tucholskys Werken anbieten. \nDer Eintritt  ist frei.
URL:https://wandelstadt-esslingen.de/event/lesung-mit-harald-vogel-ueber-kurt-tucholsky-nie-wieder-krieg/
CATEGORIES:Kulturveranstaltung
END:VEVENT
BEGIN:VEVENT
DTSTART;TZID=Europe/Berlin:20250927T173000
DTEND;TZID=Europe/Berlin:20250927T190000
DTSTAMP:20260422T082904
CREATED:20250803T212550Z
LAST-MODIFIED:20250908T153903Z
UID:10006114-1758994200-1758999600@wandelstadt-esslingen.de
SUMMARY:„Ein NETTEr Moment“ im ZuZule - Musikabend mit Annette Rudert
DESCRIPTION:am Samstag 27.9.25 Beginn 17:30 Uhr\, Einlass 16:30 Uhr \n„Ein NETTEr Moment“ (Nimm Dir Zeit) \n>>> Gitarren-Songs + gemeinsames Singen mit Liedermacherin Nette <<< \nHumorvoll nimmt Anette Rudert uns mit in die Welt ihrer nachdenklichen\, aufmunternden und auch Lebensfreude versprühenden Lieder.\nEine Gitarre unterstützt ihren Gesang (unplugged) & wir alle wissen: gemeinsam singen verbindet und macht Freude!\nIm Anschluss an die Musik gibt es in gemütlicher Runde noch Snacks (im Ticketpreis von 20€ enthalten)\nund davor und danach ist Zeit\, um in unserem gut sortierten Secondhand Shop nach kleinen Schätzen zu stöbern. \nTICKETS sind bei uns im ZuZule zu unseren Öffnungszeiten erhältlich: \nmittwochs\, von 14 Uhr bis 18 Uhr\,\nfreitags\, von 15 bis 18 Uhr\nund samstags\, von 12 bis 17 Uhr \n! an Veranstaltungstagen können die Öffnungszeiten abweichen ! \nSCHREIB(T) UNS gern zur (Vor)Anmeldung eine Nachricht an zuzule@mail.de  \n  \n \nhttps://liedermacherin-nette.de/
URL:https://wandelstadt-esslingen.de/event/zuzule-musikabend-mit-annette-v-rudert/
LOCATION:ZuZule\, Aichschießer Str. 2\, Aichwald\, 73773
CATEGORIES:Live-Veranstaltung
ORGANIZER;CN="ZuZule":MAILTO:zuzule@mail.de
END:VEVENT
END:VCALENDAR