BEGIN:VCALENDAR
VERSION:2.0
PRODID:-//Wandelstadt Esslingen - ECPv6.15.20//NONSGML v1.0//EN
CALSCALE:GREGORIAN
METHOD:PUBLISH
X-WR-CALNAME:Wandelstadt Esslingen
X-ORIGINAL-URL:https://wandelstadt-esslingen.de
X-WR-CALDESC:Veranstaltungen für Wandelstadt Esslingen
REFRESH-INTERVAL;VALUE=DURATION:PT1H
X-Robots-Tag:noindex
X-PUBLISHED-TTL:PT1H
BEGIN:VTIMEZONE
TZID:Europe/Berlin
BEGIN:DAYLIGHT
TZOFFSETFROM:+0100
TZOFFSETTO:+0200
TZNAME:CEST
DTSTART:20220327T010000
END:DAYLIGHT
BEGIN:STANDARD
TZOFFSETFROM:+0200
TZOFFSETTO:+0100
TZNAME:CET
DTSTART:20221030T010000
END:STANDARD
BEGIN:DAYLIGHT
TZOFFSETFROM:+0100
TZOFFSETTO:+0200
TZNAME:CEST
DTSTART:20230326T010000
END:DAYLIGHT
BEGIN:STANDARD
TZOFFSETFROM:+0200
TZOFFSETTO:+0100
TZNAME:CET
DTSTART:20231029T010000
END:STANDARD
BEGIN:DAYLIGHT
TZOFFSETFROM:+0100
TZOFFSETTO:+0200
TZNAME:CEST
DTSTART:20240331T010000
END:DAYLIGHT
BEGIN:STANDARD
TZOFFSETFROM:+0200
TZOFFSETTO:+0100
TZNAME:CET
DTSTART:20241027T010000
END:STANDARD
END:VTIMEZONE
BEGIN:VEVENT
DTSTART;TZID=Europe/Berlin:20231202T110000
DTEND;TZID=Europe/Berlin:20231202T130000
DTSTAMP:20260424T084903
CREATED:20231201T162443Z
LAST-MODIFIED:20231201T162443Z
UID:10002188-1701514800-1701522000@wandelstadt-esslingen.de
SUMMARY:Klimawaage: „Hat Klimaschutz etwas mit Liebe zu tun?“
DESCRIPTION:Klimaschutz und Liebe – passt das zusammen? \n \n  \nKurz vor dem ersten Advent möchten wir mit Passant:innen und Euch noch einmal ins Gespräch kommen. Wir werden unsere Klimawaage an der Kreuzung Oberer/Unterer Metzgerbach/Pliensaustraße (bei GelatOne) aufbauen. Und zwar diesmal mit einer Frage\, die in die vorweihnachtliche Zeit passt: „Hat Klimaschutz etwas mit Liebe zu tun?“ Diese Frage ist ungewöhnlich\, oder? \nDer Klimanotstand ist als rein wissenschaftliches Phänomen zu betrachten\, und auch eine konsequente Klimapolitik kann mit Daten und Fakten belegt und umgesetzt werden. Wenn wir „Liebe“ sagen\, denken wir an die romantische Liebe\, an die eigenen Kinder und die Familie; also vor allem an ein Gefühl\, an eine Beschreibung für eine besondere Beziehung mit Menschen. Wen wir lieben\, wollen wir beschützen. Wie würdet Ihr Eure Beziehung zur Welt definieren? Was ist damit überhaupt gemeint; mit der „Welt“? Lässt sie sich lieben? Was an ihr würdet Ihr schützen wollen? Landschaften vielleicht\, in denen Ihr als Kinder gern Zeit verbracht habt? Wälder\, Wanderwege\, Seen\, eine Lichtung\, die je spezifischen Düfte\, Klänge und die damit verbundenen Erinnerungen? Von vielen Landschaften denken wir noch immer\, dass es sie ewig geben wird; so wie es sie schon Jahrhunderte oder gar Jahrtausende vor uns gab. Aber viele von ihnen sind bereits verschwunden\, werden verschwinden oder sich tiefgreifend verändern. Was ist das für ein Gefühl? Wenn es nicht Liebe und Trauer ist oder nicht so genannt werden soll\, weil es vielleicht  zu esoterisch oder zu religiös klingt\, was ist es dann?\nWir sind neugierig darauf\, mit Euch über diese auch für uns außergewöhnliche Frage ins Gespräch zu kommen und euch zuzuhören.
URL:https://wandelstadt-esslingen.de/event/klimawaage-hat-klimaschutz-etwas-mit-liebe-zu-tun/
LOCATION:Ecke Oberer und Unterer Metzgerbach mit Pliensaustraße (bei GelatOne)\, Unterer Metzgerbach\, Esslingen am Neckar
ORGANIZER;CN="Parents for Future":MAILTO:esslingen@parentsforfuture.de
END:VEVENT
BEGIN:VEVENT
DTSTART;TZID=Europe/Berlin:20231204T183000
DTEND;TZID=Europe/Berlin:20231204T210000
DTSTAMP:20260424T084904
CREATED:20221111T191526Z
LAST-MODIFIED:20230905T070217Z
UID:10000431-1701714600-1701723600@wandelstadt-esslingen.de
SUMMARY:Teamtreffen Wandelstadt Esslingen
DESCRIPTION:Herzlich willkommen in unserem wunderbaren Team \nWir treffen uns jeden ersten Montag im Monat um 18:30 Uhr mit unserem Team und freuen uns immer über neue Mitgestalter:innen\, die Lust haben sich mit ihren Talenten einzubringen. \nDenn wir wünschen uns das kreative Denken\, das beste Wissen und das beherzte Handeln aller Esslinger:innen! \nKontakt \nAngelina Haug \ninfo@Wandelstadt-Esslingen.de
URL:https://wandelstadt-esslingen.de/event/teamtreffen-wandelstadt-esslingen-2/2023-12-04/
ORGANIZER;CN="Wandelstadt Esslingen":MAILTO:info@wandelstadt-esslingen.de
END:VEVENT
BEGIN:VEVENT
DTSTART;TZID=Europe/Berlin:20231205T183000
DTEND;TZID=Europe/Berlin:20231205T210000
DTSTAMP:20260424T084904
CREATED:20231121T090903Z
LAST-MODIFIED:20231121T090903Z
UID:10002111-1701801000-1701810000@wandelstadt-esslingen.de
SUMMARY:Esslingen aufs Rad: Offenes Treffen
DESCRIPTION:Gemeinsam bringen wir die Esslinger Radinfrastruktur voran.
URL:https://wandelstadt-esslingen.de/event/esslingen-aufs-rad-offenes-treffen/
LOCATION:Forum Esslingen – Zentrum für Bürgerengagement\, Schelztorstraße 38\, Esslingen\, Deutschland
END:VEVENT
BEGIN:VEVENT
DTSTART;TZID=Europe/Berlin:20231206T180000
DTEND;TZID=Europe/Berlin:20231206T193000
DTSTAMP:20260424T084904
CREATED:20231026T154257Z
LAST-MODIFIED:20231026T154257Z
UID:10002104-1701885600-1701891000@wandelstadt-esslingen.de
SUMMARY:Straßenbegleitgrün und sein unterschätztes Potenzial
DESCRIPTION:Grünflächen an Straßen stellen oft noch eine unterschätzte Ressource für die biologische Vielfalt dar. Die vielfältig ausgeprägten Flächen können verschiedenen Arten einen Lebensraum bieten und entlang der Straßen wichtige Vernetzungselemente darstellen. Um diese Flächen für die biologische Vielfalt zu erschließen\, kommt es vor allem auf die richtige Pflege an. Die Grundsätze der ökologischen Pflege können aber nicht nur auf Straßenbegleitflächen\, sondern auch auf weitere Flächen im Umfeld übertragen werden und so weiter zur Stärkung des Biotopverbunds beitragen.
URL:https://wandelstadt-esslingen.de/event/strassenbegleitgruen-und-sein-unterschaetztes-potenzial/
LOCATION:Volkshochschule\, Mettinger Straße 125\, Esslingen am Neckar\, 73728\, Deutschland
ORGANIZER;CN="Volkshochschule Esslingen":MAILTO:info@vhs-esslingen.de
END:VEVENT
BEGIN:VEVENT
DTSTART;TZID=Europe/Berlin:20231206T190000
DTEND;TZID=Europe/Berlin:20231206T190000
DTSTAMP:20260424T084904
CREATED:20231123T093600Z
LAST-MODIFIED:20231123T093600Z
UID:10002116-1701889200-1701889200@wandelstadt-esslingen.de
SUMMARY:Etwas anderer Stammtisch
DESCRIPTION:Sehr geehrte Damen und Herren\, \ngerne möchte ich Sie erneut auf den „etwas anderen Stammtisch“ von den ehrenamtlich Engagierten der „Stadttour – gemeinsam Esslingen entdecken“ hinweisen. \nDas nächste Treffen ist am: \nMittwoch \n 6. Dezember 2023 \n19 Uhr  \nim Forum Esslingen (Gruppenraum 3)\, \nSchelztorstraße 38 in Esslingen \n>> Sie sind hier richtig\, wenn Ihnen die „etwas andere“ Stadttour gefallen hat und Sie Interesse daran hätten\, an neue Touren mitzuwirken. Hier können Sie Ihre Ideen einbringen und sich mit anderen Esslinger-Stadtbewohner:innen austauschen. \n>> Das Angebot ist aber auch für Menschen gedacht\, die gerne weitere Kontaktmöglichkeiten hier in Esslingen suchen. \nSie können spontan vorbeischauen\, oder geben über diese E-Mail einfach kurz Bescheid. \nMit freundlichen Grüßen\,\nJanina Mader mit ehrenamtlich Engagierten der Stadttour (Heike\, Mehmet\, Catherine & Christina)
URL:https://wandelstadt-esslingen.de/event/etwas-anderer-stammtisch/
LOCATION:Forum Esslingen – Zentrum für Bürgerengagement\, Schelztorstraße 38\, Esslingen\, Deutschland
END:VEVENT
BEGIN:VEVENT
DTSTART;TZID=Europe/Berlin:20231207T190000
DTEND;TZID=Europe/Berlin:20231207T190000
DTSTAMP:20260424T084904
CREATED:20231123T092114Z
LAST-MODIFIED:20231123T092114Z
UID:10002115-1701975600-1701975600@wandelstadt-esslingen.de
SUMMARY:Zukunftskino: Das Kombinat
DESCRIPTION:Talk mit Jonas Kienel\, ökologischer Landbau | Moderation: Bernhard Wiesmeier \, vhs Esslingen\nDas Zukunftskino Esslingen ist eine Veranstaltungsreihe in Zusammenarbeit  mit * vhs Esslingen * fobi:aktiv gGmbH * Hochschule Esslingen * Klimagerechtigkeitsbündnis Esslingen * Stabsstelle Nachhaltigkeit und Klimaschutz der Stadt Esslingen * Wandelstadt Esslingen \n\nDer Dokumentarfilm begleitet über einen Zeitraum von 9 Jahren das Kartoffelkombinat aus München auf seiner Reise von der idealistischen Idee zur größten Solidarischen Landwirtschaft in Deutschland. \nDen beiden Gründern Daniel Überall und Simon Scholl dient dabei der Anbau von Gemüse als trojanisches Pferd\, um eine viel größere Idee voranzutreiben. Die beiden wollen ein ganz anderes Wirtschaftssystem\, eine Alternative zur kapitalistischen Produktionsweise. Sie fragen sich\, wie produzieren wir Dinge\, wer besitzt die Produktionsmittel und wer soll am Ende von dieser Produktion profitieren? Auf dem Weg dorthin tauchen dann sowohl ganz konkrete gärtnerische als auch persönliche Probleme auf und plötzlich steht das Projekt kurz vor dem Scheitern.
URL:https://wandelstadt-esslingen.de/event/zukunftskino-das-kombinat/
LOCATION:Kommunales Kino\, Maille 4-9\, Esslingen\, 73728\, Deutschland
END:VEVENT
BEGIN:VEVENT
DTSTART;TZID=Europe/Berlin:20231207T193000
DTEND;TZID=Europe/Berlin:20231207T210000
DTSTAMP:20260424T084904
CREATED:20231101T134308Z
LAST-MODIFIED:20231101T134308Z
UID:10002110-1701977400-1701982800@wandelstadt-esslingen.de
SUMMARY:Konzert 1000 Jahre Galut – Das jüdische Europa in Liedern und Zeitzeugnissen
DESCRIPTION:Dieses besondere Konzert thematisiert die ambivalentenBeziehungen der Juden zu ihren nichtjüdischen Nachbarnin Europa. Die Geschichte des europäischen Judentumskennt das friedliche interreligiöse Zusammenlebens ebensowie die gnadenlose Verfolgung und den Versuch\, dasjüdische Leben in Europa in seiner Gesamtheitauszulöschen. Da sind auf der einen Seite die vielenJahrhunderte der kulturellen Blüte in Spanien und imMittelmeerraum\, die eine fast unerschöpfliche Quelle vonlebensfrohen Liedern und Texten bilden. Und da ist auf deranderen Seite die Erfahrung von Rassismus\, Unterdrückungund fanatischem Menschenhass bis hin zum Völkermord.Auch dieser Teil der jüdisch-europäischen Geschichte hatSpuren in der Musik hinterlassen\, die heute als klingendesMahnmal dienen können. Wir wollen mit unseremProgramm für eine tolerante\, kulturell und religiös bunteund friedliche Welt werben. \nVeranstalter: Trimum e.V.
URL:https://wandelstadt-esslingen.de/event/konzert-1000-jahre-galut-das-juedische-europa-in-liedern-und-zeitzeugnissen/
LOCATION:Kunstdruck Centraltheater\, Rossmarkt 9\, Esslingen
END:VEVENT
BEGIN:VEVENT
DTSTART;TZID=Europe/Berlin:20231209T193000
DTEND;TZID=Europe/Berlin:20231210T020000
DTSTAMP:20260424T084904
CREATED:20231127T091507Z
LAST-MODIFIED:20231127T092141Z
UID:10002186-1702150200-1702173600@wandelstadt-esslingen.de
SUMMARY:Youth Against Antisemitism
DESCRIPTION:Judenhass Underground: Antisemitismus in emanzipatorischen Subkulturen und Bewegungen (Lesung und Party) \nVeranstalter: Komma Jugend und Kultur\, Junges Forum der Deutsch-Israelischen Gesellschaft Region Stuttgart und Emanzipation und Frieden \nYouth Against Antisemitism \nJudenhass Underground: Antisemitismus in emanzipatorischen Subkulturen und Bewegungen (Lesung und Party) \nSamstag\, 9. Dezember 2023\, 19.30 Uhr\, Esslingen/Neckar \nKOMMA Jugend und Kultur\, Maille 5-9 \nBuchvorstellung und Diskussion mit Stefan Lauer und Nicholas Potter: Judenhass Underground. Antisemitismus in emanzipatorischen Subkulturen und Bewegungen \n„Der Sammelband Judenhass Underground\, herausgegeben von Nicholas Potter und Stefan Lauer\, analysiert\, wo\, wie und warum israelfeindliche Positionen in einer vermeintlich emanzipatorischen Subkultur Fuß fassen können und wann diese in antisemitische Ressentiments umschlagen. In den Beiträgen werden die verschiedensten Subkulturen und Bewegungen beleuchtet. Eingeleitet werden diese durch Hintergrundtexte. Damit wird es auch solchen Lesern ermöglicht\, den Analysen zu folgen\, die sich erstmalig mit Antisemitismus und Subkultur beschäftigen.“ Jüdische Allgemeine\, 10. September 2023 \nAnschließend Party \nEine Veranstaltung von Komma Jugend und Kultur\, Junges Forum der Deutsch-Israelischen Gesellschaft Region Stuttgart und Emanzipation und Frieden
URL:https://wandelstadt-esslingen.de/event/youth-against-antisemitism/
LOCATION:KOMMA\, Maille 5-9\, Esslingen\, Deutschland
CATEGORIES:Vernetzungsveranstaltung
ATTACH;FMTTYPE=image/jpeg:https://wandelstadt-esslingen.de/wp-content/uploads/2023/11/youthagainstantisemitismus-2.jpg
END:VEVENT
BEGIN:VEVENT
DTSTART;TZID=Europe/Berlin:20231211T190000
DTEND;TZID=Europe/Berlin:20231211T190000
DTSTAMP:20260424T084904
CREATED:20231124T114344Z
LAST-MODIFIED:20231124T114344Z
UID:10002117-1702321200-1702321200@wandelstadt-esslingen.de
SUMMARY:Jüdisches Leben seit dem Terror des 7. Oktober
DESCRIPTION:Zeit: Montag\, 11. Dezember 2023\, 19:00 Uhr \nOrt: ECONVENT Esslingen\, Ritterstraße 16\, 73728 Esslingen am Neckar \nDer Terrorangriff der Hamas auf Israel am 7. Oktober und seine Folgen sind ein schlimmer und dramatischer Einschnitt in das jüdische Leben – in Israel und auch bei uns in Esslingen. Nie wieder Holocaust heißt auch\, dass es mit dem Staat Israel einen sicheren Ort für Jüdinnen und Juden geben muss. Dieser ist tief erschüttert. \nGleichzeitig werden Jüdinnen und Juden in Deutschland seit dem 7. Oktober mehr bedroht als zuvor. Die Zahl antisemitischer Straftaten nimmt zu. In Esslingen ist die vor dem Rathaus gehisste Israel-Flagge schon zweimal beschmutzt worden\, und immer neue antisemitische Schmierereien in unserer Stadt werden gemeldet. \nÜber jüdisches Leben seit dem Terrorangriff der Hamas des 7. Oktober spreche ich zum einen mit Michael Kashi. Er ist engagiert im Vorstand der Israelischen Religionsgemeinschaft Württemberg. Mein zweiter Gast ist mein Landtagskollege aus Ulm Michael Joukov MdL (GRÜNE). Er ist der erste und einzige jüdische Abgeordnete des Landtags von Baden-Württemberg und kann von seiner Abgeordnetenreise nach Israel berichten\, bei der er sich jüngst ein Bild der Situation gemacht und tiefgehende Eindrücke mitgebracht hat. Und mit allen möchte ich darüber sprechen\, was Solidarität mit Jüdinnen und Juden und das Eintreten gegen Antisemitismus und Terror bei uns heute heißt. \nIch freue mich auf Ihr Kommen und den Austausch mit meinen beiden Gästen und mit Ihnen!
URL:https://wandelstadt-esslingen.de/event/juedisches-leben-seit-dem-terror-des-7-oktober/
LOCATION:ECONVENT\, Ritterstraße 6\, Esslingen\, 73728\, Deutschland
END:VEVENT
BEGIN:VEVENT
DTSTART;TZID=Europe/Berlin:20231211T190000
DTEND;TZID=Europe/Berlin:20231211T210000
DTSTAMP:20260424T084904
CREATED:20230403T205650Z
LAST-MODIFIED:20230606T093344Z
UID:10000920-1702321200-1702328400@wandelstadt-esslingen.de
SUMMARY:Treffen des Bündnis für Klimagerechtigkeit
DESCRIPTION:Herzliche Einladung mit uns aktiv zu sein \nJa\, wir wollen noch mehr bewegen in Esslingen und laden Sie herzlich ein\, sich gemeinsam mit uns für den nötigen ökologischen\, ökonomischen\, sozialen und kulturellen Wandel zu engagieren. Wir freuen uns sowohl auf neue Gruppen wie auch auf Einzelpersonen\, die sich gerne einbringen möchten! \nHier vor Ort können wir in Esslingen die Veränderung leben\, die wir uns für unsere Welt wünschen. Wir treffen uns als gesamtes Bündnis in der Regel jeden zweiten Montagabend im Monat um 19 Uhr online\, um zu planen\, zu organisieren\, zu berichten und unsere Erfolge zu teilen. Herzliche Einladung an neue Mitmacher:innen uns ganz unverbindlich kennenzulernen! \n  \nIhr Kontakt zu uns: \nThomas Albrecht \ninfo@klimagerechtigkeit-esslingen.de \nwww.klimagerechtigkeit-esslingen.de
URL:https://wandelstadt-esslingen.de/event/treffen-des-buendnis-fuer-klimagerechtigkeit-2-2-2/2023-12-11/
ATTACH;FMTTYPE=image/jpeg:https://wandelstadt-esslingen.de/wp-content/uploads/2022/07/klimagerechtig-esslingen.jpg
ORGANIZER;CN="B%C3%BCndnis f%C3%BCr Klimagerechtigkeit Esslingen":MAILTO:info@klimagerechtigkeit-esslingen.de
END:VEVENT
BEGIN:VEVENT
DTSTART;TZID=Europe/Berlin:20231212T193000
DTEND;TZID=Europe/Berlin:20231212T210000
DTSTAMP:20260424T084904
CREATED:20231026T154411Z
LAST-MODIFIED:20231026T154411Z
UID:10002105-1702409400-1702414800@wandelstadt-esslingen.de
SUMMARY:Energiewende für die eigenen 4 Wände ( inkl. Photovoltaik ) Interaktives Online-Seminar
DESCRIPTION:Für Inhaber der vhs Card ist eine Internetanmeldung aus technischen Gründen momentan leider noch nicht möglich. Bitte melden Sie sich tel. unter 0711 550210 oder Email info@vhs-esslingen.de zum Kurs an. \nFür den Endverbraucher werden Fragen zu den Themen Photovoltaik\, Wasser\, Sonne\, Energie\, Wärmewende mit praktischen Beispielen hinterlegt.\nEs werden immer von groß ( Weltweit oder Landesebene ) nach klein ( eigenen 4 Wände ) die Zusammenhänge dargestellt.\n– Zukünftiger Strombedarf für die komplette Familie inkl. Mobilität\, Heizen\, Warmwasser\, Haushaltsstrom\, Klimaanlage etc.\n– Wie könnte die Stromkosten Entwicklung aussehen ?\n– CO2 Preis und Gaspreisentwicklung\n– Wo lassen sich Photovoltaikmodule anbringen ?\n– Kombination aus Photovoltaikmodulen und Wärmetauscher ?\n– Warmwasser Solaranlage ( Solarthermie ) oder Photovoltaik ?\n– Was sind Niedertemperaturheizkörper und warum sollte ich sie nutzen ?\n– Gaskessel austauschen durch Wärmepumpe oder lieber eine kleine Lösung ?\nJede:r Teilnehmende bekommt die Unterlagen\, um alles nachzuvollziehen. \nAus datenschutzrechtlichen Gründen benötigt YouTube Ihre Einwilligung um geladen zu werden. Mehr Informationen finden Sie unter Datenschutzerklärung.Akzeptieren
URL:https://wandelstadt-esslingen.de/event/energiewende-fuer-die-eigenen-4-waende-inkl-photovoltaik-interaktives-online-seminar/
LOCATION:Volkshochschule\, Mettinger Straße 125\, Esslingen am Neckar\, 73728\, Deutschland
ORGANIZER;CN="Volkshochschule Esslingen":MAILTO:info@vhs-esslingen.de
END:VEVENT
BEGIN:VEVENT
DTSTART;TZID=Europe/Berlin:20231213T180000
DTEND;TZID=Europe/Berlin:20231213T210000
DTSTAMP:20260424T084904
CREATED:20231021T081202Z
LAST-MODIFIED:20231021T081817Z
UID:10002025-1702490400-1702501200@wandelstadt-esslingen.de
SUMMARY:Vegane Küche regional-saisonal - bio
DESCRIPTION:„Was isst man denn eigentlich als Veganer und ist das gesund?“\nJa! Es ist vielfältig\, ausgewogen und lecker.\nWir werden dies gemeinsam in Theorie und Praxis erleben und die Vielfalt entdecken.\nAlles wird selbstverständlich ohne Zusatzstoffe und mit frischen Zutaten aus der Region sein. \nBitte mitbringen:\nSchürze\, Geschirrtuch\, Getränk und einen Behälter für Reste\, wenn ihr was mitnehmen möchtet.
URL:https://wandelstadt-esslingen.de/event/2263/
LOCATION:Esslingen\, BAZ\, Urbanstr. 28\, 1. OG\, Raum 113\, Küche\, Urbanstr. 28\, 1. OG\, Raum 113\, Küche\, Esslingen\, Deutschland
ORGANIZER;CN="Frag die Bine":MAILTO:bine@gutes-leben-akademie.de
END:VEVENT
BEGIN:VEVENT
DTSTART;TZID=Europe/Berlin:20231215T163000
DTEND;TZID=Europe/Berlin:20231215T180000
DTSTAMP:20260424T084904
CREATED:20231127T124727Z
LAST-MODIFIED:20231127T124727Z
UID:10002187-1702657800-1702663200@wandelstadt-esslingen.de
SUMMARY:Mahnwache zum achten Jahrestag des Pariser Klimaabkommens
DESCRIPTION:
URL:https://wandelstadt-esslingen.de/event/mahnwache-zum-achten-jahrestag-des-pariser-klimaabkommens/
LOCATION:Bahnhofsvorplatz\, Esslingen
ORGANIZER;CN="Parents for Future":MAILTO:esslingen@parentsforfuture.de
END:VEVENT
BEGIN:VEVENT
DTSTART;TZID=Europe/Berlin:20231215T180000
DTEND;TZID=Europe/Berlin:20231215T180000
DTSTAMP:20260424T084904
CREATED:20221010T204011Z
LAST-MODIFIED:20221010T204011Z
UID:10000342-1702663200-1702663200@wandelstadt-esslingen.de
SUMMARY:Critical Mass
DESCRIPTION:Critical Mass ist eine weltweite Fahrrad­bewegung\, um eine Alternative zum motorisi­erten Individual­verkehr aufzu­zeigen. Grundlage bildet Paragraph 27 der Straßenverkehrs-Ordnung. \nBei der Critical Mass Esslingen treffen sich jeden 3. Freitag im Monat Radfahrerinnen und Radfahrer zur gemeinsamen Fahrrad­ausfahrt durch Esslingen. Treffpunkt ist um 18:00 Uhr auf dem Bahnhofsvorplatz. Im Anschluss findet oft noch ein Erfahrungsaustausch beim „Radlerstammtisch“ statt.
URL:https://wandelstadt-esslingen.de/event/critical-mass-2/2023-12-15/
LOCATION:Bahnhofsvorplatz\, Esslingen
ORGANIZER;CN="Critical Mass":MAILTO:schugra@posteo.de
END:VEVENT
BEGIN:VEVENT
DTSTART;TZID=Europe/Berlin:20231217T110000
DTEND;TZID=Europe/Berlin:20231217T110000
DTSTAMP:20260424T084904
CREATED:20231024T145423Z
LAST-MODIFIED:20260218T101216Z
UID:10002039-1702810800-1702810800@wandelstadt-esslingen.de
SUMMARY:Internationales Frühstück
DESCRIPTION:Das Internationale Frühstück ist mittlerweile in Esslingen zur Institution geworden. Der Verein ADG e.V. (Interkulturelles Forum Esslingen) organisiert und gestaltet jeden 3. Sonntag im Monat Begegnungen zwischen Menschen unterschiedlicher Herkunft und Kultur. In den Räumen des Kulturzentrums Dieselstrasse treffen sich monatlich bis zu hundert bzw. jährlich über tausend Menschen in gemütlicher Atmosphäre zum Austausch. Für das Wohlergehen der Gäste sorgen engagierte Ehrenamtliche\, denen diese Begegnungen schon seit vielen Jahren am Herzen liegen. Mittlerweile organisieren diese  hier nicht nur „Brot\, Brötchen\, Butter\, Marmelade\, Kaffee und Tee“ \, sondern stellen ein vielseitiges internationales Frühstück auf die Beine. Um die Quantität des Frühstücks bezuibehalten\, sowie\, um die stetig steigende Zahl der Gäste weiterhin bewältigen zu können\, bedarf es jedoch zusätzlicher Unterstützung. Ehrenamtlich engagierte Helfer/innen sind daher nicht nur herzlich willkommen. \nJeden 3. Sonntag im Monat um 11 Uhr im Kulturzentrum Dieselstrasse! \nPreise: \n\nErwachsene: 10.-€\nKinder/Ermäßigt: 5.-€\nFamilie mit  einem Kind: 22.-€\nFamilie mit zwei Kinder: 25.-€\nAufpreis für Veranstaltungen im Rahmen des Frühstücks: 5.-€
URL:https://wandelstadt-esslingen.de/event/internationales-fruehstueck/2023-12-17/
LOCATION:Kulturzentrum Dieselstraße\, Dieselstraße 26\, Esslingen\, Deutschland
END:VEVENT
END:VCALENDAR