BEGIN:VCALENDAR
VERSION:2.0
PRODID:-//Wandelstadt Esslingen - ECPv6.15.20//NONSGML v1.0//EN
CALSCALE:GREGORIAN
METHOD:PUBLISH
X-ORIGINAL-URL:https://wandelstadt-esslingen.de
X-WR-CALDESC:Veranstaltungen für Wandelstadt Esslingen
REFRESH-INTERVAL;VALUE=DURATION:PT1H
X-Robots-Tag:noindex
X-PUBLISHED-TTL:PT1H
BEGIN:VTIMEZONE
TZID:Europe/Berlin
BEGIN:DAYLIGHT
TZOFFSETFROM:+0100
TZOFFSETTO:+0200
TZNAME:CEST
DTSTART:20220327T010000
END:DAYLIGHT
BEGIN:STANDARD
TZOFFSETFROM:+0200
TZOFFSETTO:+0100
TZNAME:CET
DTSTART:20221030T010000
END:STANDARD
BEGIN:DAYLIGHT
TZOFFSETFROM:+0100
TZOFFSETTO:+0200
TZNAME:CEST
DTSTART:20230326T010000
END:DAYLIGHT
BEGIN:STANDARD
TZOFFSETFROM:+0200
TZOFFSETTO:+0100
TZNAME:CET
DTSTART:20231029T010000
END:STANDARD
BEGIN:DAYLIGHT
TZOFFSETFROM:+0100
TZOFFSETTO:+0200
TZNAME:CEST
DTSTART:20240331T010000
END:DAYLIGHT
BEGIN:STANDARD
TZOFFSETFROM:+0200
TZOFFSETTO:+0100
TZNAME:CET
DTSTART:20241027T010000
END:STANDARD
END:VTIMEZONE
BEGIN:VEVENT
DTSTART;TZID=Europe/Berlin:20230807T183000
DTEND;TZID=Europe/Berlin:20230807T210000
DTSTAMP:20260424T135345
CREATED:20221111T191526Z
LAST-MODIFIED:20230905T070217Z
UID:10000427-1691433000-1691442000@wandelstadt-esslingen.de
SUMMARY:Teamtreffen Wandelstadt Esslingen
DESCRIPTION:Herzlich willkommen in unserem wunderbaren Team \nWir treffen uns jeden ersten Montag im Monat um 18:30 Uhr mit unserem Team und freuen uns immer über neue Mitgestalter:innen\, die Lust haben sich mit ihren Talenten einzubringen. \nDenn wir wünschen uns das kreative Denken\, das beste Wissen und das beherzte Handeln aller Esslinger:innen! \nKontakt \nAngelina Haug \ninfo@Wandelstadt-Esslingen.de
URL:https://wandelstadt-esslingen.de/event/teamtreffen-wandelstadt-esslingen-2/2023-08-07/
ORGANIZER;CN="Wandelstadt Esslingen":MAILTO:info@wandelstadt-esslingen.de
END:VEVENT
BEGIN:VEVENT
DTSTART;TZID=Europe/Berlin:20230814T190000
DTEND;TZID=Europe/Berlin:20230814T210000
DTSTAMP:20260424T135345
CREATED:20230403T205650Z
LAST-MODIFIED:20230606T093344Z
UID:10000916-1692039600-1692046800@wandelstadt-esslingen.de
SUMMARY:Treffen des Bündnis für Klimagerechtigkeit
DESCRIPTION:Herzliche Einladung mit uns aktiv zu sein \nJa\, wir wollen noch mehr bewegen in Esslingen und laden Sie herzlich ein\, sich gemeinsam mit uns für den nötigen ökologischen\, ökonomischen\, sozialen und kulturellen Wandel zu engagieren. Wir freuen uns sowohl auf neue Gruppen wie auch auf Einzelpersonen\, die sich gerne einbringen möchten! \nHier vor Ort können wir in Esslingen die Veränderung leben\, die wir uns für unsere Welt wünschen. Wir treffen uns als gesamtes Bündnis in der Regel jeden zweiten Montagabend im Monat um 19 Uhr online\, um zu planen\, zu organisieren\, zu berichten und unsere Erfolge zu teilen. Herzliche Einladung an neue Mitmacher:innen uns ganz unverbindlich kennenzulernen! \n  \nIhr Kontakt zu uns: \nThomas Albrecht \ninfo@klimagerechtigkeit-esslingen.de \nwww.klimagerechtigkeit-esslingen.de
URL:https://wandelstadt-esslingen.de/event/treffen-des-buendnis-fuer-klimagerechtigkeit-2-2-2/2023-08-14/
ATTACH;FMTTYPE=image/jpeg:https://wandelstadt-esslingen.de/wp-content/uploads/2022/07/klimagerechtig-esslingen.jpg
ORGANIZER;CN="B%C3%BCndnis f%C3%BCr Klimagerechtigkeit Esslingen":MAILTO:info@klimagerechtigkeit-esslingen.de
END:VEVENT
BEGIN:VEVENT
DTSTART;TZID=Europe/Berlin:20230818T180000
DTEND;TZID=Europe/Berlin:20230818T180000
DTSTAMP:20260424T135345
CREATED:20221010T204011Z
LAST-MODIFIED:20221010T204011Z
UID:10000338-1692381600-1692381600@wandelstadt-esslingen.de
SUMMARY:Critical Mass
DESCRIPTION:Critical Mass ist eine weltweite Fahrrad­bewegung\, um eine Alternative zum motorisi­erten Individual­verkehr aufzu­zeigen. Grundlage bildet Paragraph 27 der Straßenverkehrs-Ordnung. \nBei der Critical Mass Esslingen treffen sich jeden 3. Freitag im Monat Radfahrerinnen und Radfahrer zur gemeinsamen Fahrrad­ausfahrt durch Esslingen. Treffpunkt ist um 18:00 Uhr auf dem Bahnhofsvorplatz. Im Anschluss findet oft noch ein Erfahrungsaustausch beim „Radlerstammtisch“ statt.
URL:https://wandelstadt-esslingen.de/event/critical-mass-2/2023-08-18/
LOCATION:Bahnhofsvorplatz\, Esslingen
ORGANIZER;CN="Critical Mass":MAILTO:schugra@posteo.de
END:VEVENT
BEGIN:VEVENT
DTSTART;TZID=Europe/Berlin:20230829T180000
DTEND;TZID=Europe/Berlin:20230829T203000
DTSTAMP:20260424T135345
CREATED:20230724T193559Z
LAST-MODIFIED:20240720T171212Z
UID:10001726-1693332000-1693341000@wandelstadt-esslingen.de
SUMMARY:Gartenkul"tour" der Nutzpflanzenbibliothek – Transition Town Esslingen
DESCRIPTION:Das Orga-Team der Esslinger Nutzpflanzenbibliothek gewährt Interessierten und Nutzern der Bibliothek Einblick in ihre privaten Vielfaltsoasen. Es gibt eine kleine Gartenführung\, es wird viel gefachsimpelt und am Ende wird Saatgut getauscht. Neugierige willkommen! Wir bitten um Anmeldung\, da nur begrenzte Plätze. Veranstalter: Transition Town Esslingen
URL:https://wandelstadt-esslingen.de/event/gartenkultur-der-nutzpflanzenbibliothek-transition-town-esslingen/2023-08-29/
ORGANIZER;CN="Transition Town Esslingen - Stadt im Wandel":MAILTO:kontakt@transition-town-es.de
END:VEVENT
END:VCALENDAR