BEGIN:VCALENDAR
VERSION:2.0
PRODID:-//Wandelstadt Esslingen - ECPv6.15.20//NONSGML v1.0//EN
CALSCALE:GREGORIAN
METHOD:PUBLISH
X-ORIGINAL-URL:https://wandelstadt-esslingen.de
X-WR-CALDESC:Veranstaltungen für Wandelstadt Esslingen
REFRESH-INTERVAL;VALUE=DURATION:PT1H
X-Robots-Tag:noindex
X-PUBLISHED-TTL:PT1H
BEGIN:VTIMEZONE
TZID:Europe/Berlin
BEGIN:DAYLIGHT
TZOFFSETFROM:+0100
TZOFFSETTO:+0200
TZNAME:CEST
DTSTART:20250330T010000
END:DAYLIGHT
BEGIN:STANDARD
TZOFFSETFROM:+0200
TZOFFSETTO:+0100
TZNAME:CET
DTSTART:20251026T010000
END:STANDARD
BEGIN:DAYLIGHT
TZOFFSETFROM:+0100
TZOFFSETTO:+0200
TZNAME:CEST
DTSTART:20260329T010000
END:DAYLIGHT
BEGIN:STANDARD
TZOFFSETFROM:+0200
TZOFFSETTO:+0100
TZNAME:CET
DTSTART:20261025T010000
END:STANDARD
BEGIN:DAYLIGHT
TZOFFSETFROM:+0100
TZOFFSETTO:+0200
TZNAME:CEST
DTSTART:20270328T010000
END:DAYLIGHT
BEGIN:STANDARD
TZOFFSETFROM:+0200
TZOFFSETTO:+0100
TZNAME:CET
DTSTART:20271031T010000
END:STANDARD
END:VTIMEZONE
BEGIN:VEVENT
DTSTART;TZID=Europe/Berlin:20260819T140000
DTEND;TZID=Europe/Berlin:20260819T170000
DTSTAMP:20260422T051232
CREATED:20260218T110324Z
LAST-MODIFIED:20260218T110324Z
UID:10009043-1787148000-1787158800@wandelstadt-esslingen.de
SUMMARY:Inklusiver Spieletreff
DESCRIPTION:Herzlich willkommen! \nDer Inklusive Spieletreff bietet eine gemütliche Atmosphäre mit Kaffee und Kuchen\, Zeit zum Plaudern und viel Raum\, um neben dem Spielen nette Menschen zu treffen und neue Freundschaften aufzubauen. \n\n\n\n\nAlle sind herzlich willkommen! \nGespielt werden Kartenspiele wie Canasta\, Rommé\, Mau Mau\, UNO\, Elfer raus sowie Brettspiele wie Halma\, Domino\, Mühle\, Mensch ärgere dich nicht! und auch Denksportspiele wie Schach\, Skat\, Kniffel und vieles mehr \nUnser Motto: Ein paar Stunden gemeinsam genießen und den Alltag vergessen! \nSie sind alleine und finden keinen Spielpartner? – Beim Inklusiven Spieletreff finden Sie Gleichgesinnte!\nBrauchen Sie Abstand vom Alltag? -Bei uns gelingt das!\nMöchten Sie gerne ungezwungen unter Menschen sein? – Hier ist es möglich! \nKommen Sie doch einfach mal vorbei! \nWir treffen uns immer am ersten und dritten Mittwoch im Monat von 14-17 Uhr \n\n\n\n\nKontakt\n\n\n\nAnneliese Ergenzinger\nE-Mail spieletreff@forum-esslingen.de
URL:https://wandelstadt-esslingen.de/event/inklusiver-spieletreff-2/2026-08-19/
LOCATION:Forum Esslingen – Zentrum für Bürgerengagement\, Schelztorstraße 38\, Esslingen\, Deutschland
CATEGORIES:Gemütliches Treffen,Vernetzungsveranstaltung
ORGANIZER;CN="Inklusiver Spieletreff":MAILTO:spieletreff@forum-esslingen.de
END:VEVENT
BEGIN:VEVENT
DTSTART;TZID=Europe/Berlin:20260819T180000
DTEND;TZID=Europe/Berlin:20260819T191500
DTSTAMP:20260422T051232
CREATED:20251207T102043Z
LAST-MODIFIED:20251207T102043Z
UID:10007885-1787162400-1787166900@wandelstadt-esslingen.de
SUMMARY:Ashtanga Yoga im Bürgerforum Esslingen
DESCRIPTION:Wir treffen uns wöchentlich zu einem „Flow am Abend“. Es werden unterschiedliche Asanas (Haltungen) und unterschiedliche anatomische Schwerpunkte gesetzt. Dabei orinetiere ich mich an der ersten Serie des Ashtanga-Yogas. \nBürgerforum\nSchelztorstraße 38 blau\,\n73728 Esslingen\n‍\nmittwochs 18-19:15 Uhr\nkostenlos \nan folgenden Tagen entfällt der Kurs:\n24.12.2025\, 31.12.2025
URL:https://wandelstadt-esslingen.de/event/ashtanga-yoga-im-buergerforum-esslingen/2026-08-19/
LOCATION:Forum Esslingen\, Schelztorstraße 38\, Esslingen\, 73728
CATEGORIES:Achtsamkeit,Sport und Gesundheit,Yoga
ORGANIZER;CN="Ashtanga Yoga Gruppe":MAILTO:fothalexander.yoga@outlook.de
END:VEVENT
BEGIN:VEVENT
DTSTART;TZID=Europe/Berlin:20260819T180000
DTEND;TZID=Europe/Berlin:20260819T200000
DTSTAMP:20260422T051232
CREATED:20251127T202915Z
LAST-MODIFIED:20251127T202915Z
UID:10007595-1787162400-1787169600@wandelstadt-esslingen.de
SUMMARY:Textil- und druckwerkstatt
DESCRIPTION:Deine Band braucht Merch? Oder du hast Lust\, personalisierte Designs auf Klamotten zu sticken oder zu drucken? Hast du generell Interesse an Textildesign und Mode? Wir stellen Material\, vorgefertigte Motive\, eine Näh-\, eine Stickmaschine und einen Schneideplotter zu Verfügung\, damit du an\, auf und mit Textilien in kleinen Format experimentieren kannst. Bring dein Material zum Bedrucken mit. Im Hinblick auf nachhaltigen Konsum\, kannst du gerne alte oder unbenutzte Textilien mitbringen! \nWir haben die grundlegende Ausstattung für Photoshootings: Leinwand (Weiss\, Schwarz und Grün)\, 3 Dauerlichter\, Kamera und Zubehör. \nKostenlos und ohne Anmeldung – jeden Mittwoch ab 18 Uhr und auf Anfrage\nTagesaktuelle Infos auf Instagram @kommaesslingen\nKontakt: werkstatt@komma.info
URL:https://wandelstadt-esslingen.de/event/textil-und-druckwerkstatt/2026-08-19/
LOCATION:KOMMA Esslingen\, Maille 5-9\, Esslingen\, 73728\, Deutschland
CATEGORIES:Live-Veranstaltung,Vernetzungsveranstaltung,Workshop
END:VEVENT
BEGIN:VEVENT
DTSTART;TZID=Europe/Berlin:20260819T190000
DTEND;TZID=Europe/Berlin:20260819T210000
DTSTAMP:20260422T051232
CREATED:20260102T172425Z
LAST-MODIFIED:20260102T172425Z
UID:10008219-1787166000-1787173200@wandelstadt-esslingen.de
SUMMARY:Treffen des Bündnis Esslingen aufs Rad
DESCRIPTION:Jeden Monat treffen sich Radfahrende aus Esslingen und Umgebung\, um sich über die Radinfrastruktur auszutauschen\, Aktionen zu besprechen oder auch Frust und Lust beim Radfahren zu teilen.\nDazu sind alle herzlich eingeladen.\nDas Bündnis Esslingen aufs Rad ist die gemeinsame Aktionsplattform von ADFC und VCD in Esslingen.
URL:https://wandelstadt-esslingen.de/event/treffen-des-buendnis-esslingen-aufs-rad-3/2026-08-19/
LOCATION:Forum Esslingen – Zentrum für Bürgerengagement\, Schelztorstraße 38\, Esslingen\, Deutschland
CATEGORIES:Beteiligung,Gemütliches Treffen,Infoveranstaltung,Vernetzungsveranstaltung
END:VEVENT
END:VCALENDAR