BEGIN:VCALENDAR
VERSION:2.0
PRODID:-//Wandelstadt Esslingen - ECPv6.15.20//NONSGML v1.0//EN
CALSCALE:GREGORIAN
METHOD:PUBLISH
X-WR-CALNAME:Wandelstadt Esslingen
X-ORIGINAL-URL:https://wandelstadt-esslingen.de
X-WR-CALDESC:Veranstaltungen für Wandelstadt Esslingen
REFRESH-INTERVAL;VALUE=DURATION:PT1H
X-Robots-Tag:noindex
X-PUBLISHED-TTL:PT1H
BEGIN:VTIMEZONE
TZID:Europe/Berlin
BEGIN:DAYLIGHT
TZOFFSETFROM:+0100
TZOFFSETTO:+0200
TZNAME:CEST
DTSTART:20250330T010000
END:DAYLIGHT
BEGIN:STANDARD
TZOFFSETFROM:+0200
TZOFFSETTO:+0100
TZNAME:CET
DTSTART:20251026T010000
END:STANDARD
BEGIN:DAYLIGHT
TZOFFSETFROM:+0100
TZOFFSETTO:+0200
TZNAME:CEST
DTSTART:20260329T010000
END:DAYLIGHT
BEGIN:STANDARD
TZOFFSETFROM:+0200
TZOFFSETTO:+0100
TZNAME:CET
DTSTART:20261025T010000
END:STANDARD
BEGIN:DAYLIGHT
TZOFFSETFROM:+0100
TZOFFSETTO:+0200
TZNAME:CEST
DTSTART:20270328T010000
END:DAYLIGHT
BEGIN:STANDARD
TZOFFSETFROM:+0200
TZOFFSETTO:+0100
TZNAME:CET
DTSTART:20271031T010000
END:STANDARD
END:VTIMEZONE
BEGIN:VEVENT
DTSTART;TZID=Europe/Berlin:20260519T180000
DTEND;TZID=Europe/Berlin:20260519T203000
DTSTAMP:20260421T230333
CREATED:20230228T100213Z
LAST-MODIFIED:20260418T103344Z
UID:10009365-1779213600-1779222600@wandelstadt-esslingen.de
SUMMARY:Nutzpflanzenbibliothek – Transition Town Esslingen
DESCRIPTION:Das Orga-Team der Esslinger Nutzpflanzenbibliothek trifft sich\, um die nächste Öffnung vorzubereiten und Tomatensaatgut zu packen. Unterstützer willkommen! Einfach übers Kontaktformular unter www.transition-town-es.de melden. Veranstalter: Transition Town Esslingen
URL:https://wandelstadt-esslingen.de/event/ag-nutzpflanzenbibliothek-3/2026-05-19/
ORGANIZER;CN="Transition Town Esslingen - Stadt im Wandel":MAILTO:kontakt@transition-town-es.de
END:VEVENT
BEGIN:VEVENT
DTSTART;TZID=Europe/Berlin:20260519T190000
DTEND;TZID=Europe/Berlin:20260519T210000
DTSTAMP:20260421T230333
CREATED:20250917T125839Z
LAST-MODIFIED:20250917T125839Z
UID:10006544-1779217200-1779224400@wandelstadt-esslingen.de
SUMMARY:Energieabend
DESCRIPTION:Treffen der Regionalgruppe Esslingen der Teckwerke Bürgerenergie zum planen und organisieren der öffentlichen Energieabende in Esslingen.
URL:https://wandelstadt-esslingen.de/event/energieabend-4/
END:VEVENT
BEGIN:VEVENT
DTSTART;TZID=Europe/Berlin:20260519T191500
DTEND;TZID=Europe/Berlin:20260519T201500
DTSTAMP:20260421T230333
CREATED:20240520T091234Z
LAST-MODIFIED:20260106T174409Z
UID:10008260-1779218100-1779221700@wandelstadt-esslingen.de
SUMMARY:Inklusive Lachyoga-Gruppe
DESCRIPTION:Lachen ist nicht nur gesund\, sondern auch ansteckend. Und genau darum geht es bei Lachyoga. Gemeinsam lachen und sich gut fühlen\, Stress abbauen und entspannen. Zudem stärkt Lachen die Gesundheit. \n\n\n\n\n\nWann:\nDienstags von 19:15 – 20:15 Uhr\nEinstieg jederzeit möglich!\nKeine Anmeldung erforderlich.\n\n\n\nFür wen:\nFür (fast) jeden geeignet\, da Lachyoga keine schwierigen körperlichen Übungen beinhaltet.\n(siehe Details zur Barrierefreiheit)\n\n\nKursleitung:\nSusanne Klaus (Lachyoga Master Trainerin\, Stuttgarter Lachschule)\n\n\nKosten:\nkeine (freiwillige Spendenbasis)\n\n\nMitzubringen:\netwas zum Trinken
URL:https://wandelstadt-esslingen.de/event/inklusive-lachyoga-gruppe/2026-05-19/
LOCATION:Forum Esslingen – Zentrum für Bürgerengagement\, Schelztorstraße 38\, Esslingen\, Deutschland
ATTACH;FMTTYPE=image/jpeg:https://wandelstadt-esslingen.de/wp-content/uploads/2024/05/Lachyoga-Gruppe_Forum-Esslingen_16-9-scaled.jpg
ORGANIZER;CN="InklusivES - Der Esslinger Stammtisch zum Thema Inklusion":MAILTO:c.lira@inklusives.de
END:VEVENT
BEGIN:VEVENT
DTSTART;TZID=Europe/Berlin:20260519T193000
DTEND;TZID=Europe/Berlin:20260519T210000
DTSTAMP:20260421T230333
CREATED:20260122T145532Z
LAST-MODIFIED:20260123T074935Z
UID:10008727-1779219000-1779224400@wandelstadt-esslingen.de
SUMMARY:Bildung\, Medien und Demokratie im Zeitalter der Künstlichen Intelligenz
DESCRIPTION:
URL:https://wandelstadt-esslingen.de/event/bildung-medien-und-demokratie-im-zeitalter-der-kuenstlichen-intelligenz/
LOCATION:Altes Rathaus\, Esslingen am Neckar\, 73728
ORGANIZER;CN="Volkshochschule Esslingen":MAILTO:info@vhs-esslingen.de
END:VEVENT
BEGIN:VEVENT
DTSTART;TZID=Europe/Berlin:20260519T193000
DTEND;TZID=Europe/Berlin:20260519T220000
DTSTAMP:20260421T230333
CREATED:20260218T105425Z
LAST-MODIFIED:20260218T105425Z
UID:10008916-1779219000-1779228000@wandelstadt-esslingen.de
SUMMARY:Der Brettheim-Prozess
DESCRIPTION:Brettheim im Hohenloher Land\, Frühjahr 1945: Seit Tagen sind die Artilleriegeschütze der Alliierten in der Ferne zu hören. Die deutschen Soldaten haben sich längst zurückgezogen. Doch die SS verlangt von den Dorfbewohnern\, Panzersperren zu errichten und das Reich bis zum letzten Mann zu verteidigen. Vier bewaffnete Hitlerjungen schickt man nach Brettheim. Dort werden sie von ein paar Einwohnern\, die den sinnlosen Widerstand stoppen wollen\, entwaffnet. Die Brettheimer werden verhört und ihnen droht ein Standgericht wegen Wehrkraftzersetzung. So werden am Ende drei Männer zum Tode verurteilt und am 10. April 1945\, wenige Tage bevor die Amerikaner das Dorf einnehmen\, erhängt. Der Vorfall wurde nach dem Krieg zwischen 1948 und 1960 in mehreren Prozessen aufgearbeitet\, in denen sich der lange Arm der nationalsozialistischen Gesinnung noch immer zeigte. \n80 Jahre nach Ende des Zweiten Weltkriegs drohen die Ereignisse der letzten Kriegstage in Vergessenheit zu geraten. Grund genug\, das im April 1995 an der WLB uraufgeführte Stück „Die Männer von Brettheim“ noch einmal in einer Neufassung des Autors auf die Bühne zu bringen.
URL:https://wandelstadt-esslingen.de/event/der-brettheim-prozess/2026-05-19/
LOCATION:Württembergische Landesbühne – Schauspielhaus mit Podium 1 & 2\, Ritterstraße 11\, Esslingen\, Deutschland
CATEGORIES:Kulturveranstaltung,Live-Veranstaltung
END:VEVENT
END:VCALENDAR